BEGIN:VCALENDAR
VERSION:2.0
PRODID:-//Circuit Party Info - ECPv6.15.20//NONSGML v1.0//EN
CALSCALE:GREGORIAN
METHOD:PUBLISH
X-ORIGINAL-URL:https://circuitpartyinfo.com
X-WR-CALDESC:Events for Circuit Party Info
REFRESH-INTERVAL;VALUE=DURATION:PT1H
X-Robots-Tag:noindex
X-PUBLISHED-TTL:PT1H
BEGIN:VTIMEZONE
TZID:America/Los_Angeles
BEGIN:DAYLIGHT
TZOFFSETFROM:-0800
TZOFFSETTO:-0700
TZNAME:PDT
DTSTART:20240310T100000
END:DAYLIGHT
BEGIN:STANDARD
TZOFFSETFROM:-0700
TZOFFSETTO:-0800
TZNAME:PST
DTSTART:20241103T090000
END:STANDARD
BEGIN:DAYLIGHT
TZOFFSETFROM:-0800
TZOFFSETTO:-0700
TZNAME:PDT
DTSTART:20250309T100000
END:DAYLIGHT
BEGIN:STANDARD
TZOFFSETFROM:-0700
TZOFFSETTO:-0800
TZNAME:PST
DTSTART:20251102T090000
END:STANDARD
BEGIN:DAYLIGHT
TZOFFSETFROM:-0800
TZOFFSETTO:-0700
TZNAME:PDT
DTSTART:20260308T100000
END:DAYLIGHT
BEGIN:STANDARD
TZOFFSETFROM:-0700
TZOFFSETTO:-0800
TZNAME:PST
DTSTART:20261101T090000
END:STANDARD
END:VTIMEZONE
BEGIN:VTIMEZONE
TZID:UTC
BEGIN:STANDARD
TZOFFSETFROM:+0000
TZOFFSETTO:+0000
TZNAME:UTC
DTSTART:20220101T000000
END:STANDARD
END:VTIMEZONE
BEGIN:VEVENT
DTSTART;VALUE=DATE:20250530
DTEND;VALUE=DATE:20250602
DTSTAMP:20260424T181210
CREATED:20240619T193238Z
LAST-MODIFIED:20250402T204749Z
UID:10002246-1748563200-1748822399@circuitpartyinfo.com
SUMMARY:Circuit Festival Asia 2025
DESCRIPTION:
URL:https://circuitpartyinfo.com/event/circuit-festival-asia-2025/
LOCATION:Pattaya\, Thailand\,  \, Pattaya\, Thailand
ATTACH;FMTTYPE=image/png:https://circuitpartyinfo.com/wp-content/uploads/2024/06/Screenshot-2025-04-02-at-4.42.31 PM.png
GEO:12.9235557;100.8824551
X-APPLE-STRUCTURED-LOCATION;VALUE=URI;X-ADDRESS=Pattaya Thailand   Pattaya Thailand;X-APPLE-RADIUS=500;X-TITLE= :geo:100.8824551,12.9235557
END:VEVENT
BEGIN:VEVENT
DTSTART;VALUE=DATE:20240607
DTEND;VALUE=DATE:20240610
DTSTAMP:20260424T181210
CREATED:20230706T070451Z
LAST-MODIFIED:20240426T110623Z
UID:10000821-1717718400-1717977599@circuitpartyinfo.com
SUMMARY:Circuit Festival Asia 2024
DESCRIPTION:
URL:https://circuitpartyinfo.com/event/circuit-festival-asia-2024/
LOCATION:Pattaya\, Thailand\,  \, Pattaya\, Thailand
ATTACH;FMTTYPE=image/png:https://circuitpartyinfo.com/wp-content/uploads/2023/07/Screenshot-2024-04-26-at-7.05.50 AM.png
GEO:12.9235557;100.8824551
X-APPLE-STRUCTURED-LOCATION;VALUE=URI;X-ADDRESS=Pattaya Thailand   Pattaya Thailand;X-APPLE-RADIUS=500;X-TITLE= :geo:100.8824551,12.9235557
END:VEVENT
BEGIN:VEVENT
DTSTART;VALUE=DATE:20230623
DTEND;VALUE=DATE:20230626
DTSTAMP:20260424T181210
CREATED:20221125T010625Z
LAST-MODIFIED:20230429T215209Z
UID:10000018-1687478400-1687737599@circuitpartyinfo.com
SUMMARY:Circuit Festival: Asia
DESCRIPTION:
URL:https://circuitpartyinfo.com/event/circuit-festival-asia/
LOCATION:Pattaya\, Thailand\,  \, Pattaya\, Thailand
GEO:12.9235557;100.8824551
X-APPLE-STRUCTURED-LOCATION;VALUE=URI;X-ADDRESS=Pattaya Thailand   Pattaya Thailand;X-APPLE-RADIUS=500;X-TITLE= :geo:100.8824551,12.9235557
END:VEVENT
END:VCALENDAR