BEGIN:VCALENDAR
VERSION:2.0
PRODID:-//Circuit Party Info - ECPv6.15.20//NONSGML v1.0//EN
CALSCALE:GREGORIAN
METHOD:PUBLISH
X-WR-CALNAME:Circuit Party Info
X-ORIGINAL-URL:https://circuitpartyinfo.com
X-WR-CALDESC:Events for Circuit Party Info
REFRESH-INTERVAL;VALUE=DURATION:PT1H
X-Robots-Tag:noindex
X-PUBLISHED-TTL:PT1H
BEGIN:VTIMEZONE
TZID:UTC
BEGIN:STANDARD
TZOFFSETFROM:+0000
TZOFFSETTO:+0000
TZNAME:UTC
DTSTART:20220101T000000
END:STANDARD
END:VTIMEZONE
BEGIN:VTIMEZONE
TZID:America/New_York
BEGIN:DAYLIGHT
TZOFFSETFROM:-0500
TZOFFSETTO:-0400
TZNAME:EDT
DTSTART:20220313T070000
END:DAYLIGHT
BEGIN:STANDARD
TZOFFSETFROM:-0400
TZOFFSETTO:-0500
TZNAME:EST
DTSTART:20221106T060000
END:STANDARD
BEGIN:DAYLIGHT
TZOFFSETFROM:-0500
TZOFFSETTO:-0400
TZNAME:EDT
DTSTART:20230312T070000
END:DAYLIGHT
BEGIN:STANDARD
TZOFFSETFROM:-0400
TZOFFSETTO:-0500
TZNAME:EST
DTSTART:20231105T060000
END:STANDARD
BEGIN:DAYLIGHT
TZOFFSETFROM:-0500
TZOFFSETTO:-0400
TZNAME:EDT
DTSTART:20240310T070000
END:DAYLIGHT
BEGIN:STANDARD
TZOFFSETFROM:-0400
TZOFFSETTO:-0500
TZNAME:EST
DTSTART:20241103T060000
END:STANDARD
END:VTIMEZONE
BEGIN:VTIMEZONE
TZID:UTC
BEGIN:STANDARD
TZOFFSETFROM:+0000
TZOFFSETTO:+0000
TZNAME:UTC
DTSTART:20210101T000000
END:STANDARD
END:VTIMEZONE
BEGIN:VEVENT
DTSTART;VALUE=DATE:20231007
DTEND;VALUE=DATE:20231008
DTSTAMP:20260422T172508
CREATED:20230903T190113Z
LAST-MODIFIED:20230903T190113Z
UID:10001037-1696636800-1696723199@circuitpartyinfo.com
SUMMARY:Rise - DJ GSP
DESCRIPTION:
URL:https://circuitpartyinfo.com/event/rise-dj-gsp/
LOCATION:Montreal\,  \, Montreal\, Canada
ATTACH;FMTTYPE=image/png:https://circuitpartyinfo.com/wp-content/uploads/2023/09/Screenshot-2023-09-03-at-7.59.40-AM.png
GEO:45.5018869;-73.5673919
X-APPLE-STRUCTURED-LOCATION;VALUE=URI;X-ADDRESS=Montreal   Montreal Canada;X-APPLE-RADIUS=500;X-TITLE= :geo:-73.5673919,45.5018869
END:VEVENT
BEGIN:VEVENT
DTSTART;VALUE=DATE:20230923
DTEND;VALUE=DATE:20230924
DTSTAMP:20260422T172508
CREATED:20230827T090414Z
LAST-MODIFIED:20230827T090414Z
UID:10001023-1695427200-1695513599@circuitpartyinfo.com
SUMMARY:Gostoso - Montreal Edition
DESCRIPTION:
URL:https://circuitpartyinfo.com/event/gostoso-montreal-edition/
LOCATION:Montreal\,  \, Montreal\, Canada
ATTACH;FMTTYPE=image/png:https://circuitpartyinfo.com/wp-content/uploads/2023/08/Screenshot-2023-08-26-at-10.03.40-PM.png
GEO:45.5018869;-73.5673919
X-APPLE-STRUCTURED-LOCATION;VALUE=URI;X-ADDRESS=Montreal   Montreal Canada;X-APPLE-RADIUS=500;X-TITLE= :geo:-73.5673919,45.5018869
END:VEVENT
BEGIN:VEVENT
DTSTART;VALUE=DATE:20230810
DTEND;VALUE=DATE:20230814
DTSTAMP:20260422T172508
CREATED:20230721T060751Z
LAST-MODIFIED:20230721T060751Z
UID:10000897-1691625600-1691971199@circuitpartyinfo.com
SUMMARY:Love Festival
DESCRIPTION:
URL:https://circuitpartyinfo.com/event/love-festival/
LOCATION:Montreal\,  \, Montreal\, Canada
GEO:45.5018869;-73.5673919
X-APPLE-STRUCTURED-LOCATION;VALUE=URI;X-ADDRESS=Montreal   Montreal Canada;X-APPLE-RADIUS=500;X-TITLE= :geo:-73.5673919,45.5018869
END:VEVENT
BEGIN:VEVENT
DTSTART;VALUE=DATE:20230429
DTEND;VALUE=DATE:20230430
DTSTAMP:20260422T172508
CREATED:20230331T002137Z
LAST-MODIFIED:20230331T002137Z
UID:10000558-1682726400-1682812799@circuitpartyinfo.com
SUMMARY:Luxure
DESCRIPTION:
URL:https://circuitpartyinfo.com/event/luxure/
LOCATION:Montreal\,  \, Montreal\, Canada
GEO:45.5018869;-73.5673919
X-APPLE-STRUCTURED-LOCATION;VALUE=URI;X-ADDRESS=Montreal   Montreal Canada;X-APPLE-RADIUS=500;X-TITLE= :geo:-73.5673919,45.5018869
END:VEVENT
BEGIN:VEVENT
DTSTART;VALUE=DATE:20221217
DTEND;VALUE=DATE:20221218
DTSTAMP:20260422T172508
CREATED:20221207T055437Z
LAST-MODIFIED:20221207T055437Z
UID:10000134-1671235200-1671321599@circuitpartyinfo.com
SUMMARY:Frosty
DESCRIPTION:
URL:https://circuitpartyinfo.com/event/frosty/
LOCATION:Montreal\,  \, Montreal\, Canada
GEO:45.5018869;-73.5673919
X-APPLE-STRUCTURED-LOCATION;VALUE=URI;X-ADDRESS=Montreal   Montreal Canada;X-APPLE-RADIUS=500;X-TITLE= :geo:-73.5673919,45.5018869
END:VEVENT
END:VCALENDAR