BEGIN:VCALENDAR
VERSION:2.0
PRODID:-//Circuit Party Info - ECPv6.15.20//NONSGML v1.0//EN
CALSCALE:GREGORIAN
METHOD:PUBLISH
X-ORIGINAL-URL:https://circuitpartyinfo.com
X-WR-CALDESC:Events for Circuit Party Info
REFRESH-INTERVAL;VALUE=DURATION:PT1H
X-Robots-Tag:noindex
X-PUBLISHED-TTL:PT1H
BEGIN:VTIMEZONE
TZID:America/Los_Angeles
BEGIN:DAYLIGHT
TZOFFSETFROM:-0800
TZOFFSETTO:-0700
TZNAME:PDT
DTSTART:20230312T100000
END:DAYLIGHT
BEGIN:STANDARD
TZOFFSETFROM:-0700
TZOFFSETTO:-0800
TZNAME:PST
DTSTART:20231105T090000
END:STANDARD
BEGIN:DAYLIGHT
TZOFFSETFROM:-0800
TZOFFSETTO:-0700
TZNAME:PDT
DTSTART:20240310T100000
END:DAYLIGHT
BEGIN:STANDARD
TZOFFSETFROM:-0700
TZOFFSETTO:-0800
TZNAME:PST
DTSTART:20241103T090000
END:STANDARD
BEGIN:DAYLIGHT
TZOFFSETFROM:-0800
TZOFFSETTO:-0700
TZNAME:PDT
DTSTART:20250309T100000
END:DAYLIGHT
BEGIN:STANDARD
TZOFFSETFROM:-0700
TZOFFSETTO:-0800
TZNAME:PST
DTSTART:20251102T090000
END:STANDARD
BEGIN:DAYLIGHT
TZOFFSETFROM:-0800
TZOFFSETTO:-0700
TZNAME:PDT
DTSTART:20260308T100000
END:DAYLIGHT
BEGIN:STANDARD
TZOFFSETFROM:-0700
TZOFFSETTO:-0800
TZNAME:PST
DTSTART:20261101T090000
END:STANDARD
BEGIN:DAYLIGHT
TZOFFSETFROM:-0800
TZOFFSETTO:-0700
TZNAME:PDT
DTSTART:20270314T100000
END:DAYLIGHT
BEGIN:STANDARD
TZOFFSETFROM:-0700
TZOFFSETTO:-0800
TZNAME:PST
DTSTART:20271107T090000
END:STANDARD
END:VTIMEZONE
BEGIN:VTIMEZONE
TZID:UTC
BEGIN:STANDARD
TZOFFSETFROM:+0000
TZOFFSETTO:+0000
TZNAME:UTC
DTSTART:20220101T000000
END:STANDARD
END:VTIMEZONE
BEGIN:VTIMEZONE
TZID:UTC
BEGIN:STANDARD
TZOFFSETFROM:+0000
TZOFFSETTO:+0000
TZNAME:UTC
DTSTART:20210101T000000
END:STANDARD
END:VTIMEZONE
BEGIN:VEVENT
DTSTART;VALUE=DATE:20260405
DTEND;VALUE=DATE:20260406
DTSTAMP:20260424T123238
CREATED:20260312T215943Z
LAST-MODIFIED:20260312T215943Z
UID:10005581-1775347200-1775433599@circuitpartyinfo.com
SUMMARY:Matinée Gold
DESCRIPTION:
URL:https://circuitpartyinfo.com/event/matinee-gold/
LOCATION:Barcelona\,  \, Barcelona\, Spain
ATTACH;FMTTYPE=image/jpeg:https://circuitpartyinfo.com/wp-content/uploads/2026/03/650922853_18064907453661934_3566234785202194976_n.jpg
END:VEVENT
BEGIN:VEVENT
DTSTART;VALUE=DATE:20260403
DTEND;VALUE=DATE:20260406
DTSTAMP:20260424T123238
CREATED:20250430T232543Z
LAST-MODIFIED:20260317T184348Z
UID:10003686-1775174400-1775433599@circuitpartyinfo.com
SUMMARY:Matinée Easter Weekend 2026
DESCRIPTION:
URL:https://circuitpartyinfo.com/event/matinee-easter-weekend-2026/
LOCATION:Barcelona\,  \, Barcelona\, Spain
ATTACH;FMTTYPE=image/jpeg:https://circuitpartyinfo.com/wp-content/uploads/2025/04/IMG_3827.jpeg
END:VEVENT
BEGIN:VEVENT
DTSTART;VALUE=DATE:20260321
DTEND;VALUE=DATE:20260322
DTSTAMP:20260424T123238
CREATED:20260310T215314Z
LAST-MODIFIED:20260310T215314Z
UID:10005573-1774051200-1774137599@circuitpartyinfo.com
SUMMARY:Circuit Festival Pre-Party
DESCRIPTION:
URL:https://circuitpartyinfo.com/event/circuit-festival-pre-party-4/
LOCATION:Barcelona\,  \, Barcelona\, Spain
ATTACH;FMTTYPE=image/jpeg:https://circuitpartyinfo.com/wp-content/uploads/2026/03/Untitled-1-1.jpg
END:VEVENT
BEGIN:VEVENT
DTSTART;VALUE=DATE:20260308
DTEND;VALUE=DATE:20260309
DTSTAMP:20260424T123238
CREATED:20260226T002346Z
LAST-MODIFIED:20260226T002346Z
UID:10005487-1772928000-1773014399@circuitpartyinfo.com
SUMMARY:Glory
DESCRIPTION:
URL:https://circuitpartyinfo.com/event/glory-5/
LOCATION:Barcelona\,  \, Barcelona\, Spain
ATTACH;FMTTYPE=image/jpeg:https://circuitpartyinfo.com/wp-content/uploads/2026/02/8MAR_Glory_story.jpg
END:VEVENT
BEGIN:VEVENT
DTSTART;VALUE=DATE:20260308
DTEND;VALUE=DATE:20260309
DTSTAMP:20260424T123238
CREATED:20260220T223058Z
LAST-MODIFIED:20260220T223058Z
UID:10005443-1772928000-1773014399@circuitpartyinfo.com
SUMMARY:Glory
DESCRIPTION:
URL:https://circuitpartyinfo.com/event/glory-4/
LOCATION:Barcelona\,  \, Barcelona\, Spain
ATTACH;FMTTYPE=image/jpeg:https://circuitpartyinfo.com/wp-content/uploads/2026/02/639783627_860890093595596_47030477061117167_n.jpg
END:VEVENT
BEGIN:VEVENT
DTSTART;VALUE=DATE:20260221
DTEND;VALUE=DATE:20260222
DTSTAMP:20260424T123238
CREATED:20260206T214428Z
LAST-MODIFIED:20260206T214428Z
UID:10005334-1771632000-1771718399@circuitpartyinfo.com
SUMMARY:Matinee Underground
DESCRIPTION:
URL:https://circuitpartyinfo.com/event/matinee-underground-3/
LOCATION:Barcelona\,  \, Barcelona\, Spain
ATTACH;FMTTYPE=image/jpeg:https://circuitpartyinfo.com/wp-content/uploads/2026/02/Untitled-1-1.jpg
END:VEVENT
BEGIN:VEVENT
DTSTART;VALUE=DATE:20260201
DTEND;VALUE=DATE:20260202
DTSTAMP:20260424T123238
CREATED:20260115T124801Z
LAST-MODIFIED:20260115T124801Z
UID:10005120-1769904000-1769990399@circuitpartyinfo.com
SUMMARY:Glory
DESCRIPTION:
URL:https://circuitpartyinfo.com/event/glory-3/
LOCATION:Barcelona\,  \, Barcelona\, Spain
ATTACH;FMTTYPE=image/jpeg:https://circuitpartyinfo.com/wp-content/uploads/2026/01/616339035_890458870154655_7097327731008045486_n.jpg
END:VEVENT
BEGIN:VEVENT
DTSTART;VALUE=DATE:20251225
DTEND;VALUE=DATE:20251226
DTSTAMP:20260424T123238
CREATED:20251216T124319Z
LAST-MODIFIED:20251216T124319Z
UID:10004909-1766620800-1766707199@circuitpartyinfo.com
SUMMARY:Matrix Royalty
DESCRIPTION:
URL:https://circuitpartyinfo.com/event/matrix-royalty/
LOCATION:Barcelona\,  \, Barcelona\, Spain
ATTACH;FMTTYPE=image/jpeg:https://circuitpartyinfo.com/wp-content/uploads/2025/12/601964071_18544672735025926_510993490321427244_n.jpg
END:VEVENT
BEGIN:VEVENT
DTSTART;VALUE=DATE:20251207
DTEND;VALUE=DATE:20251208
DTSTAMP:20260424T123238
CREATED:20251203T000013Z
LAST-MODIFIED:20251203T000013Z
UID:10004823-1765065600-1765151999@circuitpartyinfo.com
SUMMARY:The Black Hell
DESCRIPTION:
URL:https://circuitpartyinfo.com/event/the-black-hell/
LOCATION:Barcelona\,  \, Barcelona\, Spain
ATTACH;FMTTYPE=image/jpeg:https://circuitpartyinfo.com/wp-content/uploads/2025/12/588840940_18411028597190306_8083191732987440082_n.jpg
END:VEVENT
BEGIN:VEVENT
DTSTART;VALUE=DATE:20251206
DTEND;VALUE=DATE:20251207
DTSTAMP:20260424T123238
CREATED:20251123T191101Z
LAST-MODIFIED:20251123T191137Z
UID:10004747-1764979200-1765065599@circuitpartyinfo.com
SUMMARY:LaLeche! - Ice Cream Shop
DESCRIPTION:
URL:https://circuitpartyinfo.com/event/laleche-ice-cream-shop/
LOCATION:Barcelona\,  \, Barcelona\, Spain
ATTACH;FMTTYPE=image/jpeg:https://circuitpartyinfo.com/wp-content/uploads/2025/11/Untitled-1-5.jpg
END:VEVENT
BEGIN:VEVENT
DTSTART;VALUE=DATE:20251115
DTEND;VALUE=DATE:20251116
DTSTAMP:20260424T123238
CREATED:20251023T223035Z
LAST-MODIFIED:20251023T223035Z
UID:10004583-1763164800-1763251199@circuitpartyinfo.com
SUMMARY:Matinee Underground
DESCRIPTION:
URL:https://circuitpartyinfo.com/event/matinee-underground-2/
LOCATION:Barcelona\,  \, Barcelona\, Spain
ATTACH;FMTTYPE=image/jpeg:https://circuitpartyinfo.com/wp-content/uploads/2025/10/Untitled-1-4.jpg
END:VEVENT
BEGIN:VEVENT
DTSTART;VALUE=DATE:20251004
DTEND;VALUE=DATE:20251005
DTSTAMP:20260424T123238
CREATED:20250910T221145Z
LAST-MODIFIED:20251014T163840Z
UID:10004274-1759536000-1759622399@circuitpartyinfo.com
SUMMARY:Matinée Awards Rentrée
DESCRIPTION:
URL:https://circuitpartyinfo.com/event/matinee-awards-rentree/
LOCATION:Barcelona\,  \, Barcelona\, Spain
ATTACH;FMTTYPE=image/jpeg:https://circuitpartyinfo.com/wp-content/uploads/2025/09/Untitled-3.jpg
END:VEVENT
BEGIN:VEVENT
DTSTART;VALUE=DATE:20250809
DTEND;VALUE=DATE:20250818
DTSTAMP:20260424T123238
CREATED:20240821T215821Z
LAST-MODIFIED:20250728T222451Z
UID:10002508-1754697600-1755475199@circuitpartyinfo.com
SUMMARY:Circuit Festival Barcelona 2025
DESCRIPTION:
URL:https://circuitpartyinfo.com/event/circuit-festival-barcelona-2025/
LOCATION:Barcelona\,  \, Barcelona\, Spain
ATTACH;FMTTYPE=image/jpeg:https://circuitpartyinfo.com/wp-content/uploads/2024/08/IMG_7654.jpeg
END:VEVENT
BEGIN:VEVENT
DTSTART;VALUE=DATE:20250719
DTEND;VALUE=DATE:20250720
DTSTAMP:20260424T123238
CREATED:20250702T210934Z
LAST-MODIFIED:20250702T210934Z
UID:10003899-1752883200-1752969599@circuitpartyinfo.com
SUMMARY:LaLeche! - Pride Edition
DESCRIPTION:
URL:https://circuitpartyinfo.com/event/laleche-pride-edition-2/
LOCATION:Barcelona\,  \, Barcelona\, Spain
ATTACH;FMTTYPE=image/jpeg:https://circuitpartyinfo.com/wp-content/uploads/2025/07/19JUL_LaLechePride_Bcn_web-768x1365-1.jpg
END:VEVENT
BEGIN:VEVENT
DTSTART;VALUE=DATE:20250621
DTEND;VALUE=DATE:20250622
DTSTAMP:20260424T123238
CREATED:20250618T225917Z
LAST-MODIFIED:20250618T225917Z
UID:10003862-1750464000-1750550399@circuitpartyinfo.com
SUMMARY:Candy
DESCRIPTION:
URL:https://circuitpartyinfo.com/event/candy-3/
LOCATION:Barcelona\,  \, Barcelona\, Spain
ATTACH;FMTTYPE=image/jpeg:https://circuitpartyinfo.com/wp-content/uploads/2025/06/21JUN_Candy_Bcn_story-1.jpg
END:VEVENT
BEGIN:VEVENT
DTSTART;VALUE=DATE:20250418
DTEND;VALUE=DATE:20250421
DTSTAMP:20260424T123238
CREATED:20240909T220522Z
LAST-MODIFIED:20240909T220522Z
UID:10002596-1744934400-1745193599@circuitpartyinfo.com
SUMMARY:Matinee Easter Weekend 2025
DESCRIPTION:
URL:https://circuitpartyinfo.com/event/matinee-easter-weekend-2025-2/
LOCATION:Barcelona\,  \, Barcelona\, Spain
ATTACH;FMTTYPE=image/png:https://circuitpartyinfo.com/wp-content/uploads/2024/09/Screenshot-2024-09-09-at-6.04.51 PM.png
END:VEVENT
BEGIN:VEVENT
DTSTART;VALUE=DATE:20250322
DTEND;VALUE=DATE:20250323
DTSTAMP:20260424T123238
CREATED:20250221T232348Z
LAST-MODIFIED:20250221T233050Z
UID:10003381-1742601600-1742687999@circuitpartyinfo.com
SUMMARY:Matinee Awards
DESCRIPTION:
URL:https://circuitpartyinfo.com/event/matinee-awards/
LOCATION:Barcelona\,  \, Barcelona\, Spain
ATTACH;FMTTYPE=image/jpeg:https://circuitpartyinfo.com/wp-content/uploads/2025/02/22MAR_Awards_Bcn_story.jpg
END:VEVENT
BEGIN:VEVENT
DTSTART;VALUE=DATE:20250215
DTEND;VALUE=DATE:20250216
DTSTAMP:20260424T123238
CREATED:20250117T231444Z
LAST-MODIFIED:20250120T214800Z
UID:10003161-1739577600-1739663999@circuitpartyinfo.com
SUMMARY:Circuit Festival Pre-Party
DESCRIPTION:
URL:https://circuitpartyinfo.com/event/circuit-festival-pre-party-2/
LOCATION:Barcelona\,  \, Barcelona\, Spain
ATTACH;FMTTYPE=image/png:https://circuitpartyinfo.com/wp-content/uploads/2025/01/Screenshot-2025-01-20-at-4.47.35 PM.png
END:VEVENT
BEGIN:VEVENT
DTSTART;VALUE=DATE:20241207
DTEND;VALUE=DATE:20241208
DTSTAMP:20260424T123238
CREATED:20241117T144844Z
LAST-MODIFIED:20241117T144844Z
UID:10002881-1733529600-1733615999@circuitpartyinfo.com
SUMMARY:Klubberdome
DESCRIPTION:
URL:https://circuitpartyinfo.com/event/klubberdome-2/
LOCATION:Barcelona\,  \, Barcelona\, Spain
ATTACH;FMTTYPE=image/jpeg:https://circuitpartyinfo.com/wp-content/uploads/2024/11/IMG_1165.jpeg
END:VEVENT
BEGIN:VEVENT
DTSTART;VALUE=DATE:20241116
DTEND;VALUE=DATE:20241117
DTSTAMP:20260424T123238
CREATED:20241016T232815Z
LAST-MODIFIED:20241016T232815Z
UID:10002761-1731715200-1731801599@circuitpartyinfo.com
SUMMARY:La Maison de La Leche!
DESCRIPTION:
URL:https://circuitpartyinfo.com/event/la-maison-de-la-leche/
LOCATION:Barcelona\,  \, Barcelona\, Spain
ATTACH;FMTTYPE=image/jpeg:https://circuitpartyinfo.com/wp-content/uploads/2024/10/16NOV_LaLeche-Maison_Bcn_story.jpg
END:VEVENT
BEGIN:VEVENT
DTSTART;VALUE=DATE:20240810
DTEND;VALUE=DATE:20240819
DTSTAMP:20260424T123238
CREATED:20230821T033740Z
LAST-MODIFIED:20240309T215331Z
UID:10000990-1723248000-1724025599@circuitpartyinfo.com
SUMMARY:Circuit Festival Barcelona 2024
DESCRIPTION:
URL:https://circuitpartyinfo.com/event/circuit-festival-barcelona-2024/
LOCATION:Barcelona\,  \, Barcelona\, Spain
ATTACH;FMTTYPE=image/png:https://circuitpartyinfo.com/wp-content/uploads/2023/08/circuit_festival_barcelona_2024.png
END:VEVENT
BEGIN:VEVENT
DTSTART;VALUE=DATE:20240720
DTEND;VALUE=DATE:20240721
DTSTAMP:20260424T123238
CREATED:20240704T125045Z
LAST-MODIFIED:20240704T125045Z
UID:10002297-1721433600-1721519999@circuitpartyinfo.com
SUMMARY:LaLeche! Pride Edition
DESCRIPTION:
URL:https://circuitpartyinfo.com/event/laleche-pride-edition/
LOCATION:Barcelona\,  \, Barcelona\, Spain
ATTACH;FMTTYPE=image/png:https://circuitpartyinfo.com/wp-content/uploads/2024/07/Screenshot-2024-07-04-at-8.49.54 AM.png
END:VEVENT
BEGIN:VEVENT
DTSTART;VALUE=DATE:20240622
DTEND;VALUE=DATE:20240623
DTSTAMP:20260424T123238
CREATED:20240603T223255Z
LAST-MODIFIED:20240603T223255Z
UID:10002179-1719014400-1719100799@circuitpartyinfo.com
SUMMARY:Super Candy
DESCRIPTION:
URL:https://circuitpartyinfo.com/event/super-candy/
LOCATION:Barcelona\,  \, Barcelona\, Spain
ATTACH;FMTTYPE=image/png:https://circuitpartyinfo.com/wp-content/uploads/2024/06/Screenshot-2024-06-03-at-6.31.59 PM.png
END:VEVENT
BEGIN:VEVENT
DTSTART;VALUE=DATE:20240525
DTEND;VALUE=DATE:20240526
DTSTAMP:20260424T123238
CREATED:20240514T215203Z
LAST-MODIFIED:20240516T225545Z
UID:10002096-1716595200-1716681599@circuitpartyinfo.com
SUMMARY:Matinee Champions Team
DESCRIPTION:
URL:https://circuitpartyinfo.com/event/matinee-champions-team/
LOCATION:Barcelona\,  \, Barcelona\, Spain
ATTACH;FMTTYPE=image/png:https://circuitpartyinfo.com/wp-content/uploads/2024/05/Screenshot-2024-05-16-at-6.54.56 PM.png
END:VEVENT
BEGIN:VEVENT
DTSTART;VALUE=DATE:20240420
DTEND;VALUE=DATE:20240421
DTSTAMP:20260424T123238
CREATED:20240413T005644Z
LAST-MODIFIED:20240413T005644Z
UID:10001951-1713571200-1713657599@circuitpartyinfo.com
SUMMARY:Circuit Festival Pre-Party
DESCRIPTION:
URL:https://circuitpartyinfo.com/event/circuit-festival-pre-party/
LOCATION:Barcelona\,  \, Barcelona\, Spain
ATTACH;FMTTYPE=image/jpeg:https://circuitpartyinfo.com/wp-content/uploads/2024/04/IMG_2783.jpeg
END:VEVENT
BEGIN:VEVENT
DTSTART;VALUE=DATE:20240329
DTEND;VALUE=DATE:20240401
DTSTAMP:20260424T123238
CREATED:20231026T184356Z
LAST-MODIFIED:20240309T215054Z
UID:10001231-1711670400-1711929599@circuitpartyinfo.com
SUMMARY:Matinee Easter Weekend 2024
DESCRIPTION:
URL:https://circuitpartyinfo.com/event/matinee-easter-weekend-2024/
LOCATION:Barcelona\,  \, Barcelona\, Spain
ATTACH;FMTTYPE=image/png:https://circuitpartyinfo.com/wp-content/uploads/2023/10/Screenshot-2024-01-28-at-10.54.43 AM.png
END:VEVENT
BEGIN:VEVENT
DTSTART;VALUE=DATE:20240217
DTEND;VALUE=DATE:20240218
DTSTAMP:20260424T123238
CREATED:20240213T075226Z
LAST-MODIFIED:20240213T075226Z
UID:10001681-1708128000-1708214399@circuitpartyinfo.com
SUMMARY:Matinee Underground
DESCRIPTION:
URL:https://circuitpartyinfo.com/event/matinee-underground/
LOCATION:Barcelona\,  \, Barcelona\, Spain
ATTACH;FMTTYPE=image/jpeg:https://circuitpartyinfo.com/wp-content/uploads/2024/02/17FEB_Underground_story-1-400x711-1.jpg
END:VEVENT
BEGIN:VEVENT
DTSTART;VALUE=DATE:20240120
DTEND;VALUE=DATE:20240121
DTSTAMP:20260424T123238
CREATED:20240110T061953Z
LAST-MODIFIED:20240110T061953Z
UID:10001536-1705708800-1705795199@circuitpartyinfo.com
SUMMARY:Matinee Pervert
DESCRIPTION:
URL:https://circuitpartyinfo.com/event/matinee-pervert-2/
LOCATION:Barcelona\,  \, Barcelona\, Spain
ATTACH;FMTTYPE=image/png:https://circuitpartyinfo.com/wp-content/uploads/2024/01/Screenshot-2024-01-09-at-5.17.32 PM.png
END:VEVENT
BEGIN:VEVENT
DTSTART;VALUE=DATE:20231225
DTEND;VALUE=DATE:20231226
DTSTAMP:20260424T123238
CREATED:20231204T203613Z
LAST-MODIFIED:20231204T203613Z
UID:10001410-1703462400-1703548799@circuitpartyinfo.com
SUMMARY:Secret Garden - Matrix
DESCRIPTION:
URL:https://circuitpartyinfo.com/event/secret-garden-matrix/
LOCATION:Barcelona\,  \, Barcelona\, Spain
ATTACH;FMTTYPE=image/png:https://circuitpartyinfo.com/wp-content/uploads/2023/12/Screenshot-2023-12-04-at-7.35.16 AM.png
END:VEVENT
BEGIN:VEVENT
DTSTART;VALUE=DATE:20231209
DTEND;VALUE=DATE:20231210
DTSTAMP:20260424T123238
CREATED:20231121T203147Z
LAST-MODIFIED:20231121T203147Z
UID:10001348-1702080000-1702166399@circuitpartyinfo.com
SUMMARY:Klubberdome
DESCRIPTION:
URL:https://circuitpartyinfo.com/event/klubberdome/
LOCATION:Barcelona\,  \, Barcelona\, Spain
ATTACH;FMTTYPE=image/png:https://circuitpartyinfo.com/wp-content/uploads/2023/11/Screenshot-2023-11-21-at-7.30.52 AM.png
END:VEVENT
BEGIN:VEVENT
DTSTART;VALUE=DATE:20231205
DTEND;VALUE=DATE:20231206
DTSTAMP:20260424T123238
CREATED:20230927T050150Z
LAST-MODIFIED:20230927T050150Z
UID:10001131-1701734400-1701820799@circuitpartyinfo.com
SUMMARY:Matinee Gold Festival
DESCRIPTION:
URL:https://circuitpartyinfo.com/event/matinee-gold-festival-2/
LOCATION:Barcelona\,  \, Barcelona\, Spain
ATTACH;FMTTYPE=image/png:https://circuitpartyinfo.com/wp-content/uploads/2023/09/Screenshot-2023-09-26-at-6.00.17-PM.png
END:VEVENT
BEGIN:VEVENT
DTSTART;VALUE=DATE:20231021
DTEND;VALUE=DATE:20231022
DTSTAMP:20260424T123238
CREATED:20230921T052505Z
LAST-MODIFIED:20230921T052505Z
UID:10001121-1697846400-1697932799@circuitpartyinfo.com
SUMMARY:Matinee Awards - 2023 Edition
DESCRIPTION:
URL:https://circuitpartyinfo.com/event/matinee-awards-2023-edition/
LOCATION:Barcelona\,  \, Barcelona\, Spain
ATTACH;FMTTYPE=image/png:https://circuitpartyinfo.com/wp-content/uploads/2023/09/Screenshot-2023-09-20-at-6.24.20-PM.png
END:VEVENT
BEGIN:VEVENT
DTSTART;VALUE=DATE:20230909
DTEND;VALUE=DATE:20230910
DTSTAMP:20260424T123238
CREATED:20230906T055038Z
LAST-MODIFIED:20230906T055038Z
UID:10001041-1694217600-1694303999@circuitpartyinfo.com
SUMMARY:La Leche! - Delivery
DESCRIPTION:
URL:https://circuitpartyinfo.com/event/la-leche-delivery/
LOCATION:Barcelona\,  \, Barcelona\, Spain
ATTACH;FMTTYPE=image/png:https://circuitpartyinfo.com/wp-content/uploads/2023/09/Screenshot-2023-09-05-at-6.50.05-PM.png
END:VEVENT
BEGIN:VEVENT
DTSTART;VALUE=DATE:20230805
DTEND;VALUE=DATE:20230814
DTSTAMP:20260424T123238
CREATED:20221125T010358Z
LAST-MODIFIED:20230730T200139Z
UID:10000017-1691193600-1691971199@circuitpartyinfo.com
SUMMARY:Circuit Festival Barcelona
DESCRIPTION:
URL:https://circuitpartyinfo.com/event/circuit-festival-barcelona/
LOCATION:Barcelona\,  \, Barcelona\, Spain
END:VEVENT
BEGIN:VEVENT
DTSTART;VALUE=DATE:20230520
DTEND;VALUE=DATE:20230521
DTSTAMP:20260424T123238
CREATED:20230517T050754Z
LAST-MODIFIED:20230517T050754Z
UID:10000703-1684540800-1684627199@circuitpartyinfo.com
SUMMARY:WE Party Picante
DESCRIPTION:
URL:https://circuitpartyinfo.com/event/we-party-picante/
LOCATION:Barcelona\,  \, Barcelona\, Spain
ATTACH;FMTTYPE=image/png:https://circuitpartyinfo.com/wp-content/uploads/2023/05/Screenshot-2023-05-16-at-6.06.53-PM.png
END:VEVENT
BEGIN:VEVENT
DTSTART;VALUE=DATE:20230430
DTEND;VALUE=DATE:20230501
DTSTAMP:20260424T123238
CREATED:20230414T184134Z
LAST-MODIFIED:20230414T184134Z
UID:10000608-1682812800-1682899199@circuitpartyinfo.com
SUMMARY:Matinee Pervert
DESCRIPTION:
URL:https://circuitpartyinfo.com/event/matinee-pervert/
LOCATION:Barcelona\,  \, Barcelona\, Spain
END:VEVENT
BEGIN:VEVENT
DTSTART;VALUE=DATE:20230430
DTEND;VALUE=DATE:20230501
DTSTAMP:20260424T123238
CREATED:20230315T054759Z
LAST-MODIFIED:20230315T054759Z
UID:10000501-1682812800-1682899199@circuitpartyinfo.com
SUMMARY:Matinee Gold Festival
DESCRIPTION:
URL:https://circuitpartyinfo.com/event/matinee-gold-festival/
LOCATION:Barcelona\,  \, Barcelona\, Spain
END:VEVENT
BEGIN:VEVENT
DTSTART;VALUE=DATE:20230407
DTEND;VALUE=DATE:20230410
DTSTAMP:20260424T123238
CREATED:20221130T064043Z
LAST-MODIFIED:20230219T034512Z
UID:10000057-1680825600-1681084799@circuitpartyinfo.com
SUMMARY:Matinee Easter Weekend
DESCRIPTION:
URL:https://circuitpartyinfo.com/event/matinee-easter-weekend/
LOCATION:Barcelona\,  \, Barcelona\, Spain
END:VEVENT
BEGIN:VEVENT
DTSTART;VALUE=DATE:20230311
DTEND;VALUE=DATE:20230312
DTSTAMP:20260424T123238
CREATED:20230302T084243Z
LAST-MODIFIED:20230302T084243Z
UID:10000468-1678492800-1678579199@circuitpartyinfo.com
SUMMARY:Circuit Festival - Pre-Party Barcelona
DESCRIPTION:
URL:https://circuitpartyinfo.com/event/circuit-festival-pre-party-barcelona/
LOCATION:Barcelona\,  \, Barcelona\, Spain
END:VEVENT
BEGIN:VEVENT
DTSTART;VALUE=DATE:20230211
DTEND;VALUE=DATE:20230212
DTSTAMP:20260424T123238
CREATED:20230117T203601Z
LAST-MODIFIED:20230117T203601Z
UID:10000303-1676073600-1676159999@circuitpartyinfo.com
SUMMARY:Forever Tel Aviv - Barcelona
DESCRIPTION:
URL:https://circuitpartyinfo.com/event/forever-tel-aviv-barcelona/
LOCATION:Barcelona\,  \, Barcelona\, Spain
END:VEVENT
BEGIN:VEVENT
DTSTART;VALUE=DATE:20221225
DTEND;VALUE=DATE:20221226
DTSTAMP:20260424T123238
CREATED:20221210T222358Z
LAST-MODIFIED:20221210T222358Z
UID:10000149-1671926400-1672012799@circuitpartyinfo.com
SUMMARY:Haus of Circuit
DESCRIPTION:
URL:https://circuitpartyinfo.com/event/haus-of-circuit/
LOCATION:Barcelona\,  \, Barcelona\, Spain
ATTACH;FMTTYPE=image/png:https://circuitpartyinfo.com/wp-content/uploads/2022/12/Screenshot-2022-12-10-at-9.21.56-AM.png
END:VEVENT
END:VCALENDAR