BEGIN:VCALENDAR
VERSION:2.0
PRODID:-//Circuit Party Info - ECPv6.15.20//NONSGML v1.0//EN
CALSCALE:GREGORIAN
METHOD:PUBLISH
X-ORIGINAL-URL:https://circuitpartyinfo.com
X-WR-CALDESC:Events for Circuit Party Info
REFRESH-INTERVAL;VALUE=DURATION:PT1H
X-Robots-Tag:noindex
X-PUBLISHED-TTL:PT1H
BEGIN:VTIMEZONE
TZID:America/Los_Angeles
BEGIN:DAYLIGHT
TZOFFSETFROM:-0800
TZOFFSETTO:-0700
TZNAME:PDT
DTSTART:20250309T100000
END:DAYLIGHT
BEGIN:STANDARD
TZOFFSETFROM:-0700
TZOFFSETTO:-0800
TZNAME:PST
DTSTART:20251102T090000
END:STANDARD
BEGIN:DAYLIGHT
TZOFFSETFROM:-0800
TZOFFSETTO:-0700
TZNAME:PDT
DTSTART:20260308T100000
END:DAYLIGHT
BEGIN:STANDARD
TZOFFSETFROM:-0700
TZOFFSETTO:-0800
TZNAME:PST
DTSTART:20261101T090000
END:STANDARD
BEGIN:DAYLIGHT
TZOFFSETFROM:-0800
TZOFFSETTO:-0700
TZNAME:PDT
DTSTART:20270314T100000
END:DAYLIGHT
BEGIN:STANDARD
TZOFFSETFROM:-0700
TZOFFSETTO:-0800
TZNAME:PST
DTSTART:20271107T090000
END:STANDARD
END:VTIMEZONE
BEGIN:VEVENT
DTSTART;VALUE=DATE:20260425
DTEND;VALUE=DATE:20260426
DTSTAMP:20260422T211205
CREATED:20260217T011953Z
LAST-MODIFIED:20260217T011953Z
UID:10005413-1777075200-1777161599@circuitpartyinfo.com
SUMMARY:Karlitos - XION Atlanta (Bear Pride)
DESCRIPTION:
URL:https://circuitpartyinfo.com/event/karlitos-xion-atlanta-bear-pride/
LOCATION:Atlanta\,  \, Atlanta\, GA\, United States
ATTACH;FMTTYPE=image/jpeg:https://circuitpartyinfo.com/wp-content/uploads/2026/02/IMG_3006.jpeg
GEO:33.748752;-84.3876845
X-APPLE-STRUCTURED-LOCATION;VALUE=URI;X-ADDRESS=Atlanta   Atlanta GA United States;X-APPLE-RADIUS=500;X-TITLE= :geo:-84.3876845,33.748752
END:VEVENT
BEGIN:VEVENT
DTSTART;VALUE=DATE:20260426
DTEND;VALUE=DATE:20260427
DTSTAMP:20260422T211205
CREATED:20260217T012207Z
LAST-MODIFIED:20260217T012207Z
UID:10005414-1777161600-1777247999@circuitpartyinfo.com
SUMMARY:Micky Friedmann - XION Atlanta (Bear Pride)
DESCRIPTION:
URL:https://circuitpartyinfo.com/event/micky-friedmann-xion-atlanta-bear-pride/
LOCATION:Atlanta\,  \, Atlanta\, GA\, United States
ATTACH;FMTTYPE=image/jpeg:https://circuitpartyinfo.com/wp-content/uploads/2026/02/IMG_3007.jpeg
GEO:33.748752;-84.3876845
X-APPLE-STRUCTURED-LOCATION;VALUE=URI;X-ADDRESS=Atlanta   Atlanta GA United States;X-APPLE-RADIUS=500;X-TITLE= :geo:-84.3876845,33.748752
END:VEVENT
BEGIN:VEVENT
DTSTART;VALUE=DATE:20260503
DTEND;VALUE=DATE:20260504
DTSTAMP:20260422T211205
CREATED:20260325T224615Z
LAST-MODIFIED:20260325T224615Z
UID:10005695-1777766400-1777852799@circuitpartyinfo.com
SUMMARY:Twisted Dee - XION Atlanta
DESCRIPTION:
URL:https://circuitpartyinfo.com/event/twisted-dee-xion-atlanta/
LOCATION:Atlanta\,  \, Atlanta\, GA\, United States
ATTACH;FMTTYPE=image/jpeg:https://circuitpartyinfo.com/wp-content/uploads/2026/03/yes-3.jpeg
GEO:33.748752;-84.3876845
X-APPLE-STRUCTURED-LOCATION;VALUE=URI;X-ADDRESS=Atlanta   Atlanta GA United States;X-APPLE-RADIUS=500;X-TITLE= :geo:-84.3876845,33.748752
END:VEVENT
BEGIN:VEVENT
DTSTART;VALUE=DATE:20260510
DTEND;VALUE=DATE:20260511
DTSTAMP:20260422T211205
CREATED:20260415T205039Z
LAST-MODIFIED:20260415T205039Z
UID:10005893-1778371200-1778457599@circuitpartyinfo.com
SUMMARY:Joe Gauthreaux - XION
DESCRIPTION:
URL:https://circuitpartyinfo.com/event/joe-gauthreaux-xion/
LOCATION:Atlanta\,  \, Atlanta\, GA\, United States
ATTACH;FMTTYPE=image/jpeg:https://circuitpartyinfo.com/wp-content/uploads/2026/04/yes.jpeg
GEO:33.748752;-84.3876845
X-APPLE-STRUCTURED-LOCATION;VALUE=URI;X-ADDRESS=Atlanta   Atlanta GA United States;X-APPLE-RADIUS=500;X-TITLE= :geo:-84.3876845,33.748752
END:VEVENT
BEGIN:VEVENT
DTSTART;VALUE=DATE:20260517
DTEND;VALUE=DATE:20260518
DTSTAMP:20260422T211205
CREATED:20260415T205150Z
LAST-MODIFIED:20260415T205150Z
UID:10005894-1778976000-1779062399@circuitpartyinfo.com
SUMMARY:Leo Blanco - XION
DESCRIPTION:
URL:https://circuitpartyinfo.com/event/leo-blanco-xion/
LOCATION:Atlanta\,  \, Atlanta\, GA\, United States
ATTACH;FMTTYPE=image/jpeg:https://circuitpartyinfo.com/wp-content/uploads/2026/04/yes-1.jpeg
GEO:33.748752;-84.3876845
X-APPLE-STRUCTURED-LOCATION;VALUE=URI;X-ADDRESS=Atlanta   Atlanta GA United States;X-APPLE-RADIUS=500;X-TITLE= :geo:-84.3876845,33.748752
END:VEVENT
BEGIN:VEVENT
DTSTART;VALUE=DATE:20260524
DTEND;VALUE=DATE:20260525
DTSTAMP:20260422T211205
CREATED:20260420T220937Z
LAST-MODIFIED:20260420T221136Z
UID:10005958-1779580800-1779667199@circuitpartyinfo.com
SUMMARY:Paulo - XION
DESCRIPTION:
URL:https://circuitpartyinfo.com/event/paulo-xion/
LOCATION:Atlanta\,  \, Atlanta\, GA\, United States
ATTACH;FMTTYPE=image/jpeg:https://circuitpartyinfo.com/wp-content/uploads/2026/04/81b7e5_6cc359a0e05a4c25a7fdb9744aed7a9amv2.jpeg
GEO:33.748752;-84.3876845
X-APPLE-STRUCTURED-LOCATION;VALUE=URI;X-ADDRESS=Atlanta   Atlanta GA United States;X-APPLE-RADIUS=500;X-TITLE= :geo:-84.3876845,33.748752
END:VEVENT
BEGIN:VEVENT
DTSTART;VALUE=DATE:20260725
DTEND;VALUE=DATE:20260726
DTSTAMP:20260422T211205
CREATED:20260420T221058Z
LAST-MODIFIED:20260421T213224Z
UID:10005959-1784937600-1785023999@circuitpartyinfo.com
SUMMARY:Extra Point with GSP (Joining Hearts Weekend) - XION
DESCRIPTION:
URL:https://circuitpartyinfo.com/event/extra-point-with-gsp-xion/
LOCATION:Atlanta\,  \, Atlanta\, GA\, United States
ATTACH;FMTTYPE=image/jpeg:https://circuitpartyinfo.com/wp-content/uploads/2026/04/81b7e5_51f4db19b8ff485ab0ad86df3f6c2e02mv2.jpeg
GEO:33.748752;-84.3876845
X-APPLE-STRUCTURED-LOCATION;VALUE=URI;X-ADDRESS=Atlanta   Atlanta GA United States;X-APPLE-RADIUS=500;X-TITLE= :geo:-84.3876845,33.748752
END:VEVENT
BEGIN:VEVENT
DTSTART;VALUE=DATE:20260726
DTEND;VALUE=DATE:20260727
DTSTAMP:20260422T211205
CREATED:20260420T221302Z
LAST-MODIFIED:20260421T213253Z
UID:10005960-1785024000-1785110399@circuitpartyinfo.com
SUMMARY:Overtime with Nina Flowers (Joining Hearts Weekend) - XION
DESCRIPTION:
URL:https://circuitpartyinfo.com/event/overtime-with-nina-flowers-xion/
LOCATION:Atlanta\,  \, Atlanta\, GA\, United States
ATTACH;FMTTYPE=image/jpeg:https://circuitpartyinfo.com/wp-content/uploads/2026/04/81b7e5_05a9ec48d7b24b6cac3a8eea4ec3e6camv2.jpeg
GEO:33.748752;-84.3876845
X-APPLE-STRUCTURED-LOCATION;VALUE=URI;X-ADDRESS=Atlanta   Atlanta GA United States;X-APPLE-RADIUS=500;X-TITLE= :geo:-84.3876845,33.748752
END:VEVENT
BEGIN:VEVENT
DTSTART;VALUE=DATE:20261010
DTEND;VALUE=DATE:20261011
DTSTAMP:20260422T211205
CREATED:20260315T185906Z
LAST-MODIFIED:20260415T205333Z
UID:10005607-1791590400-1791676799@circuitpartyinfo.com
SUMMARY:Jesus Montanez - XION Pride Friday
DESCRIPTION:
URL:https://circuitpartyinfo.com/event/xion-pride-friday/
LOCATION:Atlanta\,  \, Atlanta\, GA\, United States
ATTACH;FMTTYPE=image/jpeg:https://circuitpartyinfo.com/wp-content/uploads/2026/03/yes-4.jpeg
GEO:33.748752;-84.3876845
X-APPLE-STRUCTURED-LOCATION;VALUE=URI;X-ADDRESS=Atlanta   Atlanta GA United States;X-APPLE-RADIUS=500;X-TITLE= :geo:-84.3876845,33.748752
END:VEVENT
BEGIN:VEVENT
DTSTART;VALUE=DATE:20261011
DTEND;VALUE=DATE:20261012
DTSTAMP:20260422T211205
CREATED:20260315T185935Z
LAST-MODIFIED:20260415T205426Z
UID:10005608-1791676800-1791763199@circuitpartyinfo.com
SUMMARY:Karsten Sollors - XION Pride Saturday
DESCRIPTION:
URL:https://circuitpartyinfo.com/event/xion-pride-saturday/
LOCATION:Atlanta\,  \, Atlanta\, GA\, United States
ATTACH;FMTTYPE=image/jpeg:https://circuitpartyinfo.com/wp-content/uploads/2026/03/yes-4.jpeg
GEO:33.748752;-84.3876845
X-APPLE-STRUCTURED-LOCATION;VALUE=URI;X-ADDRESS=Atlanta   Atlanta GA United States;X-APPLE-RADIUS=500;X-TITLE= :geo:-84.3876845,33.748752
END:VEVENT
BEGIN:VEVENT
DTSTART;VALUE=DATE:20261012
DTEND;VALUE=DATE:20261013
DTSTAMP:20260422T211205
CREATED:20260315T190001Z
LAST-MODIFIED:20260415T205450Z
UID:10005609-1791763200-1791849599@circuitpartyinfo.com
SUMMARY:Micky Friedmann - XION Pride Sunday
DESCRIPTION:
URL:https://circuitpartyinfo.com/event/xion-pride-sunday/
LOCATION:Atlanta\,  \, Atlanta\, GA\, United States
ATTACH;FMTTYPE=image/jpeg:https://circuitpartyinfo.com/wp-content/uploads/2026/03/yes-4.jpeg
GEO:33.748752;-84.3876845
X-APPLE-STRUCTURED-LOCATION;VALUE=URI;X-ADDRESS=Atlanta   Atlanta GA United States;X-APPLE-RADIUS=500;X-TITLE= :geo:-84.3876845,33.748752
END:VEVENT
END:VCALENDAR