BEGIN:VCALENDAR
VERSION:2.0
PRODID:-//Circuit Party Info - ECPv6.15.20//NONSGML v1.0//EN
CALSCALE:GREGORIAN
METHOD:PUBLISH
X-WR-CALNAME:Circuit Party Info
X-ORIGINAL-URL:https://circuitpartyinfo.com
X-WR-CALDESC:Events for Circuit Party Info
REFRESH-INTERVAL;VALUE=DURATION:PT1H
X-Robots-Tag:noindex
X-PUBLISHED-TTL:PT1H
BEGIN:VTIMEZONE
TZID:UTC
BEGIN:STANDARD
TZOFFSETFROM:+0000
TZOFFSETTO:+0000
TZNAME:UTC
DTSTART:20210101T000000
END:STANDARD
END:VTIMEZONE
BEGIN:VTIMEZONE
TZID:UTC
BEGIN:STANDARD
TZOFFSETFROM:+0000
TZOFFSETTO:+0000
TZNAME:UTC
DTSTART:20220101T000000
END:STANDARD
END:VTIMEZONE
BEGIN:VEVENT
DTSTART;VALUE=DATE:20230728
DTEND;VALUE=DATE:20230729
DTSTAMP:20260422T224756
CREATED:20230627T063506Z
LAST-MODIFIED:20230627T063506Z
UID:10000808-1690502400-1690588799@circuitpartyinfo.com
SUMMARY:Prime - Daddy Alley
DESCRIPTION:
URL:https://circuitpartyinfo.com/event/prime-daddy-alley/
LOCATION:San Francisco\,  \, San Francisco\, CA\, United States
ATTACH;FMTTYPE=image/jpeg:https://circuitpartyinfo.com/wp-content/uploads/2023/06/WEBPOSTER-PRIME-JULY2023-scaled.jpg
END:VEVENT
BEGIN:VEVENT
DTSTART;VALUE=DATE:20230623
DTEND;VALUE=DATE:20230624
DTSTAMP:20260422T224756
CREATED:20230224T065828Z
LAST-MODIFIED:20230614T070452Z
UID:10000455-1687478400-1687564799@circuitpartyinfo.com
SUMMARY:Toro - SF Pride
DESCRIPTION:
URL:https://circuitpartyinfo.com/event/toro-sf-pride/
LOCATION:San Francisco\,  \, San Francisco\, CA\, United States
ATTACH;FMTTYPE=image/png:https://circuitpartyinfo.com/wp-content/uploads/2023/02/Screenshot-2023-06-13-at-8.04.23-PM.png
END:VEVENT
BEGIN:VEVENT
DTSTART;VALUE=DATE:20230218
DTEND;VALUE=DATE:20230219
DTSTAMP:20260422T224756
CREATED:20221126T224513Z
LAST-MODIFIED:20221126T224513Z
UID:10000037-1676678400-1676764799@circuitpartyinfo.com
SUMMARY:Dad in Training - Boot Camp
DESCRIPTION:
URL:https://circuitpartyinfo.com/event/dad-in-training-boot-camp/
LOCATION:San Francisco\,  \, San Francisco\, CA\, United States
END:VEVENT
BEGIN:VEVENT
DTSTART;VALUE=DATE:20221203
DTEND;VALUE=DATE:20221204
DTSTAMP:20260422T224756
CREATED:20221126T224658Z
LAST-MODIFIED:20221126T224658Z
UID:10000038-1670025600-1670111999@circuitpartyinfo.com
SUMMARY:PRIME - Naughty or Nice
DESCRIPTION:
URL:https://circuitpartyinfo.com/event/prime-naughty-or-nice/
LOCATION:San Francisco\,  \, San Francisco\, CA\, United States
END:VEVENT
END:VCALENDAR