BEGIN:VCALENDAR
VERSION:2.0
PRODID:-//Circuit Party Info - ECPv6.15.20//NONSGML v1.0//EN
CALSCALE:GREGORIAN
METHOD:PUBLISH
X-ORIGINAL-URL:https://circuitpartyinfo.com
X-WR-CALDESC:Events for Circuit Party Info
REFRESH-INTERVAL;VALUE=DURATION:PT1H
X-Robots-Tag:noindex
X-PUBLISHED-TTL:PT1H
BEGIN:VTIMEZONE
TZID:America/Los_Angeles
BEGIN:DAYLIGHT
TZOFFSETFROM:-0800
TZOFFSETTO:-0700
TZNAME:PDT
DTSTART:20240310T100000
END:DAYLIGHT
BEGIN:STANDARD
TZOFFSETFROM:-0700
TZOFFSETTO:-0800
TZNAME:PST
DTSTART:20241103T090000
END:STANDARD
BEGIN:DAYLIGHT
TZOFFSETFROM:-0800
TZOFFSETTO:-0700
TZNAME:PDT
DTSTART:20250309T100000
END:DAYLIGHT
BEGIN:STANDARD
TZOFFSETFROM:-0700
TZOFFSETTO:-0800
TZNAME:PST
DTSTART:20251102T090000
END:STANDARD
BEGIN:DAYLIGHT
TZOFFSETFROM:-0800
TZOFFSETTO:-0700
TZNAME:PDT
DTSTART:20260308T100000
END:DAYLIGHT
BEGIN:STANDARD
TZOFFSETFROM:-0700
TZOFFSETTO:-0800
TZNAME:PST
DTSTART:20261101T090000
END:STANDARD
BEGIN:DAYLIGHT
TZOFFSETFROM:-0800
TZOFFSETTO:-0700
TZNAME:PDT
DTSTART:20270314T100000
END:DAYLIGHT
BEGIN:STANDARD
TZOFFSETFROM:-0700
TZOFFSETTO:-0800
TZNAME:PST
DTSTART:20271107T090000
END:STANDARD
END:VTIMEZONE
BEGIN:VEVENT
DTSTART;VALUE=DATE:20260322
DTEND;VALUE=DATE:20260323
DTSTAMP:20260422T150823
CREATED:20260305T231339Z
LAST-MODIFIED:20260306T025614Z
UID:10005517-1774137600-1774223999@circuitpartyinfo.com
SUMMARY:Tribe
DESCRIPTION:
URL:https://circuitpartyinfo.com/event/tribe/
LOCATION:Miami\,  \, Miami\, FL\, United States
ATTACH;FMTTYPE=image/jpeg:https://circuitpartyinfo.com/wp-content/uploads/2026/03/643731737_17868659232575973_182597301111070636_n.jpg
END:VEVENT
BEGIN:VEVENT
DTSTART;VALUE=DATE:20260215
DTEND;VALUE=DATE:20260216
DTSTAMP:20260422T150823
CREATED:20260127T211840Z
LAST-MODIFIED:20260130T224310Z
UID:10005231-1771113600-1771199999@circuitpartyinfo.com
SUMMARY:Tribe Miami
DESCRIPTION:
URL:https://circuitpartyinfo.com/event/tribe-miami/
LOCATION:Miami\,  \, Miami\, FL\, United States
ATTACH;FMTTYPE=image/jpeg:https://circuitpartyinfo.com/wp-content/uploads/2026/01/Untitled-2.jpg
END:VEVENT
BEGIN:VEVENT
DTSTART;VALUE=DATE:20260118
DTEND;VALUE=DATE:20260119
DTSTAMP:20260422T150823
CREATED:20260110T165704Z
LAST-MODIFIED:20260110T165704Z
UID:10005088-1768694400-1768780799@circuitpartyinfo.com
SUMMARY:Tribe: La Terraza
DESCRIPTION:
URL:https://circuitpartyinfo.com/event/tribe-la-terraza/
LOCATION:Miami\,  \, Miami\, FL\, United States
ATTACH;FMTTYPE=image/jpeg:https://circuitpartyinfo.com/wp-content/uploads/2026/01/613077376_17860568328575973_606209986422186163_n.jpg
END:VEVENT
BEGIN:VEVENT
DTSTART;VALUE=DATE:20251121
DTEND;VALUE=DATE:20251122
DTSTAMP:20260422T150823
CREATED:20251112T194828Z
LAST-MODIFIED:20251112T194828Z
UID:10004680-1763683200-1763769599@circuitpartyinfo.com
SUMMARY:Tribe: Afro Vibes
DESCRIPTION:
URL:https://circuitpartyinfo.com/event/tribe-afro-vibes/
LOCATION:Miami\,  \, Miami\, FL\, United States
ATTACH;FMTTYPE=image/jpeg:https://circuitpartyinfo.com/wp-content/uploads/2025/11/581233627_17853071517575973_8345626700535809189_n.jpg
END:VEVENT
END:VCALENDAR