BEGIN:VCALENDAR
VERSION:2.0
PRODID:-//Circuit Party Info - ECPv6.15.20//NONSGML v1.0//EN
CALSCALE:GREGORIAN
METHOD:PUBLISH
X-WR-CALNAME:Circuit Party Info
X-ORIGINAL-URL:https://circuitpartyinfo.com
X-WR-CALDESC:Events for Circuit Party Info
REFRESH-INTERVAL;VALUE=DURATION:PT1H
X-Robots-Tag:noindex
X-PUBLISHED-TTL:PT1H
BEGIN:VTIMEZONE
TZID:America/Los_Angeles
BEGIN:DAYLIGHT
TZOFFSETFROM:-0800
TZOFFSETTO:-0700
TZNAME:PDT
DTSTART:20240310T100000
END:DAYLIGHT
BEGIN:STANDARD
TZOFFSETFROM:-0700
TZOFFSETTO:-0800
TZNAME:PST
DTSTART:20241103T090000
END:STANDARD
BEGIN:DAYLIGHT
TZOFFSETFROM:-0800
TZOFFSETTO:-0700
TZNAME:PDT
DTSTART:20250309T100000
END:DAYLIGHT
BEGIN:STANDARD
TZOFFSETFROM:-0700
TZOFFSETTO:-0800
TZNAME:PST
DTSTART:20251102T090000
END:STANDARD
BEGIN:DAYLIGHT
TZOFFSETFROM:-0800
TZOFFSETTO:-0700
TZNAME:PDT
DTSTART:20260308T100000
END:DAYLIGHT
BEGIN:STANDARD
TZOFFSETFROM:-0700
TZOFFSETTO:-0800
TZNAME:PST
DTSTART:20261101T090000
END:STANDARD
END:VTIMEZONE
BEGIN:VTIMEZONE
TZID:UTC
BEGIN:STANDARD
TZOFFSETFROM:+0000
TZOFFSETTO:+0000
TZNAME:UTC
DTSTART:20230101T000000
END:STANDARD
END:VTIMEZONE
BEGIN:VTIMEZONE
TZID:UTC
BEGIN:STANDARD
TZOFFSETFROM:+0000
TZOFFSETTO:+0000
TZNAME:UTC
DTSTART:20220101T000000
END:STANDARD
END:VTIMEZONE
BEGIN:VEVENT
DTSTART;VALUE=DATE:20250801
DTEND;VALUE=DATE:20250804
DTSTAMP:20260422T230735
CREATED:20240815T214631Z
LAST-MODIFIED:20250426T004648Z
UID:10002482-1754006400-1754265599@circuitpartyinfo.com
SUMMARY:Pines Party 2025
DESCRIPTION:
URL:https://circuitpartyinfo.com/event/pines-party-2025/
LOCATION:Fire Island\,  \, Fire Island\, NY\, United States
ATTACH;FMTTYPE=image/jpeg:https://circuitpartyinfo.com/wp-content/uploads/2024/08/491453586_18482933128070763_4036347668365750822_n.jpg
END:VEVENT
BEGIN:VEVENT
DTSTART;VALUE=DATE:20240809
DTEND;VALUE=DATE:20240812
DTSTAMP:20260422T230735
CREATED:20230729T064126Z
LAST-MODIFIED:20240425T220659Z
UID:10000922-1723161600-1723420799@circuitpartyinfo.com
SUMMARY:Pines Party 2024
DESCRIPTION:
URL:https://circuitpartyinfo.com/event/pines-party-2024/
LOCATION:Fire Island\,  \, Fire Island\, NY\, United States
ATTACH;FMTTYPE=image/png:https://circuitpartyinfo.com/wp-content/uploads/2023/07/Screenshot-2024-04-25-at-6.06.11 PM.png
END:VEVENT
BEGIN:VEVENT
DTSTART;VALUE=DATE:20230721
DTEND;VALUE=DATE:20230724
DTSTAMP:20260422T230735
CREATED:20230304T084521Z
LAST-MODIFIED:20230423T054601Z
UID:10000474-1689897600-1690156799@circuitpartyinfo.com
SUMMARY:Pines Party - Toon Island 2023
DESCRIPTION:
URL:https://circuitpartyinfo.com/event/pines-party/
LOCATION:Fire Island\,  \, Fire Island\, NY\, United States
END:VEVENT
END:VCALENDAR