BEGIN:VCALENDAR
VERSION:2.0
PRODID:-//Circuit Party Info - ECPv6.15.20//NONSGML v1.0//EN
CALSCALE:GREGORIAN
METHOD:PUBLISH
X-ORIGINAL-URL:https://circuitpartyinfo.com
X-WR-CALDESC:Events for Circuit Party Info
REFRESH-INTERVAL;VALUE=DURATION:PT1H
X-Robots-Tag:noindex
X-PUBLISHED-TTL:PT1H
BEGIN:VTIMEZONE
TZID:America/Los_Angeles
BEGIN:DAYLIGHT
TZOFFSETFROM:-0800
TZOFFSETTO:-0700
TZNAME:PDT
DTSTART:20250309T100000
END:DAYLIGHT
BEGIN:STANDARD
TZOFFSETFROM:-0700
TZOFFSETTO:-0800
TZNAME:PST
DTSTART:20251102T090000
END:STANDARD
BEGIN:DAYLIGHT
TZOFFSETFROM:-0800
TZOFFSETTO:-0700
TZNAME:PDT
DTSTART:20260308T100000
END:DAYLIGHT
BEGIN:STANDARD
TZOFFSETFROM:-0700
TZOFFSETTO:-0800
TZNAME:PST
DTSTART:20261101T090000
END:STANDARD
BEGIN:DAYLIGHT
TZOFFSETFROM:-0800
TZOFFSETTO:-0700
TZNAME:PDT
DTSTART:20270314T100000
END:DAYLIGHT
BEGIN:STANDARD
TZOFFSETFROM:-0700
TZOFFSETTO:-0800
TZNAME:PST
DTSTART:20271107T090000
END:STANDARD
END:VTIMEZONE
BEGIN:VEVENT
DTSTART;VALUE=DATE:20260424
DTEND;VALUE=DATE:20260425
DTSTAMP:20260422T132839
CREATED:20260402T211655Z
LAST-MODIFIED:20260411T193853Z
UID:10005778-1776988800-1777075199@circuitpartyinfo.com
SUMMARY:Alfonso Tan - The Eagle NYC
DESCRIPTION:
URL:https://circuitpartyinfo.com/event/alfonso-tan-the-eagle-nyc-2/
LOCATION:New York City\,   \, New York City\, NY\, United States
ATTACH;FMTTYPE=image/jpeg:https://circuitpartyinfo.com/wp-content/uploads/2026/04/a2d812e8-ef60-1c49-15f9-51e624306236.jpg
GEO:40.7127753;-74.0059728
X-APPLE-STRUCTURED-LOCATION;VALUE=URI;X-ADDRESS=New York City    New York City NY United States;X-APPLE-RADIUS=500;X-TITLE=  :geo:-74.0059728,40.7127753
END:VEVENT
BEGIN:VEVENT
DTSTART;VALUE=DATE:20260426
DTEND;VALUE=DATE:20260427
DTSTAMP:20260422T132839
CREATED:20260402T211812Z
LAST-MODIFIED:20260411T194037Z
UID:10005780-1777161600-1777247999@circuitpartyinfo.com
SUMMARY:Sam Gee - The Eagle NYC
DESCRIPTION:
URL:https://circuitpartyinfo.com/event/sam-gee-the-eagle-nyc-10/
LOCATION:New York City\,   \, New York City\, NY\, United States
ATTACH;FMTTYPE=image/jpeg:https://circuitpartyinfo.com/wp-content/uploads/2026/04/69ed3e99-6476-6f1e-f181-e4f7e0ecd5e3.jpg
GEO:40.7127753;-74.0059728
X-APPLE-STRUCTURED-LOCATION;VALUE=URI;X-ADDRESS=New York City    New York City NY United States;X-APPLE-RADIUS=500;X-TITLE=  :geo:-74.0059728,40.7127753
END:VEVENT
BEGIN:VEVENT
DTSTART;VALUE=DATE:20260501
DTEND;VALUE=DATE:20260502
DTSTAMP:20260422T132839
CREATED:20260418T211618Z
LAST-MODIFIED:20260418T211618Z
UID:10005935-1777593600-1777679999@circuitpartyinfo.com
SUMMARY:Kraftwitch - The Eagle NYC
DESCRIPTION:
URL:https://circuitpartyinfo.com/event/kraftwitch-the-eagle-nyc/
LOCATION:New York City\,   \, New York City\, NY\, United States
ATTACH;FMTTYPE=image/jpeg:https://circuitpartyinfo.com/wp-content/uploads/2026/04/9a4fa65f-d91a-98ba-d032-57e175bb350c.jpg
GEO:40.7127753;-74.0059728
X-APPLE-STRUCTURED-LOCATION;VALUE=URI;X-ADDRESS=New York City    New York City NY United States;X-APPLE-RADIUS=500;X-TITLE=  :geo:-74.0059728,40.7127753
END:VEVENT
BEGIN:VEVENT
DTSTART;VALUE=DATE:20260502
DTEND;VALUE=DATE:20260503
DTSTAMP:20260422T132839
CREATED:20260418T211709Z
LAST-MODIFIED:20260418T211709Z
UID:10005936-1777680000-1777766399@circuitpartyinfo.com
SUMMARY:James Anthony's House - The Eagle NYC
DESCRIPTION:
URL:https://circuitpartyinfo.com/event/james-anthonys-house-the-eagle-nyc-2/
LOCATION:New York City\,   \, New York City\, NY\, United States
ATTACH;FMTTYPE=image/jpeg:https://circuitpartyinfo.com/wp-content/uploads/2026/04/0b06403c-4768-b49d-246c-9a5e5cb37b15.jpg
GEO:40.7127753;-74.0059728
X-APPLE-STRUCTURED-LOCATION;VALUE=URI;X-ADDRESS=New York City    New York City NY United States;X-APPLE-RADIUS=500;X-TITLE=  :geo:-74.0059728,40.7127753
END:VEVENT
BEGIN:VEVENT
DTSTART;VALUE=DATE:20260503
DTEND;VALUE=DATE:20260504
DTSTAMP:20260422T132839
CREATED:20260418T211820Z
LAST-MODIFIED:20260418T211820Z
UID:10005937-1777766400-1777852799@circuitpartyinfo.com
SUMMARY:KrisTopher - The Eagle NYC
DESCRIPTION:
URL:https://circuitpartyinfo.com/event/kristopher-the-eagle-nyc/
LOCATION:New York City\,   \, New York City\, NY\, United States
ATTACH;FMTTYPE=image/jpeg:https://circuitpartyinfo.com/wp-content/uploads/2026/04/e9c2538d-a60a-0ac1-b5bb-bf95d385db01.jpg
GEO:40.7127753;-74.0059728
X-APPLE-STRUCTURED-LOCATION;VALUE=URI;X-ADDRESS=New York City    New York City NY United States;X-APPLE-RADIUS=500;X-TITLE=  :geo:-74.0059728,40.7127753
END:VEVENT
BEGIN:VEVENT
DTSTART;VALUE=DATE:20260508
DTEND;VALUE=DATE:20260509
DTSTAMP:20260422T132839
CREATED:20260402T211223Z
LAST-MODIFIED:20260402T211223Z
UID:10005771-1778198400-1778284799@circuitpartyinfo.com
SUMMARY:Alex Ramos - The Eagle NYC
DESCRIPTION:
URL:https://circuitpartyinfo.com/event/alex-ramos-the-eagle-nyc/
LOCATION:New York City\,   \, New York City\, NY\, United States
GEO:40.7127753;-74.0059728
X-APPLE-STRUCTURED-LOCATION;VALUE=URI;X-ADDRESS=New York City    New York City NY United States;X-APPLE-RADIUS=500;X-TITLE=  :geo:-74.0059728,40.7127753
END:VEVENT
BEGIN:VEVENT
DTSTART;VALUE=DATE:20260509
DTEND;VALUE=DATE:20260510
DTSTAMP:20260422T132839
CREATED:20260402T211303Z
LAST-MODIFIED:20260402T211303Z
UID:10005772-1778284800-1778371199@circuitpartyinfo.com
SUMMARY:Morabito - The Eagle NYC
DESCRIPTION:
URL:https://circuitpartyinfo.com/event/morabito-the-eagle-nyc-16/
LOCATION:New York City\,   \, New York City\, NY\, United States
GEO:40.7127753;-74.0059728
X-APPLE-STRUCTURED-LOCATION;VALUE=URI;X-ADDRESS=New York City    New York City NY United States;X-APPLE-RADIUS=500;X-TITLE=  :geo:-74.0059728,40.7127753
END:VEVENT
BEGIN:VEVENT
DTSTART;VALUE=DATE:20260510
DTEND;VALUE=DATE:20260511
DTSTAMP:20260422T132839
CREATED:20260402T211333Z
LAST-MODIFIED:20260402T211333Z
UID:10005773-1778371200-1778457599@circuitpartyinfo.com
SUMMARY:Sam Gee - The Eagle NYC
DESCRIPTION:
URL:https://circuitpartyinfo.com/event/sam-gee-the-eagle-nyc-9/
LOCATION:New York City\,   \, New York City\, NY\, United States
GEO:40.7127753;-74.0059728
X-APPLE-STRUCTURED-LOCATION;VALUE=URI;X-ADDRESS=New York City    New York City NY United States;X-APPLE-RADIUS=500;X-TITLE=  :geo:-74.0059728,40.7127753
END:VEVENT
BEGIN:VEVENT
DTSTART;VALUE=DATE:20260515
DTEND;VALUE=DATE:20260516
DTSTAMP:20260422T132839
CREATED:20260402T211405Z
LAST-MODIFIED:20260402T211405Z
UID:10005774-1778803200-1778889599@circuitpartyinfo.com
SUMMARY:Edward Frame - The Eagle NYC
DESCRIPTION:
URL:https://circuitpartyinfo.com/event/edward-frame-the-eagle-nyc-3/
LOCATION:New York City\,   \, New York City\, NY\, United States
GEO:40.7127753;-74.0059728
X-APPLE-STRUCTURED-LOCATION;VALUE=URI;X-ADDRESS=New York City    New York City NY United States;X-APPLE-RADIUS=500;X-TITLE=  :geo:-74.0059728,40.7127753
END:VEVENT
BEGIN:VEVENT
DTSTART;VALUE=DATE:20260516
DTEND;VALUE=DATE:20260517
DTSTAMP:20260422T132839
CREATED:20260402T211435Z
LAST-MODIFIED:20260402T211435Z
UID:10005775-1778889600-1778975999@circuitpartyinfo.com
SUMMARY:Jace M - The Eagle NYC
DESCRIPTION:
URL:https://circuitpartyinfo.com/event/jace-m-the-eagle-nyc/
LOCATION:New York City\,   \, New York City\, NY\, United States
GEO:40.7127753;-74.0059728
X-APPLE-STRUCTURED-LOCATION;VALUE=URI;X-ADDRESS=New York City    New York City NY United States;X-APPLE-RADIUS=500;X-TITLE=  :geo:-74.0059728,40.7127753
END:VEVENT
BEGIN:VEVENT
DTSTART;VALUE=DATE:20260517
DTEND;VALUE=DATE:20260518
DTSTAMP:20260422T132839
CREATED:20260402T211504Z
LAST-MODIFIED:20260402T211504Z
UID:10005776-1778976000-1779062399@circuitpartyinfo.com
SUMMARY:AJ Reddy - The Eagle NYC
DESCRIPTION:
URL:https://circuitpartyinfo.com/event/aj-reddy-the-eagle-nyc-5/
LOCATION:New York City\,   \, New York City\, NY\, United States
GEO:40.7127753;-74.0059728
X-APPLE-STRUCTURED-LOCATION;VALUE=URI;X-ADDRESS=New York City    New York City NY United States;X-APPLE-RADIUS=500;X-TITLE=  :geo:-74.0059728,40.7127753
END:VEVENT
BEGIN:VEVENT
DTSTART;VALUE=DATE:20260523
DTEND;VALUE=DATE:20260524
DTSTAMP:20260422T132839
CREATED:20260414T224309Z
LAST-MODIFIED:20260414T224309Z
UID:10005885-1779494400-1779580799@circuitpartyinfo.com
SUMMARY:Brett Oosterhaus - The Eagle NYC
DESCRIPTION:
URL:https://circuitpartyinfo.com/event/brett-oosterhaus-the-eagle-nyc/
LOCATION:New York City\,   \, New York City\, NY\, United States
GEO:40.7127753;-74.0059728
X-APPLE-STRUCTURED-LOCATION;VALUE=URI;X-ADDRESS=New York City    New York City NY United States;X-APPLE-RADIUS=500;X-TITLE=  :geo:-74.0059728,40.7127753
END:VEVENT
BEGIN:VEVENT
DTSTART;VALUE=DATE:20260524
DTEND;VALUE=DATE:20260525
DTSTAMP:20260422T132839
CREATED:20260414T224432Z
LAST-MODIFIED:20260414T224432Z
UID:10005886-1779580800-1779667199@circuitpartyinfo.com
SUMMARY:Twisted Dee - The Eagle NYC
DESCRIPTION:
URL:https://circuitpartyinfo.com/event/twisted-dee-the-eagle-nyc/
LOCATION:New York City\,   \, New York City\, NY\, United States
GEO:40.7127753;-74.0059728
X-APPLE-STRUCTURED-LOCATION;VALUE=URI;X-ADDRESS=New York City    New York City NY United States;X-APPLE-RADIUS=500;X-TITLE=  :geo:-74.0059728,40.7127753
END:VEVENT
BEGIN:VEVENT
DTSTART;VALUE=DATE:20260529
DTEND;VALUE=DATE:20260530
DTSTAMP:20260422T132839
CREATED:20260414T224503Z
LAST-MODIFIED:20260414T224503Z
UID:10005887-1780012800-1780099199@circuitpartyinfo.com
SUMMARY:Shane Marcus - The Eagle NYC
DESCRIPTION:
URL:https://circuitpartyinfo.com/event/shane-marcus-the-eagle-nyc/
LOCATION:New York City\,   \, New York City\, NY\, United States
GEO:40.7127753;-74.0059728
X-APPLE-STRUCTURED-LOCATION;VALUE=URI;X-ADDRESS=New York City    New York City NY United States;X-APPLE-RADIUS=500;X-TITLE=  :geo:-74.0059728,40.7127753
END:VEVENT
BEGIN:VEVENT
DTSTART;VALUE=DATE:20260605
DTEND;VALUE=DATE:20260606
DTSTAMP:20260422T132839
CREATED:20260414T224556Z
LAST-MODIFIED:20260414T224556Z
UID:10005888-1780617600-1780703999@circuitpartyinfo.com
SUMMARY:Dani Toro - The Eagle NYC
DESCRIPTION:
URL:https://circuitpartyinfo.com/event/dani-toro-the-eagle-nyc/
LOCATION:New York City\,   \, New York City\, NY\, United States
GEO:40.7127753;-74.0059728
X-APPLE-STRUCTURED-LOCATION;VALUE=URI;X-ADDRESS=New York City    New York City NY United States;X-APPLE-RADIUS=500;X-TITLE=  :geo:-74.0059728,40.7127753
END:VEVENT
END:VCALENDAR