BEGIN:VCALENDAR
VERSION:2.0
PRODID:-//Circuit Party Info - ECPv6.15.20//NONSGML v1.0//EN
CALSCALE:GREGORIAN
METHOD:PUBLISH
X-WR-CALNAME:Circuit Party Info
X-ORIGINAL-URL:https://circuitpartyinfo.com
X-WR-CALDESC:Events for Circuit Party Info
REFRESH-INTERVAL;VALUE=DURATION:PT1H
X-Robots-Tag:noindex
X-PUBLISHED-TTL:PT1H
BEGIN:VTIMEZONE
TZID:America/Los_Angeles
BEGIN:DAYLIGHT
TZOFFSETFROM:-0800
TZOFFSETTO:-0700
TZNAME:PDT
DTSTART:20230312T100000
END:DAYLIGHT
BEGIN:STANDARD
TZOFFSETFROM:-0700
TZOFFSETTO:-0800
TZNAME:PST
DTSTART:20231105T090000
END:STANDARD
BEGIN:DAYLIGHT
TZOFFSETFROM:-0800
TZOFFSETTO:-0700
TZNAME:PDT
DTSTART:20240310T100000
END:DAYLIGHT
BEGIN:STANDARD
TZOFFSETFROM:-0700
TZOFFSETTO:-0800
TZNAME:PST
DTSTART:20241103T090000
END:STANDARD
BEGIN:DAYLIGHT
TZOFFSETFROM:-0800
TZOFFSETTO:-0700
TZNAME:PDT
DTSTART:20250309T100000
END:DAYLIGHT
BEGIN:STANDARD
TZOFFSETFROM:-0700
TZOFFSETTO:-0800
TZNAME:PST
DTSTART:20251102T090000
END:STANDARD
BEGIN:DAYLIGHT
TZOFFSETFROM:-0800
TZOFFSETTO:-0700
TZNAME:PDT
DTSTART:20260308T100000
END:DAYLIGHT
BEGIN:STANDARD
TZOFFSETFROM:-0700
TZOFFSETTO:-0800
TZNAME:PST
DTSTART:20261101T090000
END:STANDARD
END:VTIMEZONE
BEGIN:VTIMEZONE
TZID:America/New_York
BEGIN:DAYLIGHT
TZOFFSETFROM:-0500
TZOFFSETTO:-0400
TZNAME:EDT
DTSTART:20220313T070000
END:DAYLIGHT
BEGIN:STANDARD
TZOFFSETFROM:-0400
TZOFFSETTO:-0500
TZNAME:EST
DTSTART:20221106T060000
END:STANDARD
BEGIN:DAYLIGHT
TZOFFSETFROM:-0500
TZOFFSETTO:-0400
TZNAME:EDT
DTSTART:20230312T070000
END:DAYLIGHT
BEGIN:STANDARD
TZOFFSETFROM:-0400
TZOFFSETTO:-0500
TZNAME:EST
DTSTART:20231105T060000
END:STANDARD
BEGIN:DAYLIGHT
TZOFFSETFROM:-0500
TZOFFSETTO:-0400
TZNAME:EDT
DTSTART:20240310T070000
END:DAYLIGHT
BEGIN:STANDARD
TZOFFSETFROM:-0400
TZOFFSETTO:-0500
TZNAME:EST
DTSTART:20241103T060000
END:STANDARD
END:VTIMEZONE
BEGIN:VTIMEZONE
TZID:UTC
BEGIN:STANDARD
TZOFFSETFROM:+0000
TZOFFSETTO:+0000
TZNAME:UTC
DTSTART:20220101T000000
END:STANDARD
END:VTIMEZONE
BEGIN:VEVENT
DTSTART;VALUE=DATE:20250928
DTEND;VALUE=DATE:20250929
DTSTAMP:20260422T205051
CREATED:20250219T010634Z
LAST-MODIFIED:20250713T123958Z
UID:10003358-1759017600-1759103999@circuitpartyinfo.com
SUMMARY:Real Bad 2025
DESCRIPTION:
URL:https://circuitpartyinfo.com/event/real-bad-2025/
LOCATION:San Francisco\,  \, San Francisco\, CA\, United States
ATTACH;FMTTYPE=image/png:https://circuitpartyinfo.com/wp-content/uploads/2025/02/Screenshot-2025-07-13-at-8.39.18 AM.png
END:VEVENT
BEGIN:VEVENT
DTSTART;VALUE=DATE:20250725
DTEND;VALUE=DATE:20250726
DTSTAMP:20260422T205051
CREATED:20250219T010727Z
LAST-MODIFIED:20250331T233339Z
UID:10003359-1753401600-1753487999@circuitpartyinfo.com
SUMMARY:Real Bad: Ritual
DESCRIPTION:
URL:https://circuitpartyinfo.com/event/real-bad-ritual-2/
LOCATION:San Francisco\,  \, San Francisco\, CA\, United States
ATTACH;FMTTYPE=image/png:https://circuitpartyinfo.com/wp-content/uploads/2025/02/Screenshot-2025-03-31-at-7.32.55 PM.png
END:VEVENT
BEGIN:VEVENT
DTSTART;VALUE=DATE:20240929
DTEND;VALUE=DATE:20240930
DTSTAMP:20260422T205051
CREATED:20240322T231805Z
LAST-MODIFIED:20240605T004944Z
UID:10001851-1727568000-1727654399@circuitpartyinfo.com
SUMMARY:Real Bad - Folsom 2024
DESCRIPTION:
URL:https://circuitpartyinfo.com/event/real-bad-folsom-2024/
LOCATION:San Francisco\,  \, San Francisco\, CA\, United States
ATTACH;FMTTYPE=image/jpeg:https://circuitpartyinfo.com/wp-content/uploads/2024/03/REALBAD35FinalUncroppedWeb.jpg
END:VEVENT
BEGIN:VEVENT
DTSTART;VALUE=DATE:20240726
DTEND;VALUE=DATE:20240727
DTSTAMP:20260422T205051
CREATED:20240322T231712Z
LAST-MODIFIED:20240415T220921Z
UID:10001850-1721952000-1722038399@circuitpartyinfo.com
SUMMARY:Real Bad: Ritual
DESCRIPTION:
URL:https://circuitpartyinfo.com/event/real-bad-ritual/
LOCATION:San Francisco\,  \, San Francisco\, CA\, United States
ATTACH;FMTTYPE=image/png:https://circuitpartyinfo.com/wp-content/uploads/2024/03/Screenshot-2024-04-15-at-6.09.02 PM.png
END:VEVENT
BEGIN:VEVENT
DTSTART;VALUE=DATE:20230924
DTEND;VALUE=DATE:20230925
DTSTAMP:20260422T205051
CREATED:20230409T173846Z
LAST-MODIFIED:20230910T065101Z
UID:10000590-1695513600-1695599999@circuitpartyinfo.com
SUMMARY:Real Bad - Folsom 2023
DESCRIPTION:
URL:https://circuitpartyinfo.com/event/real-bad-folsom-2023/
LOCATION:San Francisco\,  \, San Francisco\, CA\, United States
ATTACH;FMTTYPE=image/png:https://circuitpartyinfo.com/wp-content/uploads/2023/04/Screenshot-2023-09-09-at-7.49.42-PM.png
END:VEVENT
BEGIN:VEVENT
DTSTART;VALUE=DATE:20230730
DTEND;VALUE=DATE:20230731
DTSTAMP:20260422T205051
CREATED:20230607T054043Z
LAST-MODIFIED:20230607T054043Z
UID:10000748-1690675200-1690761599@circuitpartyinfo.com
SUMMARY:Ritual After hours
DESCRIPTION:
URL:https://circuitpartyinfo.com/event/ritual-after-hours/
LOCATION:San Francisco\,  \, San Francisco\, CA\, United States
ATTACH;FMTTYPE=image/png:https://circuitpartyinfo.com/wp-content/uploads/2023/06/Screenshot-2023-06-06-at-6.39.45-PM.png
END:VEVENT
END:VCALENDAR