BEGIN:VCALENDAR
VERSION:2.0
PRODID:-//Circuit Party Info - ECPv6.15.20//NONSGML v1.0//EN
CALSCALE:GREGORIAN
METHOD:PUBLISH
X-ORIGINAL-URL:https://circuitpartyinfo.com
X-WR-CALDESC:Events for Circuit Party Info
REFRESH-INTERVAL;VALUE=DURATION:PT1H
X-Robots-Tag:noindex
X-PUBLISHED-TTL:PT1H
BEGIN:VTIMEZONE
TZID:America/Los_Angeles
BEGIN:DAYLIGHT
TZOFFSETFROM:-0800
TZOFFSETTO:-0700
TZNAME:PDT
DTSTART:20230312T100000
END:DAYLIGHT
BEGIN:STANDARD
TZOFFSETFROM:-0700
TZOFFSETTO:-0800
TZNAME:PST
DTSTART:20231105T090000
END:STANDARD
BEGIN:DAYLIGHT
TZOFFSETFROM:-0800
TZOFFSETTO:-0700
TZNAME:PDT
DTSTART:20240310T100000
END:DAYLIGHT
BEGIN:STANDARD
TZOFFSETFROM:-0700
TZOFFSETTO:-0800
TZNAME:PST
DTSTART:20241103T090000
END:STANDARD
BEGIN:DAYLIGHT
TZOFFSETFROM:-0800
TZOFFSETTO:-0700
TZNAME:PDT
DTSTART:20250309T100000
END:DAYLIGHT
BEGIN:STANDARD
TZOFFSETFROM:-0700
TZOFFSETTO:-0800
TZNAME:PST
DTSTART:20251102T090000
END:STANDARD
BEGIN:DAYLIGHT
TZOFFSETFROM:-0800
TZOFFSETTO:-0700
TZNAME:PDT
DTSTART:20260308T100000
END:DAYLIGHT
BEGIN:STANDARD
TZOFFSETFROM:-0700
TZOFFSETTO:-0800
TZNAME:PST
DTSTART:20261101T090000
END:STANDARD
BEGIN:DAYLIGHT
TZOFFSETFROM:-0800
TZOFFSETTO:-0700
TZNAME:PDT
DTSTART:20270314T100000
END:DAYLIGHT
BEGIN:STANDARD
TZOFFSETFROM:-0700
TZOFFSETTO:-0800
TZNAME:PST
DTSTART:20271107T090000
END:STANDARD
END:VTIMEZONE
BEGIN:VTIMEZONE
TZID:UTC
BEGIN:STANDARD
TZOFFSETFROM:+0000
TZOFFSETTO:+0000
TZNAME:UTC
DTSTART:20220101T000000
END:STANDARD
END:VTIMEZONE
BEGIN:VEVENT
DTSTART;VALUE=DATE:20260313
DTEND;VALUE=DATE:20260314
DTSTAMP:20260422T211202
CREATED:20260227T230632Z
LAST-MODIFIED:20260227T230632Z
UID:10005492-1773360000-1773446399@circuitpartyinfo.com
SUMMARY:Pitbull at Bunker
DESCRIPTION:
URL:https://circuitpartyinfo.com/event/pitbull-at-bunker/
LOCATION:Toronto\,  \, Toronto\, Ontario\, Canada
ATTACH;FMTTYPE=image/jpeg:https://circuitpartyinfo.com/wp-content/uploads/2026/02/13THFLYER_900x.jpg
GEO:43.653226;-79.3831843
X-APPLE-STRUCTURED-LOCATION;VALUE=URI;X-ADDRESS=Toronto   Toronto Ontario Canada;X-APPLE-RADIUS=500;X-TITLE= :geo:-79.3831843,43.653226
END:VEVENT
BEGIN:VEVENT
DTSTART;VALUE=DATE:20260307
DTEND;VALUE=DATE:20260308
DTSTAMP:20260422T211202
CREATED:20260227T230946Z
LAST-MODIFIED:20260227T230946Z
UID:10005495-1772841600-1772927999@circuitpartyinfo.com
SUMMARY:Big 16
DESCRIPTION:
URL:https://circuitpartyinfo.com/event/big-16/
LOCATION:Toronto\,  \, Toronto\, Ontario\, Canada
ATTACH;FMTTYPE=image/webp:https://circuitpartyinfo.com/wp-content/uploads/2026/02/BIG16FLYER_002_900x.jpg.webp
GEO:43.653226;-79.3831843
X-APPLE-STRUCTURED-LOCATION;VALUE=URI;X-ADDRESS=Toronto   Toronto Ontario Canada;X-APPLE-RADIUS=500;X-TITLE= :geo:-79.3831843,43.653226
END:VEVENT
BEGIN:VEVENT
DTSTART;VALUE=DATE:20251231
DTEND;VALUE=DATE:20260101
DTSTAMP:20260422T211202
CREATED:20251210T223753Z
LAST-MODIFIED:20251210T223753Z
UID:10004875-1767139200-1767225599@circuitpartyinfo.com
SUMMARY:Pitbull NYE
DESCRIPTION:
URL:https://circuitpartyinfo.com/event/pitbull-nye/
LOCATION:Toronto\,  \, Toronto\, Ontario\, Canada
ATTACH;FMTTYPE=image/jpeg:https://circuitpartyinfo.com/wp-content/uploads/2025/12/591159391_18565258096013173_7563577316749787913_n.jpg
GEO:43.653226;-79.3831843
X-APPLE-STRUCTURED-LOCATION;VALUE=URI;X-ADDRESS=Toronto   Toronto Ontario Canada;X-APPLE-RADIUS=500;X-TITLE= :geo:-79.3831843,43.653226
END:VEVENT
BEGIN:VEVENT
DTSTART;VALUE=DATE:20251101
DTEND;VALUE=DATE:20251102
DTSTAMP:20260422T211202
CREATED:20250909T215200Z
LAST-MODIFIED:20250909T215200Z
UID:10004268-1761955200-1762041599@circuitpartyinfo.com
SUMMARY:Fright Night
DESCRIPTION:
URL:https://circuitpartyinfo.com/event/fright-night/
LOCATION:Toronto\,  \, Toronto\, Ontario\, Canada
ATTACH;FMTTYPE=image/jpeg:https://circuitpartyinfo.com/wp-content/uploads/2025/09/PITBULL_HALLOWEEN2025-TORONTO_11X17small_540x.jpg
GEO:43.653226;-79.3831843
X-APPLE-STRUCTURED-LOCATION;VALUE=URI;X-ADDRESS=Toronto   Toronto Ontario Canada;X-APPLE-RADIUS=500;X-TITLE= :geo:-79.3831843,43.653226
END:VEVENT
BEGIN:VEVENT
DTSTART;VALUE=DATE:20251031
DTEND;VALUE=DATE:20251101
DTSTAMP:20260422T211202
CREATED:20250909T215104Z
LAST-MODIFIED:20250909T215104Z
UID:10004267-1761868800-1761955199@circuitpartyinfo.com
SUMMARY:Halloween Horrors
DESCRIPTION:
URL:https://circuitpartyinfo.com/event/halloween-horrors/
LOCATION:Ottawa\, Ottawa\, Canada
ATTACH;FMTTYPE=image/jpeg:https://circuitpartyinfo.com/wp-content/uploads/2025/09/545201882_18528969724054330_6695455194618698381_n.jpg
GEO:51.253775;-85.3232139
END:VEVENT
BEGIN:VEVENT
DTSTART;VALUE=DATE:20251011
DTEND;VALUE=DATE:20251012
DTSTAMP:20260422T211202
CREATED:20250903T220648Z
LAST-MODIFIED:20250903T220648Z
UID:10004218-1760140800-1760227199@circuitpartyinfo.com
SUMMARY:Gear: Playground
DESCRIPTION:
URL:https://circuitpartyinfo.com/event/gear-playground/
LOCATION:Montreal\,  \, Montreal\, Canada
ATTACH;FMTTYPE=image/jpeg:https://circuitpartyinfo.com/wp-content/uploads/2025/09/541902732_18544267408013173_4958622294409787976_n.jpg
GEO:45.5018869;-73.5673919
X-APPLE-STRUCTURED-LOCATION;VALUE=URI;X-ADDRESS=Montreal   Montreal Canada;X-APPLE-RADIUS=500;X-TITLE= :geo:-73.5673919,45.5018869
END:VEVENT
BEGIN:VEVENT
DTSTART;VALUE=DATE:20250627
DTEND;VALUE=DATE:20250628
DTSTAMP:20260422T211202
CREATED:20250426T004124Z
LAST-MODIFIED:20250426T004124Z
UID:10003656-1750982400-1751068799@circuitpartyinfo.com
SUMMARY:Fetish Life
DESCRIPTION:
URL:https://circuitpartyinfo.com/event/fetish-life/
LOCATION:Toronto\,  \, Toronto\, Ontario\, Canada
ATTACH;FMTTYPE=image/jpeg:https://circuitpartyinfo.com/wp-content/uploads/2025/04/491444508_18503253298054330_7233343448651572210_n.jpg
GEO:43.653226;-79.3831843
X-APPLE-STRUCTURED-LOCATION;VALUE=URI;X-ADDRESS=Toronto   Toronto Ontario Canada;X-APPLE-RADIUS=500;X-TITLE= :geo:-79.3831843,43.653226
END:VEVENT
BEGIN:VEVENT
DTSTART;VALUE=DATE:20250517
DTEND;VALUE=DATE:20250518
DTSTAMP:20260422T211202
CREATED:20250426T004030Z
LAST-MODIFIED:20250426T004030Z
UID:10003655-1747440000-1747526399@circuitpartyinfo.com
SUMMARY:BIG 15 Anniversary Party
DESCRIPTION:
URL:https://circuitpartyinfo.com/event/big-15-anniversary-party/
LOCATION:Toronto\,  \, Toronto\, Ontario\, Canada
ATTACH;FMTTYPE=image/webp:https://circuitpartyinfo.com/wp-content/uploads/2025/04/PITBULL_15YEARANNIVERSARY_11X17_20f23ce9-c9cd-48db-8997-bf9ccb570c9b_540x.jpg.webp
GEO:43.653226;-79.3831843
X-APPLE-STRUCTURED-LOCATION;VALUE=URI;X-ADDRESS=Toronto   Toronto Ontario Canada;X-APPLE-RADIUS=500;X-TITLE= :geo:-79.3831843,43.653226
END:VEVENT
BEGIN:VEVENT
DTSTART;VALUE=DATE:20241231
DTEND;VALUE=DATE:20250101
DTSTAMP:20260422T211202
CREATED:20241126T211442Z
LAST-MODIFIED:20241126T211442Z
UID:10002929-1735603200-1735689599@circuitpartyinfo.com
SUMMARY:Neon New Year's Eve
DESCRIPTION:
URL:https://circuitpartyinfo.com/event/neon-new-years-eve/
LOCATION:Toronto\,  \, Toronto\, Ontario\, Canada
ATTACH;FMTTYPE=image/webp:https://circuitpartyinfo.com/wp-content/uploads/2024/11/ABDFF730-89E5-46C7-9851-A0A590FB1E57_2048x2048.jpg.webp
GEO:43.653226;-79.3831843
X-APPLE-STRUCTURED-LOCATION;VALUE=URI;X-ADDRESS=Toronto   Toronto Ontario Canada;X-APPLE-RADIUS=500;X-TITLE= :geo:-79.3831843,43.653226
END:VEVENT
BEGIN:VEVENT
DTSTART;VALUE=DATE:20240628
DTEND;VALUE=DATE:20240630
DTSTAMP:20260422T211202
CREATED:20240508T213508Z
LAST-MODIFIED:20240508T213508Z
UID:10002072-1719532800-1719705599@circuitpartyinfo.com
SUMMARY:Pitbull Toronto Pride
DESCRIPTION:
URL:https://circuitpartyinfo.com/event/pitbull-toronto-pride/
LOCATION:Toronto\,  \, Toronto\, Ontario\, Canada
ATTACH;FMTTYPE=image/webp:https://circuitpartyinfo.com/wp-content/uploads/2024/05/PITBULL_PRIDE_COMBO-2024_940x.jpg.webp
GEO:43.653226;-79.3831843
X-APPLE-STRUCTURED-LOCATION;VALUE=URI;X-ADDRESS=Toronto   Toronto Ontario Canada;X-APPLE-RADIUS=500;X-TITLE= :geo:-79.3831843,43.653226
END:VEVENT
BEGIN:VEVENT
DTSTART;VALUE=DATE:20230624
DTEND;VALUE=DATE:20230625
DTSTAMP:20260422T211202
CREATED:20230412T071131Z
LAST-MODIFIED:20230412T071131Z
UID:10000598-1687564800-1687651199@circuitpartyinfo.com
SUMMARY:Pitbull! Pride
DESCRIPTION:
URL:https://circuitpartyinfo.com/event/pitbull-pride/
LOCATION:Toronto\,  \, Toronto\, Ontario\, Canada
GEO:43.653226;-79.3831843
X-APPLE-STRUCTURED-LOCATION;VALUE=URI;X-ADDRESS=Toronto   Toronto Ontario Canada;X-APPLE-RADIUS=500;X-TITLE= :geo:-79.3831843,43.653226
END:VEVENT
END:VCALENDAR