BEGIN:VCALENDAR
VERSION:2.0
PRODID:-//Circuit Party Info - ECPv6.15.20//NONSGML v1.0//EN
CALSCALE:GREGORIAN
METHOD:PUBLISH
X-ORIGINAL-URL:https://circuitpartyinfo.com
X-WR-CALDESC:Events for Circuit Party Info
REFRESH-INTERVAL;VALUE=DURATION:PT1H
X-Robots-Tag:noindex
X-PUBLISHED-TTL:PT1H
BEGIN:VTIMEZONE
TZID:America/Los_Angeles
BEGIN:DAYLIGHT
TZOFFSETFROM:-0800
TZOFFSETTO:-0700
TZNAME:PDT
DTSTART:20250309T100000
END:DAYLIGHT
BEGIN:STANDARD
TZOFFSETFROM:-0700
TZOFFSETTO:-0800
TZNAME:PST
DTSTART:20251102T090000
END:STANDARD
BEGIN:DAYLIGHT
TZOFFSETFROM:-0800
TZOFFSETTO:-0700
TZNAME:PDT
DTSTART:20260308T100000
END:DAYLIGHT
BEGIN:STANDARD
TZOFFSETFROM:-0700
TZOFFSETTO:-0800
TZNAME:PST
DTSTART:20261101T090000
END:STANDARD
BEGIN:DAYLIGHT
TZOFFSETFROM:-0800
TZOFFSETTO:-0700
TZNAME:PDT
DTSTART:20270314T100000
END:DAYLIGHT
BEGIN:STANDARD
TZOFFSETFROM:-0700
TZOFFSETTO:-0800
TZNAME:PST
DTSTART:20271107T090000
END:STANDARD
BEGIN:DAYLIGHT
TZOFFSETFROM:-0800
TZOFFSETTO:-0700
TZNAME:PDT
DTSTART:20280312T100000
END:DAYLIGHT
BEGIN:STANDARD
TZOFFSETFROM:-0700
TZOFFSETTO:-0800
TZNAME:PST
DTSTART:20281105T090000
END:STANDARD
END:VTIMEZONE
BEGIN:VEVENT
DTSTART;VALUE=DATE:20260424
DTEND;VALUE=DATE:20260425
DTSTAMP:20260424T111155
CREATED:20260224T224235Z
LAST-MODIFIED:20260224T224235Z
UID:10005477-1776988800-1777075199@circuitpartyinfo.com
SUMMARY:Pervert XXL
DESCRIPTION:
URL:https://circuitpartyinfo.com/event/pervert-xxl-5/
LOCATION:Rome\, Italy\,  \, Rome\, Italy
ATTACH;FMTTYPE=image/jpeg:https://circuitpartyinfo.com/wp-content/uploads/2026/02/muccassassina-matinee-pervert-xxl-roma-xceed-square-23ba.jpg
GEO:41.9027835;12.4963655
X-APPLE-STRUCTURED-LOCATION;VALUE=URI;X-ADDRESS=Rome Italy   Rome Italy;X-APPLE-RADIUS=500;X-TITLE= :geo:12.4963655,41.9027835
END:VEVENT
BEGIN:VEVENT
DTSTART;VALUE=DATE:20260619
DTEND;VALUE=DATE:20260622
DTSTAMP:20260424T111155
CREATED:20260129T233630Z
LAST-MODIFIED:20260401T114242Z
UID:10005266-1781827200-1782086399@circuitpartyinfo.com
SUMMARY:Circuit Festival Asia 2026
DESCRIPTION:
URL:https://circuitpartyinfo.com/event/circuit-festival-asia-2026/
LOCATION:Pattaya\, Thailand\,  \, Pattaya\, Thailand
ATTACH;FMTTYPE=image/jpeg:https://circuitpartyinfo.com/wp-content/uploads/2026/01/658030617_18343173907243657_5414320506494371211_n.jpg
GEO:12.9235557;100.8824551
X-APPLE-STRUCTURED-LOCATION;VALUE=URI;X-ADDRESS=Pattaya Thailand   Pattaya Thailand;X-APPLE-RADIUS=500;X-TITLE= :geo:100.8824551,12.9235557
END:VEVENT
BEGIN:VEVENT
DTSTART;VALUE=DATE:20260801
DTEND;VALUE=DATE:20260810
DTSTAMP:20260424T111155
CREATED:20250823T005348Z
LAST-MODIFIED:20260408T220004Z
UID:10004163-1785542400-1786319999@circuitpartyinfo.com
SUMMARY:Circuit Festival 2026
DESCRIPTION:
URL:https://circuitpartyinfo.com/event/circuit-festival-2026/
LOCATION:Barcelona\,  \, Barcelona\, Spain
ATTACH;FMTTYPE=image/jpeg:https://circuitpartyinfo.com/wp-content/uploads/2025/08/Untitled-1-3.jpg
END:VEVENT
BEGIN:VEVENT
DTSTART;VALUE=DATE:20270326
DTEND;VALUE=DATE:20270329
DTSTAMP:20260424T111155
CREATED:20260410T220829Z
LAST-MODIFIED:20260410T220829Z
UID:10005839-1806019200-1806278399@circuitpartyinfo.com
SUMMARY:Matinée Easter Weekend 2027
DESCRIPTION:
URL:https://circuitpartyinfo.com/event/matinee-easter-weekend-2027/
LOCATION:Barcelona\,  \, Barcelona\, Spain
ATTACH;FMTTYPE=image/jpeg:https://circuitpartyinfo.com/wp-content/uploads/2026/04/IMG_4044.jpeg
END:VEVENT
END:VCALENDAR