BEGIN:VCALENDAR
VERSION:2.0
PRODID:-//Circuit Party Info - ECPv6.15.20//NONSGML v1.0//EN
CALSCALE:GREGORIAN
METHOD:PUBLISH
X-WR-CALNAME:Circuit Party Info
X-ORIGINAL-URL:https://circuitpartyinfo.com
X-WR-CALDESC:Events for Circuit Party Info
REFRESH-INTERVAL;VALUE=DURATION:PT1H
X-Robots-Tag:noindex
X-PUBLISHED-TTL:PT1H
BEGIN:VTIMEZONE
TZID:America/Los_Angeles
BEGIN:DAYLIGHT
TZOFFSETFROM:-0800
TZOFFSETTO:-0700
TZNAME:PDT
DTSTART:20240310T100000
END:DAYLIGHT
BEGIN:STANDARD
TZOFFSETFROM:-0700
TZOFFSETTO:-0800
TZNAME:PST
DTSTART:20241103T090000
END:STANDARD
BEGIN:DAYLIGHT
TZOFFSETFROM:-0800
TZOFFSETTO:-0700
TZNAME:PDT
DTSTART:20250309T100000
END:DAYLIGHT
BEGIN:STANDARD
TZOFFSETFROM:-0700
TZOFFSETTO:-0800
TZNAME:PST
DTSTART:20251102T090000
END:STANDARD
BEGIN:DAYLIGHT
TZOFFSETFROM:-0800
TZOFFSETTO:-0700
TZNAME:PDT
DTSTART:20260308T100000
END:DAYLIGHT
BEGIN:STANDARD
TZOFFSETFROM:-0700
TZOFFSETTO:-0800
TZNAME:PST
DTSTART:20261101T090000
END:STANDARD
BEGIN:DAYLIGHT
TZOFFSETFROM:-0800
TZOFFSETTO:-0700
TZNAME:PDT
DTSTART:20270314T100000
END:DAYLIGHT
BEGIN:STANDARD
TZOFFSETFROM:-0700
TZOFFSETTO:-0800
TZNAME:PST
DTSTART:20271107T090000
END:STANDARD
END:VTIMEZONE
BEGIN:VEVENT
DTSTART;VALUE=DATE:20260411
DTEND;VALUE=DATE:20260412
DTSTAMP:20260422T224639
CREATED:20260407T224603Z
LAST-MODIFIED:20260407T224603Z
UID:10005813-1775865600-1775951999@circuitpartyinfo.com
SUMMARY:Bunker: Saturday Sessions
DESCRIPTION:
URL:https://circuitpartyinfo.com/event/bunker-saturday-sessions-2/
LOCATION:Toronto\,  \, Toronto\, Ontario\, Canada
ATTACH;FMTTYPE=image/jpeg:https://circuitpartyinfo.com/wp-content/uploads/2026/04/Screenshot-2026-04-07-at-6.44.jpg
GEO:43.653226;-79.3831843
X-APPLE-STRUCTURED-LOCATION;VALUE=URI;X-ADDRESS=Toronto   Toronto Ontario Canada;X-APPLE-RADIUS=500;X-TITLE= :geo:-79.3831843,43.653226
END:VEVENT
BEGIN:VEVENT
DTSTART;VALUE=DATE:20260321
DTEND;VALUE=DATE:20260322
DTSTAMP:20260422T224639
CREATED:20260318T115517Z
LAST-MODIFIED:20260318T115517Z
UID:10005626-1774051200-1774137599@circuitpartyinfo.com
SUMMARY:DJ Jerome Robins - Bunker
DESCRIPTION:
URL:https://circuitpartyinfo.com/event/dj-jerome-robins-bunker/
LOCATION:Toronto\,  \, Toronto\, Ontario\, Canada
ATTACH;FMTTYPE=image/jpeg:https://circuitpartyinfo.com/wp-content/uploads/2026/03/652051192_18351693121237722_1190073535697869931_n.jpg
GEO:43.653226;-79.3831843
X-APPLE-STRUCTURED-LOCATION;VALUE=URI;X-ADDRESS=Toronto   Toronto Ontario Canada;X-APPLE-RADIUS=500;X-TITLE= :geo:-79.3831843,43.653226
END:VEVENT
BEGIN:VEVENT
DTSTART;VALUE=DATE:20260214
DTEND;VALUE=DATE:20260215
DTSTAMP:20260422T224639
CREATED:20260127T001632Z
LAST-MODIFIED:20260127T001632Z
UID:10005218-1771027200-1771113599@circuitpartyinfo.com
SUMMARY:Saturday Sessions: Valentines Edition
DESCRIPTION:
URL:https://circuitpartyinfo.com/event/saturday-sessions-valentines-edition/
LOCATION:Toronto\,  \, Toronto\, Ontario\, Canada
ATTACH;FMTTYPE=image/jpeg:https://circuitpartyinfo.com/wp-content/uploads/2026/01/622293009_18344497135237722_3636907935449826102_n.heic.jpeg
GEO:43.653226;-79.3831843
X-APPLE-STRUCTURED-LOCATION;VALUE=URI;X-ADDRESS=Toronto   Toronto Ontario Canada;X-APPLE-RADIUS=500;X-TITLE= :geo:-79.3831843,43.653226
END:VEVENT
BEGIN:VEVENT
DTSTART;VALUE=DATE:20260207
DTEND;VALUE=DATE:20260208
DTSTAMP:20260422T224639
CREATED:20260203T224840Z
LAST-MODIFIED:20260203T224840Z
UID:10005317-1770422400-1770508799@circuitpartyinfo.com
SUMMARY:Saturday Sessions
DESCRIPTION:
URL:https://circuitpartyinfo.com/event/saturday-sessions/
LOCATION:Toronto\,  \, Toronto\, Ontario\, Canada
ATTACH;FMTTYPE=image/png:https://circuitpartyinfo.com/wp-content/uploads/2026/02/Screenshot-2026-02-03-at-5.47.52-PM.png
GEO:43.653226;-79.3831843
X-APPLE-STRUCTURED-LOCATION;VALUE=URI;X-ADDRESS=Toronto   Toronto Ontario Canada;X-APPLE-RADIUS=500;X-TITLE= :geo:-79.3831843,43.653226
END:VEVENT
BEGIN:VEVENT
DTSTART;VALUE=DATE:20260206
DTEND;VALUE=DATE:20260207
DTSTAMP:20260422T224639
CREATED:20260130T224751Z
LAST-MODIFIED:20260130T224751Z
UID:10005279-1770336000-1770422399@circuitpartyinfo.com
SUMMARY:Bunker Love Takeover
DESCRIPTION:
URL:https://circuitpartyinfo.com/event/bunker-love-takeover/
LOCATION:Toronto\,  \, Toronto\, Ontario\, Canada
ATTACH;FMTTYPE=image/jpeg:https://circuitpartyinfo.com/wp-content/uploads/2026/01/WhatsApp-Image-2026-01-26-at-19_28_38.jpeg
GEO:43.653226;-79.3831843
X-APPLE-STRUCTURED-LOCATION;VALUE=URI;X-ADDRESS=Toronto   Toronto Ontario Canada;X-APPLE-RADIUS=500;X-TITLE= :geo:-79.3831843,43.653226
END:VEVENT
BEGIN:VEVENT
DTSTART;VALUE=DATE:20260130
DTEND;VALUE=DATE:20260131
DTSTAMP:20260422T224639
CREATED:20251223T211437Z
LAST-MODIFIED:20251223T211437Z
UID:10004970-1769731200-1769817599@circuitpartyinfo.com
SUMMARY:House Boy
DESCRIPTION:
URL:https://circuitpartyinfo.com/event/house-boy-4/
LOCATION:Toronto\,  \, Toronto\, Ontario\, Canada
ATTACH;FMTTYPE=image/jpeg:https://circuitpartyinfo.com/wp-content/uploads/2025/12/584404011_18553555285029000_4290023266501725819_n.heic.jpeg
GEO:43.653226;-79.3831843
X-APPLE-STRUCTURED-LOCATION;VALUE=URI;X-ADDRESS=Toronto   Toronto Ontario Canada;X-APPLE-RADIUS=500;X-TITLE= :geo:-79.3831843,43.653226
END:VEVENT
BEGIN:VEVENT
DTSTART;VALUE=DATE:20260124
DTEND;VALUE=DATE:20260125
DTSTAMP:20260422T224639
CREATED:20260115T215114Z
LAST-MODIFIED:20260115T215114Z
UID:10005128-1769212800-1769299199@circuitpartyinfo.com
SUMMARY:Bunker Extended Saturday Sessions
DESCRIPTION:
URL:https://circuitpartyinfo.com/event/bunker-extended-saturday-sessions/
LOCATION:Toronto\,  \, Toronto\, Ontario\, Canada
ATTACH;FMTTYPE=image/jpeg:https://circuitpartyinfo.com/wp-content/uploads/2026/01/WhatsApp-Image-2026-01-13-at-09_30_48.jpeg
GEO:43.653226;-79.3831843
X-APPLE-STRUCTURED-LOCATION;VALUE=URI;X-ADDRESS=Toronto   Toronto Ontario Canada;X-APPLE-RADIUS=500;X-TITLE= :geo:-79.3831843,43.653226
END:VEVENT
BEGIN:VEVENT
DTSTART;VALUE=DATE:20260109
DTEND;VALUE=DATE:20260110
DTSTAMP:20260422T224639
CREATED:20260106T235044Z
LAST-MODIFIED:20260106T235044Z
UID:10005028-1767916800-1768003199@circuitpartyinfo.com
SUMMARY:Bunker: Pitbull Winter Takeover
DESCRIPTION:
URL:https://circuitpartyinfo.com/event/bunker-pitbull-winter-takeover/
LOCATION:Toronto\,  \, Toronto\, Ontario\, Canada
ATTACH;FMTTYPE=image/jpeg:https://circuitpartyinfo.com/wp-content/uploads/2026/01/Image-2026-01-04-at-10_18-PM.jpeg
GEO:43.653226;-79.3831843
X-APPLE-STRUCTURED-LOCATION;VALUE=URI;X-ADDRESS=Toronto   Toronto Ontario Canada;X-APPLE-RADIUS=500;X-TITLE= :geo:-79.3831843,43.653226
END:VEVENT
BEGIN:VEVENT
DTSTART;VALUE=DATE:20260101
DTEND;VALUE=DATE:20260102
DTSTAMP:20260422T224639
CREATED:20251124T223052Z
LAST-MODIFIED:20251129T173536Z
UID:10004756-1767225600-1767311999@circuitpartyinfo.com
SUMMARY:The Next Step
DESCRIPTION:
URL:https://circuitpartyinfo.com/event/the-next-step/
LOCATION:Toronto\,  \, Toronto\, Ontario\, Canada
ATTACH;FMTTYPE=image/jpeg:https://circuitpartyinfo.com/wp-content/uploads/2025/11/588429856_18338010211237722_8720356376927371455_n.heic.jpeg
GEO:43.653226;-79.3831843
X-APPLE-STRUCTURED-LOCATION;VALUE=URI;X-ADDRESS=Toronto   Toronto Ontario Canada;X-APPLE-RADIUS=500;X-TITLE= :geo:-79.3831843,43.653226
END:VEVENT
BEGIN:VEVENT
DTSTART;VALUE=DATE:20251231
DTEND;VALUE=DATE:20260101
DTSTAMP:20260422T224639
CREATED:20251118T223252Z
LAST-MODIFIED:20251118T223252Z
UID:10004708-1767139200-1767225599@circuitpartyinfo.com
SUMMARY:No Resolutions
DESCRIPTION:
URL:https://circuitpartyinfo.com/event/no-resolutions/
LOCATION:Toronto\,  \, Toronto\, Ontario\, Canada
ATTACH;FMTTYPE=image/jpeg:https://circuitpartyinfo.com/wp-content/uploads/2025/11/Screenshot-2025-11-18-at-5.31.39-PM.jpg
GEO:43.653226;-79.3831843
X-APPLE-STRUCTURED-LOCATION;VALUE=URI;X-ADDRESS=Toronto   Toronto Ontario Canada;X-APPLE-RADIUS=500;X-TITLE= :geo:-79.3831843,43.653226
END:VEVENT
BEGIN:VEVENT
DTSTART;VALUE=DATE:20251226
DTEND;VALUE=DATE:20251227
DTSTAMP:20260422T224639
CREATED:20251222T230416Z
LAST-MODIFIED:20251222T230432Z
UID:10004962-1766707200-1766793599@circuitpartyinfo.com
SUMMARY:Boxing Day Special
DESCRIPTION:
URL:https://circuitpartyinfo.com/event/boxing-day-special/
LOCATION:Toronto\,  \, Toronto\, Ontario\, Canada
ATTACH;FMTTYPE=image/jpeg:https://circuitpartyinfo.com/wp-content/uploads/2025/12/WhatsApp-Image-2025-12-20-at-21_06_57.jpeg
GEO:43.653226;-79.3831843
X-APPLE-STRUCTURED-LOCATION;VALUE=URI;X-ADDRESS=Toronto   Toronto Ontario Canada;X-APPLE-RADIUS=500;X-TITLE= :geo:-79.3831843,43.653226
END:VEVENT
BEGIN:VEVENT
DTSTART;VALUE=DATE:20251220
DTEND;VALUE=DATE:20251221
DTSTAMP:20260422T224639
CREATED:20251211T233640Z
LAST-MODIFIED:20251211T233640Z
UID:10004884-1766188800-1766275199@circuitpartyinfo.com
SUMMARY:Bunker Saturday Sessions
DESCRIPTION:
URL:https://circuitpartyinfo.com/event/bunker-saturday-sessions/
LOCATION:Toronto\,  \, Toronto\, Ontario\, Canada
ATTACH;FMTTYPE=image/jpeg:https://circuitpartyinfo.com/wp-content/uploads/2025/12/588637115_18339409822237722_4113680572554097631_n.heic.jpeg
GEO:43.653226;-79.3831843
X-APPLE-STRUCTURED-LOCATION;VALUE=URI;X-ADDRESS=Toronto   Toronto Ontario Canada;X-APPLE-RADIUS=500;X-TITLE= :geo:-79.3831843,43.653226
END:VEVENT
BEGIN:VEVENT
DTSTART;VALUE=DATE:20251219
DTEND;VALUE=DATE:20251220
DTSTAMP:20260422T224639
CREATED:20251202T232013Z
LAST-MODIFIED:20251202T232013Z
UID:10004817-1766102400-1766188799@circuitpartyinfo.com
SUMMARY:Pitbull
DESCRIPTION:
URL:https://circuitpartyinfo.com/event/pitbull/
LOCATION:Toronto\,  \, Toronto\, Ontario\, Canada
ATTACH;FMTTYPE=image/jpeg:https://circuitpartyinfo.com/wp-content/uploads/2025/12/pitbull-dec-19-25.jpg
GEO:43.653226;-79.3831843
X-APPLE-STRUCTURED-LOCATION;VALUE=URI;X-ADDRESS=Toronto   Toronto Ontario Canada;X-APPLE-RADIUS=500;X-TITLE= :geo:-79.3831843,43.653226
END:VEVENT
BEGIN:VEVENT
DTSTART;VALUE=DATE:20251101
DTEND;VALUE=DATE:20251102
DTSTAMP:20260422T224639
CREATED:20251015T210622Z
LAST-MODIFIED:20251015T210622Z
UID:10004509-1761955200-1762041599@circuitpartyinfo.com
SUMMARY:Halloween II
DESCRIPTION:
URL:https://circuitpartyinfo.com/event/halloween-ii/
LOCATION:Toronto\,  \, Toronto\, Ontario\, Canada
ATTACH;FMTTYPE=image/png:https://circuitpartyinfo.com/wp-content/uploads/2025/10/b69861_e3fe82b06a134964ba8e365b7895797fmv2.png
GEO:43.653226;-79.3831843
X-APPLE-STRUCTURED-LOCATION;VALUE=URI;X-ADDRESS=Toronto   Toronto Ontario Canada;X-APPLE-RADIUS=500;X-TITLE= :geo:-79.3831843,43.653226
END:VEVENT
BEGIN:VEVENT
DTSTART;VALUE=DATE:20251031
DTEND;VALUE=DATE:20251101
DTSTAMP:20260422T224639
CREATED:20251015T210427Z
LAST-MODIFIED:20251015T210452Z
UID:10004508-1761868800-1761955199@circuitpartyinfo.com
SUMMARY:Voodoo
DESCRIPTION:
URL:https://circuitpartyinfo.com/event/voodoo-halloween/
LOCATION:Toronto\,  \, Toronto\, Ontario\, Canada
ATTACH;FMTTYPE=image/jpeg:https://circuitpartyinfo.com/wp-content/uploads/2025/10/IMG_0638.jpeg
GEO:43.653226;-79.3831843
X-APPLE-STRUCTURED-LOCATION;VALUE=URI;X-ADDRESS=Toronto   Toronto Ontario Canada;X-APPLE-RADIUS=500;X-TITLE= :geo:-79.3831843,43.653226
END:VEVENT
END:VCALENDAR