BEGIN:VCALENDAR
VERSION:2.0
PRODID:-//Circuit Party Info - ECPv6.15.20//NONSGML v1.0//EN
CALSCALE:GREGORIAN
METHOD:PUBLISH
X-WR-CALNAME:Circuit Party Info
X-ORIGINAL-URL:https://circuitpartyinfo.com
X-WR-CALDESC:Events for Circuit Party Info
REFRESH-INTERVAL;VALUE=DURATION:PT1H
X-Robots-Tag:noindex
X-PUBLISHED-TTL:PT1H
BEGIN:VTIMEZONE
TZID:America/Los_Angeles
BEGIN:DAYLIGHT
TZOFFSETFROM:-0800
TZOFFSETTO:-0700
TZNAME:PDT
DTSTART:20250309T100000
END:DAYLIGHT
BEGIN:STANDARD
TZOFFSETFROM:-0700
TZOFFSETTO:-0800
TZNAME:PST
DTSTART:20251102T090000
END:STANDARD
BEGIN:DAYLIGHT
TZOFFSETFROM:-0800
TZOFFSETTO:-0700
TZNAME:PDT
DTSTART:20260308T100000
END:DAYLIGHT
BEGIN:STANDARD
TZOFFSETFROM:-0700
TZOFFSETTO:-0800
TZNAME:PST
DTSTART:20261101T090000
END:STANDARD
BEGIN:DAYLIGHT
TZOFFSETFROM:-0800
TZOFFSETTO:-0700
TZNAME:PDT
DTSTART:20270314T100000
END:DAYLIGHT
BEGIN:STANDARD
TZOFFSETFROM:-0700
TZOFFSETTO:-0800
TZNAME:PST
DTSTART:20271107T090000
END:STANDARD
END:VTIMEZONE
BEGIN:VEVENT
DTSTART;VALUE=DATE:20260509
DTEND;VALUE=DATE:20260510
DTSTAMP:20260424T211950
CREATED:20260330T213457Z
LAST-MODIFIED:20260330T213516Z
UID:10005737-1778284800-1778371199@circuitpartyinfo.com
SUMMARY:BIG
DESCRIPTION:
URL:https://circuitpartyinfo.com/event/big/
LOCATION:Paris\,  \, Paris\, France
GEO:48.856614;2.3522219
X-APPLE-STRUCTURED-LOCATION;VALUE=URI;X-ADDRESS=Paris   Paris France;X-APPLE-RADIUS=500;X-TITLE= :geo:2.3522219,48.856614
END:VEVENT
BEGIN:VEVENT
DTSTART;VALUE=DATE:20260516
DTEND;VALUE=DATE:20260517
DTSTAMP:20260424T211950
CREATED:20260424T221136Z
LAST-MODIFIED:20260424T221136Z
UID:10006018-1778889600-1778975999@circuitpartyinfo.com
SUMMARY:BIG Party Presents Sagi Kariv
DESCRIPTION:
URL:https://circuitpartyinfo.com/event/big-party-presents-sagi-kariv/
LOCATION:Paris\,  \, Paris\, France
ATTACH;FMTTYPE=image/jpeg:https://circuitpartyinfo.com/wp-content/uploads/2026/04/675282527_18357612853227184_6613102658397570695_n.jpg
GEO:48.856614;2.3522219
X-APPLE-STRUCTURED-LOCATION;VALUE=URI;X-ADDRESS=Paris   Paris France;X-APPLE-RADIUS=500;X-TITLE= :geo:2.3522219,48.856614
END:VEVENT
END:VCALENDAR