BEGIN:VCALENDAR
VERSION:2.0
PRODID:-//Circuit Party Info - ECPv6.15.20//NONSGML v1.0//EN
CALSCALE:GREGORIAN
METHOD:PUBLISH
X-ORIGINAL-URL:https://circuitpartyinfo.com
X-WR-CALDESC:Events for Circuit Party Info
REFRESH-INTERVAL;VALUE=DURATION:PT1H
X-Robots-Tag:noindex
X-PUBLISHED-TTL:PT1H
BEGIN:VTIMEZONE
TZID:UTC
BEGIN:STANDARD
TZOFFSETFROM:+0000
TZOFFSETTO:+0000
TZNAME:UTC
DTSTART:20220101T000000
END:STANDARD
END:VTIMEZONE
BEGIN:VEVENT
DTSTART;VALUE=DATE:20230219
DTEND;VALUE=DATE:20230220
DTSTAMP:20260422T230944
CREATED:20230107T224050Z
LAST-MODIFIED:20230107T224143Z
UID:10000249-1676764800-1676851199@circuitpartyinfo.com
SUMMARY:Super Guapo
DESCRIPTION:
URL:https://circuitpartyinfo.com/event/super-guapo/
LOCATION:Rio de Janeiro\,  \, Rio de Janeiro\, Brazil
GEO:-22.9068467;-43.1728965
X-APPLE-STRUCTURED-LOCATION;VALUE=URI;X-ADDRESS=Rio de Janeiro   Rio de Janeiro Brazil;X-APPLE-RADIUS=500;X-TITLE= :geo:-43.1728965,-22.9068467
END:VEVENT
BEGIN:VEVENT
DTSTART;VALUE=DATE:20230218
DTEND;VALUE=DATE:20230219
DTSTAMP:20260422T230944
CREATED:20230107T223951Z
LAST-MODIFIED:20230107T223951Z
UID:10000248-1676678400-1676764799@circuitpartyinfo.com
SUMMARY:Sabado Carnaval
DESCRIPTION:
URL:https://circuitpartyinfo.com/event/sabado-carnaval/
LOCATION:Rio de Janeiro\,  \, Rio de Janeiro\, Brazil
GEO:-22.9068467;-43.1728965
X-APPLE-STRUCTURED-LOCATION;VALUE=URI;X-ADDRESS=Rio de Janeiro   Rio de Janeiro Brazil;X-APPLE-RADIUS=500;X-TITLE= :geo:-43.1728965,-22.9068467
END:VEVENT
BEGIN:VEVENT
DTSTART;VALUE=DATE:20230204
DTEND;VALUE=DATE:20230205
DTSTAMP:20260422T230944
CREATED:20230107T223810Z
LAST-MODIFIED:20230107T223810Z
UID:10000247-1675468800-1675555199@circuitpartyinfo.com
SUMMARY:Guapo - Ole!
DESCRIPTION:
URL:https://circuitpartyinfo.com/event/guapo-ole/
LOCATION:São Paulo\,  \, São Paulo\, Brazil
GEO:-23.5557714;-46.6395571
X-APPLE-STRUCTURED-LOCATION;VALUE=URI;X-ADDRESS=São Paulo   São Paulo Brazil;X-APPLE-RADIUS=500;X-TITLE= :geo:-46.6395571,-23.5557714
END:VEVENT
END:VCALENDAR