BEGIN:VCALENDAR
VERSION:2.0
PRODID:-//Circuit Party Info - ECPv6.15.20//NONSGML v1.0//EN
CALSCALE:GREGORIAN
METHOD:PUBLISH
X-WR-CALNAME:Circuit Party Info
X-ORIGINAL-URL:https://circuitpartyinfo.com
X-WR-CALDESC:Events for Circuit Party Info
REFRESH-INTERVAL;VALUE=DURATION:PT1H
X-Robots-Tag:noindex
X-PUBLISHED-TTL:PT1H
BEGIN:VTIMEZONE
TZID:America/Los_Angeles
BEGIN:DAYLIGHT
TZOFFSETFROM:-0800
TZOFFSETTO:-0700
TZNAME:PDT
DTSTART:20230312T100000
END:DAYLIGHT
BEGIN:STANDARD
TZOFFSETFROM:-0700
TZOFFSETTO:-0800
TZNAME:PST
DTSTART:20231105T090000
END:STANDARD
BEGIN:DAYLIGHT
TZOFFSETFROM:-0800
TZOFFSETTO:-0700
TZNAME:PDT
DTSTART:20240310T100000
END:DAYLIGHT
BEGIN:STANDARD
TZOFFSETFROM:-0700
TZOFFSETTO:-0800
TZNAME:PST
DTSTART:20241103T090000
END:STANDARD
BEGIN:DAYLIGHT
TZOFFSETFROM:-0800
TZOFFSETTO:-0700
TZNAME:PDT
DTSTART:20250309T100000
END:DAYLIGHT
BEGIN:STANDARD
TZOFFSETFROM:-0700
TZOFFSETTO:-0800
TZNAME:PST
DTSTART:20251102T090000
END:STANDARD
BEGIN:DAYLIGHT
TZOFFSETFROM:-0800
TZOFFSETTO:-0700
TZNAME:PDT
DTSTART:20260308T100000
END:DAYLIGHT
BEGIN:STANDARD
TZOFFSETFROM:-0700
TZOFFSETTO:-0800
TZNAME:PST
DTSTART:20261101T090000
END:STANDARD
BEGIN:DAYLIGHT
TZOFFSETFROM:-0800
TZOFFSETTO:-0700
TZNAME:PDT
DTSTART:20270314T100000
END:DAYLIGHT
BEGIN:STANDARD
TZOFFSETFROM:-0700
TZOFFSETTO:-0800
TZNAME:PST
DTSTART:20271107T090000
END:STANDARD
END:VTIMEZONE
BEGIN:VTIMEZONE
TZID:UTC
BEGIN:STANDARD
TZOFFSETFROM:+0000
TZOFFSETTO:+0000
TZNAME:UTC
DTSTART:20220101T000000
END:STANDARD
END:VTIMEZONE
BEGIN:VTIMEZONE
TZID:UTC
BEGIN:STANDARD
TZOFFSETFROM:+0000
TZOFFSETTO:+0000
TZNAME:UTC
DTSTART:20210101T000000
END:STANDARD
END:VTIMEZONE
BEGIN:VEVENT
DTSTART;VALUE=DATE:20260327
DTEND;VALUE=DATE:20260328
DTSTAMP:20260422T192903
CREATED:20260113T224037Z
LAST-MODIFIED:20260113T224037Z
UID:10005107-1774569600-1774655999@circuitpartyinfo.com
SUMMARY:Backdoor - 11th Anniversary
DESCRIPTION:
URL:https://circuitpartyinfo.com/event/backdoor-11th-anniversary/
LOCATION:Amsterdam\,  \, Amsterdam\, Netherlands
ATTACH;FMTTYPE=image/jpeg:https://circuitpartyinfo.com/wp-content/uploads/2026/01/606990561_18557595841055579_933122160263879404_n.jpg
GEO:52.3675734;4.9041389
X-APPLE-STRUCTURED-LOCATION;VALUE=URI;X-ADDRESS=Amsterdam   Amsterdam Netherlands;X-APPLE-RADIUS=500;X-TITLE= :geo:4.9041389,52.3675734
END:VEVENT
BEGIN:VEVENT
DTSTART;VALUE=DATE:20260221
DTEND;VALUE=DATE:20260222
DTSTAMP:20260422T192903
CREATED:20260104T175720Z
LAST-MODIFIED:20260122T223854Z
UID:10005006-1771632000-1771718399@circuitpartyinfo.com
SUMMARY:FunHouse: The Space Edition
DESCRIPTION:
URL:https://circuitpartyinfo.com/event/funhouse-space-edition/
LOCATION:Amsterdam\,  \, Amsterdam\, Netherlands
ATTACH;FMTTYPE=image/jpeg:https://circuitpartyinfo.com/wp-content/uploads/2026/01/621123294_18418942798143844_2166131491793781435_n.jpg
GEO:52.3675734;4.9041389
X-APPLE-STRUCTURED-LOCATION;VALUE=URI;X-ADDRESS=Amsterdam   Amsterdam Netherlands;X-APPLE-RADIUS=500;X-TITLE= :geo:4.9041389,52.3675734
END:VEVENT
BEGIN:VEVENT
DTSTART;VALUE=DATE:20251220
DTEND;VALUE=DATE:20251221
DTSTAMP:20260422T192903
CREATED:20250906T224637Z
LAST-MODIFIED:20251207T023748Z
UID:10004242-1766188800-1766275199@circuitpartyinfo.com
SUMMARY:FunHouse - The Xmas Edition
DESCRIPTION:
URL:https://circuitpartyinfo.com/event/funhouse-the-xmas-edition-2/
LOCATION:Amsterdam\,  \, Amsterdam\, Netherlands
ATTACH;FMTTYPE=image/jpeg:https://circuitpartyinfo.com/wp-content/uploads/2025/09/591165402_18413415712143844_2398985623280195939_n.jpg
GEO:52.3675734;4.9041389
X-APPLE-STRUCTURED-LOCATION;VALUE=URI;X-ADDRESS=Amsterdam   Amsterdam Netherlands;X-APPLE-RADIUS=500;X-TITLE= :geo:4.9041389,52.3675734
END:VEVENT
BEGIN:VEVENT
DTSTART;VALUE=DATE:20251018
DTEND;VALUE=DATE:20251019
DTSTAMP:20260422T192903
CREATED:20250718T210234Z
LAST-MODIFIED:20250718T210234Z
UID:10003995-1760745600-1760831999@circuitpartyinfo.com
SUMMARY:The Garden of Backdoor
DESCRIPTION:
URL:https://circuitpartyinfo.com/event/the-garden-of-backdoor/
LOCATION:Amsterdam\,  \, Amsterdam\, Netherlands
ATTACH;FMTTYPE=image/jpeg:https://circuitpartyinfo.com/wp-content/uploads/2025/07/520258475_18524513332055579_7689443098222907750_n.jpg
GEO:52.3675734;4.9041389
X-APPLE-STRUCTURED-LOCATION;VALUE=URI;X-ADDRESS=Amsterdam   Amsterdam Netherlands;X-APPLE-RADIUS=500;X-TITLE= :geo:4.9041389,52.3675734
END:VEVENT
BEGIN:VEVENT
DTSTART;VALUE=DATE:20251011
DTEND;VALUE=DATE:20251012
DTSTAMP:20260422T192903
CREATED:20250906T224013Z
LAST-MODIFIED:20250906T224013Z
UID:10004241-1760140800-1760227199@circuitpartyinfo.com
SUMMARY:FunHouse - Come Fly With Me
DESCRIPTION:
URL:https://circuitpartyinfo.com/event/funhouse-come-fly-with-me/
LOCATION:Amsterdam\,  \, Amsterdam\, Netherlands
ATTACH;FMTTYPE=image/jpeg:https://circuitpartyinfo.com/wp-content/uploads/2025/09/541912904_18527013577036662_1399436708811549717_n.jpg
GEO:52.3675734;4.9041389
X-APPLE-STRUCTURED-LOCATION;VALUE=URI;X-ADDRESS=Amsterdam   Amsterdam Netherlands;X-APPLE-RADIUS=500;X-TITLE= :geo:4.9041389,52.3675734
END:VEVENT
BEGIN:VEVENT
DTSTART;VALUE=DATE:20250801
DTEND;VALUE=DATE:20250804
DTSTAMP:20260422T192903
CREATED:20250428T224103Z
LAST-MODIFIED:20250428T224103Z
UID:10003677-1754006400-1754265599@circuitpartyinfo.com
SUMMARY:Amsterdam Pride Weekend
DESCRIPTION:
URL:https://circuitpartyinfo.com/event/amsterdam-pride-weekend/
LOCATION:Amsterdam\,  \, Amsterdam\, Netherlands
GEO:52.3675734;4.9041389
X-APPLE-STRUCTURED-LOCATION;VALUE=URI;X-ADDRESS=Amsterdam   Amsterdam Netherlands;X-APPLE-RADIUS=500;X-TITLE= :geo:4.9041389,52.3675734
END:VEVENT
BEGIN:VEVENT
DTSTART;VALUE=DATE:20250427
DTEND;VALUE=DATE:20250428
DTSTAMP:20260422T192903
CREATED:20250129T224254Z
LAST-MODIFIED:20250412T214734Z
UID:10003253-1745712000-1745798399@circuitpartyinfo.com
SUMMARY:Fun House - Kings Day Edition
DESCRIPTION:
URL:https://circuitpartyinfo.com/event/fun-house-kings-day-edition/
LOCATION:Amsterdam\,  \, Amsterdam\, Netherlands
ATTACH;FMTTYPE=image/jpeg:https://circuitpartyinfo.com/wp-content/uploads/2025/01/489200849_18499823533036662_3670416131145179876_n.jpg
GEO:52.3675734;4.9041389
X-APPLE-STRUCTURED-LOCATION;VALUE=URI;X-ADDRESS=Amsterdam   Amsterdam Netherlands;X-APPLE-RADIUS=500;X-TITLE= :geo:4.9041389,52.3675734
END:VEVENT
BEGIN:VEVENT
DTSTART;VALUE=DATE:20250328
DTEND;VALUE=DATE:20250329
DTSTAMP:20260422T192903
CREATED:20250116T235012Z
LAST-MODIFIED:20250116T235012Z
UID:10003149-1743120000-1743206399@circuitpartyinfo.com
SUMMARY:Backdoor - 10 Year Anniversary
DESCRIPTION:
URL:https://circuitpartyinfo.com/event/backdoor-10-year-anniversary/
LOCATION:Amsterdam\,  \, Amsterdam\, Netherlands
ATTACH;FMTTYPE=image/png:https://circuitpartyinfo.com/wp-content/uploads/2025/01/Screenshot-2025-01-16-at-6.49.22 PM.png
GEO:52.3675734;4.9041389
X-APPLE-STRUCTURED-LOCATION;VALUE=URI;X-ADDRESS=Amsterdam   Amsterdam Netherlands;X-APPLE-RADIUS=500;X-TITLE= :geo:4.9041389,52.3675734
END:VEVENT
BEGIN:VEVENT
DTSTART;VALUE=DATE:20250222
DTEND;VALUE=DATE:20250223
DTSTAMP:20260422T192903
CREATED:20241006T140922Z
LAST-MODIFIED:20250129T224127Z
UID:10002720-1740182400-1740268799@circuitpartyinfo.com
SUMMARY:FunHouse
DESCRIPTION:
URL:https://circuitpartyinfo.com/event/funhouse/
LOCATION:Amsterdam\,  \, Amsterdam\, Netherlands
ATTACH;FMTTYPE=image/jpeg:https://circuitpartyinfo.com/wp-content/uploads/2024/10/fh_carnivale_2025_square_v2.jpg
GEO:52.3675734;4.9041389
X-APPLE-STRUCTURED-LOCATION;VALUE=URI;X-ADDRESS=Amsterdam   Amsterdam Netherlands;X-APPLE-RADIUS=500;X-TITLE= :geo:4.9041389,52.3675734
END:VEVENT
BEGIN:VEVENT
DTSTART;VALUE=DATE:20241221
DTEND;VALUE=DATE:20241222
DTSTAMP:20260422T192903
CREATED:20241006T140852Z
LAST-MODIFIED:20241006T140852Z
UID:10002719-1734739200-1734825599@circuitpartyinfo.com
SUMMARY:FunHouse XL - The XMAS Edition
DESCRIPTION:
URL:https://circuitpartyinfo.com/event/funhouse-xl-the-xmas-edition/
LOCATION:Amsterdam\,  \, Amsterdam\, Netherlands
ATTACH;FMTTYPE=image/jpeg:https://circuitpartyinfo.com/wp-content/uploads/2024/10/fh_xmas_2024.jpg
GEO:52.3675734;4.9041389
X-APPLE-STRUCTURED-LOCATION;VALUE=URI;X-ADDRESS=Amsterdam   Amsterdam Netherlands;X-APPLE-RADIUS=500;X-TITLE= :geo:4.9041389,52.3675734
END:VEVENT
BEGIN:VEVENT
DTSTART;VALUE=DATE:20241201
DTEND;VALUE=DATE:20241202
DTSTAMP:20260422T192903
CREATED:20241006T140745Z
LAST-MODIFIED:20241006T140745Z
UID:10002718-1733011200-1733097599@circuitpartyinfo.com
SUMMARY:Rapido - The 20th Birthday Edition
DESCRIPTION:
URL:https://circuitpartyinfo.com/event/rapido-the-20th-birthday-edition/
LOCATION:Amsterdam\,  \, Amsterdam\, Netherlands
ATTACH;FMTTYPE=image/jpeg:https://circuitpartyinfo.com/wp-content/uploads/2024/10/rapido_dec_1_-_20_jaar_-_generic_image.jpeg
GEO:52.3675734;4.9041389
X-APPLE-STRUCTURED-LOCATION;VALUE=URI;X-ADDRESS=Amsterdam   Amsterdam Netherlands;X-APPLE-RADIUS=500;X-TITLE= :geo:4.9041389,52.3675734
END:VEVENT
BEGIN:VEVENT
DTSTART;VALUE=DATE:20241123
DTEND;VALUE=DATE:20241124
DTSTAMP:20260422T192903
CREATED:20241006T140146Z
LAST-MODIFIED:20241006T140146Z
UID:10002715-1732320000-1732406399@circuitpartyinfo.com
SUMMARY:Matinee Pervert XXL - Amsterdam
DESCRIPTION:
URL:https://circuitpartyinfo.com/event/matinee-pervert-xxl-amsterdam/
LOCATION:Amsterdam\,  \, Amsterdam\, Netherlands
ATTACH;FMTTYPE=image/jpeg:https://circuitpartyinfo.com/wp-content/uploads/2024/10/23NOV_Amsterdam_Pervert_STORY-.jpg
GEO:52.3675734;4.9041389
X-APPLE-STRUCTURED-LOCATION;VALUE=URI;X-ADDRESS=Amsterdam   Amsterdam Netherlands;X-APPLE-RADIUS=500;X-TITLE= :geo:4.9041389,52.3675734
END:VEVENT
BEGIN:VEVENT
DTSTART;VALUE=DATE:20241019
DTEND;VALUE=DATE:20241020
DTSTAMP:20260422T192903
CREATED:20240909T221215Z
LAST-MODIFIED:20240909T221215Z
UID:10002599-1729296000-1729382399@circuitpartyinfo.com
SUMMARY:Backdoor Amsterdam
DESCRIPTION:
URL:https://circuitpartyinfo.com/event/backdoor-amsterdam/
LOCATION:Amsterdam\,  \, Amsterdam\, Netherlands
ATTACH;FMTTYPE=image/png:https://circuitpartyinfo.com/wp-content/uploads/2024/09/Screenshot-2024-09-09-at-6.11.53 PM.png
GEO:52.3675734;4.9041389
X-APPLE-STRUCTURED-LOCATION;VALUE=URI;X-ADDRESS=Amsterdam   Amsterdam Netherlands;X-APPLE-RADIUS=500;X-TITLE= :geo:4.9041389,52.3675734
END:VEVENT
BEGIN:VEVENT
DTSTART;VALUE=DATE:20241012
DTEND;VALUE=DATE:20241013
DTSTAMP:20260422T192903
CREATED:20241006T140648Z
LAST-MODIFIED:20241006T140648Z
UID:10002717-1728691200-1728777599@circuitpartyinfo.com
SUMMARY:FunHouse - Bring Back My Summer
DESCRIPTION:
URL:https://circuitpartyinfo.com/event/funhouse-bring-back-my-summer/
LOCATION:Amsterdam\,  \, Amsterdam\, Netherlands
ATTACH;FMTTYPE=image/jpeg:https://circuitpartyinfo.com/wp-content/uploads/2024/10/fh_oct_bring_back_my_summer.jpg
GEO:52.3675734;4.9041389
X-APPLE-STRUCTURED-LOCATION;VALUE=URI;X-ADDRESS=Amsterdam   Amsterdam Netherlands;X-APPLE-RADIUS=500;X-TITLE= :geo:4.9041389,52.3675734
END:VEVENT
BEGIN:VEVENT
DTSTART;VALUE=DATE:20240802
DTEND;VALUE=DATE:20240805
DTSTAMP:20260422T192903
CREATED:20240715T211045Z
LAST-MODIFIED:20240715T211045Z
UID:10002357-1722556800-1722815999@circuitpartyinfo.com
SUMMARY:Rapido - Amsterdam Pride 2024
DESCRIPTION:
URL:https://circuitpartyinfo.com/event/rapido-amsterdam-pride-2024/
LOCATION:Amsterdam\,  \, Amsterdam\, Netherlands
ATTACH;FMTTYPE=image/png:https://circuitpartyinfo.com/wp-content/uploads/2024/07/Screenshot-2024-07-15-at-5.09.46 PM.png
GEO:52.3675734;4.9041389
X-APPLE-STRUCTURED-LOCATION;VALUE=URI;X-ADDRESS=Amsterdam   Amsterdam Netherlands;X-APPLE-RADIUS=500;X-TITLE= :geo:4.9041389,52.3675734
END:VEVENT
BEGIN:VEVENT
DTSTART;VALUE=DATE:20240323
DTEND;VALUE=DATE:20240324
DTSTAMP:20260422T192903
CREATED:20240321T113250Z
LAST-MODIFIED:20240321T113250Z
UID:10001842-1711152000-1711238399@circuitpartyinfo.com
SUMMARY:Fun House - the Spring Edition
DESCRIPTION:
URL:https://circuitpartyinfo.com/event/fun-house-the-spring-edition/
LOCATION:Amsterdam\,  \, Amsterdam\, Netherlands
ATTACH;FMTTYPE=image/png:https://circuitpartyinfo.com/wp-content/uploads/2024/03/Screenshot-2024-03-21-at-7.32.21 AM.png
GEO:52.3675734;4.9041389
X-APPLE-STRUCTURED-LOCATION;VALUE=URI;X-ADDRESS=Amsterdam   Amsterdam Netherlands;X-APPLE-RADIUS=500;X-TITLE= :geo:4.9041389,52.3675734
END:VEVENT
BEGIN:VEVENT
DTSTART;VALUE=DATE:20240224
DTEND;VALUE=DATE:20240225
DTSTAMP:20260422T192903
CREATED:20240214T204340Z
LAST-MODIFIED:20240214T204340Z
UID:10001689-1708732800-1708819199@circuitpartyinfo.com
SUMMARY:FunHouse – the Atlantis Sailors Edition
DESCRIPTION:
URL:https://circuitpartyinfo.com/event/funhouse-the-atlantis-sailors-edition/
LOCATION:Amsterdam\,  \, Amsterdam\, Netherlands
ATTACH;FMTTYPE=image/png:https://circuitpartyinfo.com/wp-content/uploads/2024/02/Screenshot-2024-02-14-at-7.42.59 AM.png
GEO:52.3675734;4.9041389
X-APPLE-STRUCTURED-LOCATION;VALUE=URI;X-ADDRESS=Amsterdam   Amsterdam Netherlands;X-APPLE-RADIUS=500;X-TITLE= :geo:4.9041389,52.3675734
END:VEVENT
BEGIN:VEVENT
DTSTART;VALUE=DATE:20240127
DTEND;VALUE=DATE:20240128
DTSTAMP:20260422T192903
CREATED:20240104T064359Z
LAST-MODIFIED:20240104T064359Z
UID:10001500-1706313600-1706399999@circuitpartyinfo.com
SUMMARY:1001 Nights - 9th Anniversary
DESCRIPTION:
URL:https://circuitpartyinfo.com/event/1001-nights-9th-anniversary/
LOCATION:Amsterdam\,  \, Amsterdam\, Netherlands
ATTACH;FMTTYPE=image/png:https://circuitpartyinfo.com/wp-content/uploads/2024/01/FINAL-flyer-1001-nights-WEB-poster-klein.png
GEO:52.3675734;4.9041389
X-APPLE-STRUCTURED-LOCATION;VALUE=URI;X-ADDRESS=Amsterdam   Amsterdam Netherlands;X-APPLE-RADIUS=500;X-TITLE= :geo:4.9041389,52.3675734
END:VEVENT
BEGIN:VEVENT
DTSTART;TZID=UTC:20230804T080000
DTEND;TZID=UTC:20230804T170000
DTSTAMP:20260422T192903
CREATED:20230422T061210Z
LAST-MODIFIED:20230422T061210Z
UID:10000633-1691136000-1691168400@circuitpartyinfo.com
SUMMARY:LaLeche! - Moulin Blanc
DESCRIPTION:
URL:https://circuitpartyinfo.com/event/laleche-moulin-blanc/
LOCATION:Amsterdam\,  \, Amsterdam\, Netherlands
GEO:52.3675734;4.9041389
X-APPLE-STRUCTURED-LOCATION;VALUE=URI;X-ADDRESS=Amsterdam   Amsterdam Netherlands;X-APPLE-RADIUS=500;X-TITLE= :geo:4.9041389,52.3675734
END:VEVENT
BEGIN:VEVENT
DTSTART;VALUE=DATE:20230804
DTEND;VALUE=DATE:20230805
DTSTAMP:20260422T192903
CREATED:20230424T053951Z
LAST-MODIFIED:20230424T053951Z
UID:10000641-1691107200-1691193599@circuitpartyinfo.com
SUMMARY:WE Party Pink Gum - Amsterdam Pride
DESCRIPTION:
URL:https://circuitpartyinfo.com/event/we-party-pink-gum-amsterdam-pride/
LOCATION:Amsterdam\,  \, Amsterdam\, Netherlands
GEO:52.3675734;4.9041389
X-APPLE-STRUCTURED-LOCATION;VALUE=URI;X-ADDRESS=Amsterdam   Amsterdam Netherlands;X-APPLE-RADIUS=500;X-TITLE= :geo:4.9041389,52.3675734
END:VEVENT
BEGIN:VEVENT
DTSTART;VALUE=DATE:20230429
DTEND;VALUE=DATE:20230430
DTSTAMP:20260422T192903
CREATED:20230124T085404Z
LAST-MODIFIED:20230124T085404Z
UID:10000339-1682726400-1682812799@circuitpartyinfo.com
SUMMARY:Backdoor Amsterdam - Matrix Aquarium
DESCRIPTION:
URL:https://circuitpartyinfo.com/event/backdoor-amsterdam-matrix-aquarium/
LOCATION:Amsterdam\,  \, Amsterdam\, Netherlands
GEO:52.3675734;4.9041389
X-APPLE-STRUCTURED-LOCATION;VALUE=URI;X-ADDRESS=Amsterdam   Amsterdam Netherlands;X-APPLE-RADIUS=500;X-TITLE= :geo:4.9041389,52.3675734
END:VEVENT
BEGIN:VEVENT
DTSTART;VALUE=DATE:20230211
DTEND;VALUE=DATE:20230212
DTSTAMP:20260422T192903
CREATED:20230110T074018Z
LAST-MODIFIED:20230110T074030Z
UID:10000261-1676073600-1676159999@circuitpartyinfo.com
SUMMARY:FunHouse - February Edition
DESCRIPTION:
URL:https://circuitpartyinfo.com/event/funhouse-february-edition/
LOCATION:Amsterdam\,  \, Amsterdam\, Netherlands
GEO:52.3675734;4.9041389
X-APPLE-STRUCTURED-LOCATION;VALUE=URI;X-ADDRESS=Amsterdam   Amsterdam Netherlands;X-APPLE-RADIUS=500;X-TITLE= :geo:4.9041389,52.3675734
END:VEVENT
BEGIN:VEVENT
DTSTART;VALUE=DATE:20230128
DTEND;VALUE=DATE:20230129
DTSTAMP:20260422T192903
CREATED:20230124T085538Z
LAST-MODIFIED:20230124T085538Z
UID:10000340-1674864000-1674950399@circuitpartyinfo.com
SUMMARY:Backdoor Amsterdam - Secrets
DESCRIPTION:
URL:https://circuitpartyinfo.com/event/backdoor-amsterdam-secrets/
LOCATION:Amsterdam\,  \, Amsterdam\, Netherlands
GEO:52.3675734;4.9041389
X-APPLE-STRUCTURED-LOCATION;VALUE=URI;X-ADDRESS=Amsterdam   Amsterdam Netherlands;X-APPLE-RADIUS=500;X-TITLE= :geo:4.9041389,52.3675734
END:VEVENT
BEGIN:VEVENT
DTSTART;VALUE=DATE:20221217
DTEND;VALUE=DATE:20221218
DTSTAMP:20260422T192903
CREATED:20221215T081332Z
LAST-MODIFIED:20221215T081346Z
UID:10000181-1671235200-1671321599@circuitpartyinfo.com
SUMMARY:FunHouse XL - the Xmas Edition
DESCRIPTION:
URL:https://circuitpartyinfo.com/event/funhouse-the-xmas-edition/
LOCATION:Amsterdam\,  \, Amsterdam\, Netherlands
GEO:52.3675734;4.9041389
X-APPLE-STRUCTURED-LOCATION;VALUE=URI;X-ADDRESS=Amsterdam   Amsterdam Netherlands;X-APPLE-RADIUS=500;X-TITLE= :geo:4.9041389,52.3675734
END:VEVENT
END:VCALENDAR