BEGIN:VCALENDAR
VERSION:2.0
PRODID:-//Circuit Party Info - ECPv6.15.20//NONSGML v1.0//EN
CALSCALE:GREGORIAN
METHOD:PUBLISH
X-WR-CALNAME:Circuit Party Info
X-ORIGINAL-URL:https://circuitpartyinfo.com
X-WR-CALDESC:Events for Circuit Party Info
REFRESH-INTERVAL;VALUE=DURATION:PT1H
X-Robots-Tag:noindex
X-PUBLISHED-TTL:PT1H
BEGIN:VTIMEZONE
TZID:America/Los_Angeles
BEGIN:DAYLIGHT
TZOFFSETFROM:-0800
TZOFFSETTO:-0700
TZNAME:PDT
DTSTART:20260308T100000
END:DAYLIGHT
BEGIN:STANDARD
TZOFFSETFROM:-0700
TZOFFSETTO:-0800
TZNAME:PST
DTSTART:20261101T090000
END:STANDARD
BEGIN:DAYLIGHT
TZOFFSETFROM:-0800
TZOFFSETTO:-0700
TZNAME:PDT
DTSTART:20270314T100000
END:DAYLIGHT
BEGIN:STANDARD
TZOFFSETFROM:-0700
TZOFFSETTO:-0800
TZNAME:PST
DTSTART:20271107T090000
END:STANDARD
BEGIN:DAYLIGHT
TZOFFSETFROM:-0800
TZOFFSETTO:-0700
TZNAME:PDT
DTSTART:20280312T100000
END:DAYLIGHT
BEGIN:STANDARD
TZOFFSETFROM:-0700
TZOFFSETTO:-0800
TZNAME:PST
DTSTART:20281105T090000
END:STANDARD
END:VTIMEZONE
BEGIN:VEVENT
DTSTART;VALUE=DATE:20270312
DTEND;VALUE=DATE:20270315
DTSTAMP:20260422T224919
CREATED:20260416T214626Z
LAST-MODIFIED:20260416T214626Z
UID:10005909-1804809600-1805068799@circuitpartyinfo.com
SUMMARY:Weekend Festival
DESCRIPTION:
URL:https://circuitpartyinfo.com/event/weekend-festival/
LOCATION:Florianópolis\, Brazil\,  \, Florianópolis\, Brazil
ATTACH;FMTTYPE=image/jpeg:https://circuitpartyinfo.com/wp-content/uploads/2026/04/670496253_18006053591893473_4349831866720611981_n.jpg
GEO:-27.5948036;-48.5569286
X-APPLE-STRUCTURED-LOCATION;VALUE=URI;X-ADDRESS=Florianópolis Brazil   Florianópolis Brazil;X-APPLE-RADIUS=500;X-TITLE= :geo:-48.5569286,-27.5948036
END:VEVENT
BEGIN:VEVENT
DTSTART;VALUE=DATE:20270326
DTEND;VALUE=DATE:20270329
DTSTAMP:20260422T224919
CREATED:20260410T220829Z
LAST-MODIFIED:20260410T220829Z
UID:10005839-1806019200-1806278399@circuitpartyinfo.com
SUMMARY:Matinée Easter Weekend 2027
DESCRIPTION:
URL:https://circuitpartyinfo.com/event/matinee-easter-weekend-2027/
LOCATION:Barcelona\,  \, Barcelona\, Spain
ATTACH;FMTTYPE=image/jpeg:https://circuitpartyinfo.com/wp-content/uploads/2026/04/IMG_4044.jpeg
END:VEVENT
BEGIN:VEVENT
DTSTART;VALUE=DATE:20270402
DTEND;VALUE=DATE:20270406
DTSTAMP:20260422T224919
CREATED:20260403T195903Z
LAST-MODIFIED:20260403T195903Z
UID:10005792-1806624000-1806969599@circuitpartyinfo.com
SUMMARY:Utopia Festival 2027
DESCRIPTION:
URL:https://circuitpartyinfo.com/event/utopia-festival-2027/
LOCATION:Isla Mujeres\,  \, Isla Mujeres\, Mexico
ATTACH;FMTTYPE=image/jpeg:https://circuitpartyinfo.com/wp-content/uploads/2026/04/ril8paw8dhid4owggtw1.jpg
END:VEVENT
END:VCALENDAR