BEGIN:VCALENDAR
VERSION:2.0
PRODID:-//Circuit Party Info - ECPv6.15.20//NONSGML v1.0//EN
CALSCALE:GREGORIAN
METHOD:PUBLISH
X-WR-CALNAME:Circuit Party Info
X-ORIGINAL-URL:https://circuitpartyinfo.com
X-WR-CALDESC:Events for Circuit Party Info
REFRESH-INTERVAL;VALUE=DURATION:PT1H
X-Robots-Tag:noindex
X-PUBLISHED-TTL:PT1H
BEGIN:VTIMEZONE
TZID:America/Los_Angeles
BEGIN:DAYLIGHT
TZOFFSETFROM:-0800
TZOFFSETTO:-0700
TZNAME:PDT
DTSTART:20250309T100000
END:DAYLIGHT
BEGIN:STANDARD
TZOFFSETFROM:-0700
TZOFFSETTO:-0800
TZNAME:PST
DTSTART:20251102T090000
END:STANDARD
BEGIN:DAYLIGHT
TZOFFSETFROM:-0800
TZOFFSETTO:-0700
TZNAME:PDT
DTSTART:20260308T100000
END:DAYLIGHT
BEGIN:STANDARD
TZOFFSETFROM:-0700
TZOFFSETTO:-0800
TZNAME:PST
DTSTART:20261101T090000
END:STANDARD
BEGIN:DAYLIGHT
TZOFFSETFROM:-0800
TZOFFSETTO:-0700
TZNAME:PDT
DTSTART:20270314T100000
END:DAYLIGHT
BEGIN:STANDARD
TZOFFSETFROM:-0700
TZOFFSETTO:-0800
TZNAME:PST
DTSTART:20271107T090000
END:STANDARD
END:VTIMEZONE
BEGIN:VEVENT
DTSTART;VALUE=DATE:20261002
DTEND;VALUE=DATE:20261004
DTSTAMP:20260422T230653
CREATED:20260116T233056Z
LAST-MODIFIED:20260116T233143Z
UID:10005140-1790899200-1791071999@circuitpartyinfo.com
SUMMARY:Intensity Manila
DESCRIPTION:
URL:https://circuitpartyinfo.com/event/intensity-manila-2/
LOCATION:Manila\, Manila\, Philippines
ATTACH;FMTTYPE=image/jpeg:https://circuitpartyinfo.com/wp-content/uploads/2026/01/617102774_18095586982923918_685860119155331075_n.jpg
GEO:14.5995124;120.9842195
END:VEVENT
BEGIN:VEVENT
DTSTART;VALUE=DATE:20261008
DTEND;VALUE=DATE:20261013
DTSTAMP:20260422T230653
CREATED:20260404T184307Z
LAST-MODIFIED:20260408T215532Z
UID:10005798-1791417600-1791849599@circuitpartyinfo.com
SUMMARY:Big Ol' Slice Atlanta Gay Pride 2026
DESCRIPTION:
URL:https://circuitpartyinfo.com/event/big-ol-slice-atlanta-gay-pride-2026/
LOCATION:Atlanta\,  \, Atlanta\, GA\, United States
ATTACH;FMTTYPE=image/jpeg:https://circuitpartyinfo.com/wp-content/uploads/2026/04/unnamed.jpg
GEO:33.748752;-84.3876845
X-APPLE-STRUCTURED-LOCATION;VALUE=URI;X-ADDRESS=Atlanta   Atlanta GA United States;X-APPLE-RADIUS=500;X-TITLE= :geo:-84.3876845,33.748752
END:VEVENT
BEGIN:VEVENT
DTSTART;VALUE=DATE:20261009
DTEND;VALUE=DATE:20261013
DTSTAMP:20260422T230653
CREATED:20260331T214414Z
LAST-MODIFIED:20260331T214511Z
UID:10005743-1791504000-1791849599@circuitpartyinfo.com
SUMMARY:San Island Weekend 2026
DESCRIPTION:
URL:https://circuitpartyinfo.com/event/san-island-weekend-2026/
LOCATION:São Paulo\,  \, São Paulo\, Brazil
ATTACH;FMTTYPE=image/jpeg:https://circuitpartyinfo.com/wp-content/uploads/2026/03/656656011_18361992247203982_6669854698238369192_n.jpg
GEO:-23.5557714;-46.6395571
X-APPLE-STRUCTURED-LOCATION;VALUE=URI;X-ADDRESS=São Paulo   São Paulo Brazil;X-APPLE-RADIUS=500;X-TITLE= :geo:-46.6395571,-23.5557714
END:VEVENT
BEGIN:VEVENT
DTSTART;VALUE=DATE:20261010
DTEND;VALUE=DATE:20261011
DTSTAMP:20260422T230653
CREATED:20260315T185906Z
LAST-MODIFIED:20260415T205333Z
UID:10005607-1791590400-1791676799@circuitpartyinfo.com
SUMMARY:Jesus Montanez - XION Pride Friday
DESCRIPTION:
URL:https://circuitpartyinfo.com/event/xion-pride-friday/
LOCATION:Atlanta\,  \, Atlanta\, GA\, United States
ATTACH;FMTTYPE=image/jpeg:https://circuitpartyinfo.com/wp-content/uploads/2026/03/yes-4.jpeg
GEO:33.748752;-84.3876845
X-APPLE-STRUCTURED-LOCATION;VALUE=URI;X-ADDRESS=Atlanta   Atlanta GA United States;X-APPLE-RADIUS=500;X-TITLE= :geo:-84.3876845,33.748752
END:VEVENT
BEGIN:VEVENT
DTSTART;VALUE=DATE:20261011
DTEND;VALUE=DATE:20261012
DTSTAMP:20260422T230653
CREATED:20260315T185935Z
LAST-MODIFIED:20260415T205426Z
UID:10005608-1791676800-1791763199@circuitpartyinfo.com
SUMMARY:Karsten Sollors - XION Pride Saturday
DESCRIPTION:
URL:https://circuitpartyinfo.com/event/xion-pride-saturday/
LOCATION:Atlanta\,  \, Atlanta\, GA\, United States
ATTACH;FMTTYPE=image/jpeg:https://circuitpartyinfo.com/wp-content/uploads/2026/03/yes-4.jpeg
GEO:33.748752;-84.3876845
X-APPLE-STRUCTURED-LOCATION;VALUE=URI;X-ADDRESS=Atlanta   Atlanta GA United States;X-APPLE-RADIUS=500;X-TITLE= :geo:-84.3876845,33.748752
END:VEVENT
BEGIN:VEVENT
DTSTART;VALUE=DATE:20261012
DTEND;VALUE=DATE:20261013
DTSTAMP:20260422T230653
CREATED:20260315T190001Z
LAST-MODIFIED:20260415T205450Z
UID:10005609-1791763200-1791849599@circuitpartyinfo.com
SUMMARY:Micky Friedmann - XION Pride Sunday
DESCRIPTION:
URL:https://circuitpartyinfo.com/event/xion-pride-sunday/
LOCATION:Atlanta\,  \, Atlanta\, GA\, United States
ATTACH;FMTTYPE=image/jpeg:https://circuitpartyinfo.com/wp-content/uploads/2026/03/yes-4.jpeg
GEO:33.748752;-84.3876845
X-APPLE-STRUCTURED-LOCATION;VALUE=URI;X-ADDRESS=Atlanta   Atlanta GA United States;X-APPLE-RADIUS=500;X-TITLE= :geo:-84.3876845,33.748752
END:VEVENT
BEGIN:VEVENT
DTSTART;VALUE=DATE:20261030
DTEND;VALUE=DATE:20261102
DTSTAMP:20260422T230653
CREATED:20260419T124329Z
LAST-MODIFIED:20260419T124329Z
UID:10005941-1793318400-1793577599@circuitpartyinfo.com
SUMMARY:Formosa Pride 2026
DESCRIPTION:
URL:https://circuitpartyinfo.com/event/formosa-pride-2026/
LOCATION:Taipei\, Taipei\, Taiwan
ATTACH;FMTTYPE=image/jpeg:https://circuitpartyinfo.com/wp-content/uploads/2026/04/poster-19.jpg
GEO:25.0329694;121.5654177
END:VEVENT
BEGIN:VEVENT
DTSTART;VALUE=DATE:20261030
DTEND;VALUE=DATE:20261102
DTSTAMP:20260422T230653
CREATED:20260421T221020Z
LAST-MODIFIED:20260421T221020Z
UID:10005982-1793318400-1793577599@circuitpartyinfo.com
SUMMARY:Halloween New Orleans
DESCRIPTION:
URL:https://circuitpartyinfo.com/event/halloween-new-orleans/
LOCATION:New Orleans\,  \, New Orleans\, LA\, United States
ATTACH;FMTTYPE=image/jpeg:https://circuitpartyinfo.com/wp-content/uploads/2026/04/672961392_18578657620025642_1104963438723486347_n-scaled.jpg
GEO:29.9510658;-90.0715323
X-APPLE-STRUCTURED-LOCATION;VALUE=URI;X-ADDRESS=New Orleans   New Orleans LA United States;X-APPLE-RADIUS=500;X-TITLE= :geo:-90.0715323,29.9510658
END:VEVENT
BEGIN:VEVENT
DTSTART;VALUE=DATE:20261030
DTEND;VALUE=DATE:20261104
DTSTAMP:20260422T230653
CREATED:20251221T201954Z
LAST-MODIFIED:20260123T222644Z
UID:10004949-1793318400-1793750399@circuitpartyinfo.com
SUMMARY:Misterio Halloween Fest 2026
DESCRIPTION:
URL:https://circuitpartyinfo.com/event/misterio-halloween-fest-2026-2/
LOCATION:Bogata\,  \, Bogata\, Colombia
ATTACH;FMTTYPE=image/jpeg:https://circuitpartyinfo.com/wp-content/uploads/2025/12/621475019_17872006473511764_1998218571194248355_n.jpg
GEO:4.7109886;-74.072092
X-APPLE-STRUCTURED-LOCATION;VALUE=URI;X-ADDRESS=Bogata   Bogata Colombia;X-APPLE-RADIUS=500;X-TITLE= :geo:-74.072092,4.7109886
END:VEVENT
BEGIN:VEVENT
DTSTART;VALUE=DATE:20261031
DTEND;VALUE=DATE:20261101
DTSTAMP:20260422T230653
CREATED:20260411T234905Z
LAST-MODIFIED:20260411T234905Z
UID:10005851-1793404800-1793491199@circuitpartyinfo.com
SUMMARY:MACHO Halloween
DESCRIPTION:
URL:https://circuitpartyinfo.com/event/macho-halloween/
LOCATION:Vancouver\,  \, Vancouver\, Canada
END:VEVENT
END:VCALENDAR