BEGIN:VCALENDAR
VERSION:2.0
PRODID:-//Circuit Party Info - ECPv6.15.20//NONSGML v1.0//EN
CALSCALE:GREGORIAN
METHOD:PUBLISH
X-ORIGINAL-URL:https://circuitpartyinfo.com
X-WR-CALDESC:Events for Circuit Party Info
REFRESH-INTERVAL;VALUE=DURATION:PT1H
X-Robots-Tag:noindex
X-PUBLISHED-TTL:PT1H
BEGIN:VTIMEZONE
TZID:America/Los_Angeles
BEGIN:DAYLIGHT
TZOFFSETFROM:-0800
TZOFFSETTO:-0700
TZNAME:PDT
DTSTART:20250309T100000
END:DAYLIGHT
BEGIN:STANDARD
TZOFFSETFROM:-0700
TZOFFSETTO:-0800
TZNAME:PST
DTSTART:20251102T090000
END:STANDARD
BEGIN:DAYLIGHT
TZOFFSETFROM:-0800
TZOFFSETTO:-0700
TZNAME:PDT
DTSTART:20260308T100000
END:DAYLIGHT
BEGIN:STANDARD
TZOFFSETFROM:-0700
TZOFFSETTO:-0800
TZNAME:PST
DTSTART:20261101T090000
END:STANDARD
BEGIN:DAYLIGHT
TZOFFSETFROM:-0800
TZOFFSETTO:-0700
TZNAME:PDT
DTSTART:20270314T100000
END:DAYLIGHT
BEGIN:STANDARD
TZOFFSETFROM:-0700
TZOFFSETTO:-0800
TZNAME:PST
DTSTART:20271107T090000
END:STANDARD
END:VTIMEZONE
BEGIN:VEVENT
DTSTART;VALUE=DATE:20260904
DTEND;VALUE=DATE:20260905
DTSTAMP:20260422T211225
CREATED:20260420T230050Z
LAST-MODIFIED:20260420T230050Z
UID:10005977-1788480000-1788566399@circuitpartyinfo.com
SUMMARY:Bearracuda
DESCRIPTION:
URL:https://circuitpartyinfo.com/event/bearracuda-7/
LOCATION:New Orleans\,  \, New Orleans\, LA\, United States
ATTACH;FMTTYPE=image/jpeg:https://circuitpartyinfo.com/wp-content/uploads/2026/04/webnola-2.jpg
GEO:29.9510658;-90.0715323
X-APPLE-STRUCTURED-LOCATION;VALUE=URI;X-ADDRESS=New Orleans   New Orleans LA United States;X-APPLE-RADIUS=500;X-TITLE= :geo:-90.0715323,29.9510658
END:VEVENT
BEGIN:VEVENT
DTSTART;VALUE=DATE:20260905
DTEND;VALUE=DATE:20260906
DTSTAMP:20260422T211225
CREATED:20260320T211006Z
LAST-MODIFIED:20260320T211006Z
UID:10005647-1788566400-1788652799@circuitpartyinfo.com
SUMMARY:Furball
DESCRIPTION:
URL:https://circuitpartyinfo.com/event/furball-6/
LOCATION:New Orleans\,  \, New Orleans\, LA\, United States
GEO:29.9510658;-90.0715323
X-APPLE-STRUCTURED-LOCATION;VALUE=URI;X-ADDRESS=New Orleans   New Orleans LA United States;X-APPLE-RADIUS=500;X-TITLE= :geo:-90.0715323,29.9510658
END:VEVENT
BEGIN:VEVENT
DTSTART;VALUE=DATE:20260905
DTEND;VALUE=DATE:20260907
DTSTAMP:20260422T211225
CREATED:20260312T115443Z
LAST-MODIFIED:20260312T115443Z
UID:10005579-1788566400-1788739199@circuitpartyinfo.com
SUMMARY:HIGH Club 4th Anniversary
DESCRIPTION:
URL:https://circuitpartyinfo.com/event/high-club-4th-anniversary/
LOCATION:São Paulo\,  \, São Paulo\, Brazil
ATTACH;FMTTYPE=image/jpeg:https://circuitpartyinfo.com/wp-content/uploads/2026/03/650197636_18570481063061989_2977134259180009514_n.jpg
GEO:-23.5557714;-46.6395571
X-APPLE-STRUCTURED-LOCATION;VALUE=URI;X-ADDRESS=São Paulo   São Paulo Brazil;X-APPLE-RADIUS=500;X-TITLE= :geo:-46.6395571,-23.5557714
END:VEVENT
BEGIN:VEVENT
DTSTART;VALUE=DATE:20260906
DTEND;VALUE=DATE:20260907
DTSTAMP:20260422T211225
CREATED:20260326T162327Z
LAST-MODIFIED:20260326T162327Z
UID:10005697-1788652800-1788739199@circuitpartyinfo.com
SUMMARY:Service Station Labor Day
DESCRIPTION:
URL:https://circuitpartyinfo.com/event/service-station-labor-day/
LOCATION:Los Angeles\,  \, Los Angeles\, CA\, United States
ATTACH;FMTTYPE=image/jpeg:https://circuitpartyinfo.com/wp-content/uploads/2026/03/IMG_3892.jpeg
GEO:34.0522342;-118.2436849
X-APPLE-STRUCTURED-LOCATION;VALUE=URI;X-ADDRESS=Los Angeles   Los Angeles CA United States;X-APPLE-RADIUS=500;X-TITLE= :geo:-118.2436849,34.0522342
END:VEVENT
BEGIN:VEVENT
DTSTART;VALUE=DATE:20260910
DTEND;VALUE=DATE:20260914
DTSTAMP:20260422T211225
CREATED:20260317T213533Z
LAST-MODIFIED:20260317T213533Z
UID:10005624-1788998400-1789343999@circuitpartyinfo.com
SUMMARY:Wet Oso Weekend 2026
DESCRIPTION:
URL:https://circuitpartyinfo.com/event/wet-oso-weekend-2026/
LOCATION:South Padre Island\,  \, South Padre Island\, TX\, United States
ATTACH;FMTTYPE=image/jpeg:https://circuitpartyinfo.com/wp-content/uploads/2026/03/Wet-Oso-Weekend-Flyer-2026.jpg
END:VEVENT
BEGIN:VEVENT
DTSTART;VALUE=DATE:20260925
DTEND;VALUE=DATE:20260926
DTSTAMP:20260422T211225
CREATED:20260409T220933Z
LAST-MODIFIED:20260409T220933Z
UID:10005828-1790294400-1790380799@circuitpartyinfo.com
SUMMARY:PRIME - The San Francisco MEAT
DESCRIPTION:
URL:https://circuitpartyinfo.com/event/prime-the-san-francisco-meat-3/
LOCATION:San Francisco\,  \, San Francisco\, CA\, United States
ATTACH;FMTTYPE=image/jpeg:https://circuitpartyinfo.com/wp-content/uploads/2026/04/669640519_17991910085942328_3483804557320521071_n.jpg
END:VEVENT
BEGIN:VEVENT
DTSTART;VALUE=DATE:20260926
DTEND;VALUE=DATE:20260927
DTSTAMP:20260422T211225
CREATED:20251105T203819Z
LAST-MODIFIED:20260416T230325Z
UID:10004643-1790380800-1790467199@circuitpartyinfo.com
SUMMARY:Matinée Pervert XXL Folsom 2026
DESCRIPTION:
URL:https://circuitpartyinfo.com/event/pervert-xxl-folsom-2026/
LOCATION:San Francisco\,  \, San Francisco\, CA\, United States
ATTACH;FMTTYPE=image/jpeg:https://circuitpartyinfo.com/wp-content/uploads/2025/11/unnamed-5.jpg
END:VEVENT
BEGIN:VEVENT
DTSTART;VALUE=DATE:20260926
DTEND;VALUE=DATE:20260927
DTSTAMP:20260422T211225
CREATED:20260407T215903Z
LAST-MODIFIED:20260410T220713Z
UID:10005810-1790380800-1790467199@circuitpartyinfo.com
SUMMARY:Magnitude 2026
DESCRIPTION:
URL:https://circuitpartyinfo.com/event/magnitude-2026/
LOCATION:San Francisco\,  \, San Francisco\, CA\, United States
ATTACH;FMTTYPE=image/jpeg:https://circuitpartyinfo.com/wp-content/uploads/2026/04/IMG_4042.jpeg
END:VEVENT
BEGIN:VEVENT
DTSTART;VALUE=DATE:20260927
DTEND;VALUE=DATE:20260928
DTSTAMP:20260422T211225
CREATED:20260119T152446Z
LAST-MODIFIED:20260119T152446Z
UID:10005151-1790467200-1790553599@circuitpartyinfo.com
SUMMARY:Aftershock Folsom: 30 Year Anniversary
DESCRIPTION:
URL:https://circuitpartyinfo.com/event/aftershock-folsom-30-year-anniversary/
LOCATION:San Francisco\,  \, San Francisco\, CA\, United States
ATTACH;FMTTYPE=image/jpeg:https://circuitpartyinfo.com/wp-content/uploads/2026/01/61f7a4c00f214a0aa77e23ad03ddbf3b.imagejpeg.659552.jpeg.photo-output-scaled.jpeg
END:VEVENT
BEGIN:VEVENT
DTSTART;VALUE=DATE:20260927
DTEND;VALUE=DATE:20260928
DTSTAMP:20260422T211225
CREATED:20260402T231915Z
LAST-MODIFIED:20260402T232111Z
UID:10005782-1790467200-1790553599@circuitpartyinfo.com
SUMMARY:Hot Tea: Leather Edition
DESCRIPTION:
URL:https://circuitpartyinfo.com/event/hot-tea-leather-edition-4/
LOCATION:San Francisco\,  \, San Francisco\, CA\, United States
ATTACH;FMTTYPE=image/jpeg:https://circuitpartyinfo.com/wp-content/uploads/2026/04/1080by1350-HOT-TEA-purple-26-768x960-1.jpg
END:VEVENT
BEGIN:VEVENT
DTSTART;VALUE=DATE:20260927
DTEND;VALUE=DATE:20260928
DTSTAMP:20260422T211225
CREATED:20260402T233117Z
LAST-MODIFIED:20260402T233117Z
UID:10005783-1790467200-1790553599@circuitpartyinfo.com
SUMMARY:Real Bad 36
DESCRIPTION:
URL:https://circuitpartyinfo.com/event/real-bad-36/
LOCATION:San Francisco\,  \, San Francisco\, CA\, United States
END:VEVENT
END:VCALENDAR