BEGIN:VCALENDAR
VERSION:2.0
PRODID:-//Circuit Party Info - ECPv6.15.20//NONSGML v1.0//EN
CALSCALE:GREGORIAN
METHOD:PUBLISH
X-ORIGINAL-URL:https://circuitpartyinfo.com
X-WR-CALDESC:Events for Circuit Party Info
REFRESH-INTERVAL;VALUE=DURATION:PT1H
X-Robots-Tag:noindex
X-PUBLISHED-TTL:PT1H
BEGIN:VTIMEZONE
TZID:America/Los_Angeles
BEGIN:DAYLIGHT
TZOFFSETFROM:-0800
TZOFFSETTO:-0700
TZNAME:PDT
DTSTART:20250309T100000
END:DAYLIGHT
BEGIN:STANDARD
TZOFFSETFROM:-0700
TZOFFSETTO:-0800
TZNAME:PST
DTSTART:20251102T090000
END:STANDARD
BEGIN:DAYLIGHT
TZOFFSETFROM:-0800
TZOFFSETTO:-0700
TZNAME:PDT
DTSTART:20260308T100000
END:DAYLIGHT
BEGIN:STANDARD
TZOFFSETFROM:-0700
TZOFFSETTO:-0800
TZNAME:PST
DTSTART:20261101T090000
END:STANDARD
BEGIN:DAYLIGHT
TZOFFSETFROM:-0800
TZOFFSETTO:-0700
TZNAME:PDT
DTSTART:20270314T100000
END:DAYLIGHT
BEGIN:STANDARD
TZOFFSETFROM:-0700
TZOFFSETTO:-0800
TZNAME:PST
DTSTART:20271107T090000
END:STANDARD
END:VTIMEZONE
BEGIN:VEVENT
DTSTART;VALUE=DATE:20260730
DTEND;VALUE=DATE:20260731
DTSTAMP:20260422T154834
CREATED:20251225T202824Z
LAST-MODIFIED:20260212T140654Z
UID:10004977-1785369600-1785455999@circuitpartyinfo.com
SUMMARY:HustlaBall Amsterdam World Pride
DESCRIPTION:
URL:https://circuitpartyinfo.com/event/hustlaball-amsterdam-world-pride/
LOCATION:Amsterdam\,  \, Amsterdam\, Netherlands
ATTACH;FMTTYPE=image/jpeg:https://circuitpartyinfo.com/wp-content/uploads/2025/12/605630238_18042034493651394_1112062792976959958_n.jpg
GEO:52.3675734;4.9041389
X-APPLE-STRUCTURED-LOCATION;VALUE=URI;X-ADDRESS=Amsterdam   Amsterdam Netherlands;X-APPLE-RADIUS=500;X-TITLE= :geo:4.9041389,52.3675734
END:VEVENT
BEGIN:VEVENT
DTSTART;VALUE=DATE:20260731
DTEND;VALUE=DATE:20260801
DTSTAMP:20260422T154834
CREATED:20250906T224828Z
LAST-MODIFIED:20260308T211357Z
UID:10004243-1785456000-1785542399@circuitpartyinfo.com
SUMMARY:FunHouse World Pride Opening Event
DESCRIPTION:
URL:https://circuitpartyinfo.com/event/funhouse-world-pride-2026/
LOCATION:Amsterdam\,  \, Amsterdam\, Netherlands
ATTACH;FMTTYPE=image/jpeg:https://circuitpartyinfo.com/wp-content/uploads/2025/09/641886482_18570930751036662_2252556108288531373_n.jpg
GEO:52.3675734;4.9041389
X-APPLE-STRUCTURED-LOCATION;VALUE=URI;X-ADDRESS=Amsterdam   Amsterdam Netherlands;X-APPLE-RADIUS=500;X-TITLE= :geo:4.9041389,52.3675734
END:VEVENT
BEGIN:VEVENT
DTSTART;VALUE=DATE:20260731
DTEND;VALUE=DATE:20260801
DTSTAMP:20260422T154834
CREATED:20260402T205653Z
LAST-MODIFIED:20260406T212743Z
UID:10005767-1785456000-1785542399@circuitpartyinfo.com
SUMMARY:XLSIOR Mykonos: Olympians
DESCRIPTION:
URL:https://circuitpartyinfo.com/event/xlsior-mykonos-olympians/
LOCATION:Amsterdam\,  \, Amsterdam\, Netherlands
ATTACH;FMTTYPE=image/jpeg:https://circuitpartyinfo.com/wp-content/uploads/2026/04/661588597_18575891476035875_8535000883369344287_n.jpg
GEO:52.3675734;4.9041389
X-APPLE-STRUCTURED-LOCATION;VALUE=URI;X-ADDRESS=Amsterdam   Amsterdam Netherlands;X-APPLE-RADIUS=500;X-TITLE= :geo:4.9041389,52.3675734
END:VEVENT
BEGIN:VEVENT
DTSTART;VALUE=DATE:20260731
DTEND;VALUE=DATE:20260802
DTSTAMP:20260422T154834
CREATED:20250610T221028Z
LAST-MODIFIED:20250719T133943Z
UID:10003825-1785456000-1785628799@circuitpartyinfo.com
SUMMARY:World Pride Music Festival 2026
DESCRIPTION:
URL:https://circuitpartyinfo.com/event/world-pride-music-festival-2026/
LOCATION:Amsterdam\,  \, Amsterdam\, Netherlands
ATTACH;FMTTYPE=image/jpeg:https://circuitpartyinfo.com/wp-content/uploads/2025/06/image_1.jpeg
GEO:52.3675734;4.9041389
X-APPLE-STRUCTURED-LOCATION;VALUE=URI;X-ADDRESS=Amsterdam   Amsterdam Netherlands;X-APPLE-RADIUS=500;X-TITLE= :geo:4.9041389,52.3675734
END:VEVENT
END:VCALENDAR