BEGIN:VCALENDAR
VERSION:2.0
PRODID:-//Circuit Party Info - ECPv6.15.20//NONSGML v1.0//EN
CALSCALE:GREGORIAN
METHOD:PUBLISH
X-ORIGINAL-URL:https://circuitpartyinfo.com
X-WR-CALDESC:Events for Circuit Party Info
REFRESH-INTERVAL;VALUE=DURATION:PT1H
X-Robots-Tag:noindex
X-PUBLISHED-TTL:PT1H
BEGIN:VTIMEZONE
TZID:America/Los_Angeles
BEGIN:DAYLIGHT
TZOFFSETFROM:-0800
TZOFFSETTO:-0700
TZNAME:PDT
DTSTART:20250309T100000
END:DAYLIGHT
BEGIN:STANDARD
TZOFFSETFROM:-0700
TZOFFSETTO:-0800
TZNAME:PST
DTSTART:20251102T090000
END:STANDARD
BEGIN:DAYLIGHT
TZOFFSETFROM:-0800
TZOFFSETTO:-0700
TZNAME:PDT
DTSTART:20260308T100000
END:DAYLIGHT
BEGIN:STANDARD
TZOFFSETFROM:-0700
TZOFFSETTO:-0800
TZNAME:PST
DTSTART:20261101T090000
END:STANDARD
BEGIN:DAYLIGHT
TZOFFSETFROM:-0800
TZOFFSETTO:-0700
TZNAME:PDT
DTSTART:20270314T100000
END:DAYLIGHT
BEGIN:STANDARD
TZOFFSETFROM:-0700
TZOFFSETTO:-0800
TZNAME:PST
DTSTART:20271107T090000
END:STANDARD
END:VTIMEZONE
BEGIN:VEVENT
DTSTART;VALUE=DATE:20260801
DTEND;VALUE=DATE:20260810
DTSTAMP:20260422T230749
CREATED:20250823T005348Z
LAST-MODIFIED:20260408T220004Z
UID:10004163-1785542400-1786319999@circuitpartyinfo.com
SUMMARY:Circuit Festival 2026
DESCRIPTION:
URL:https://circuitpartyinfo.com/event/circuit-festival-2026/
LOCATION:Barcelona\,  \, Barcelona\, Spain
ATTACH;FMTTYPE=image/jpeg:https://circuitpartyinfo.com/wp-content/uploads/2025/08/Untitled-1-3.jpg
END:VEVENT
BEGIN:VEVENT
DTSTART;VALUE=DATE:20260807
DTEND;VALUE=DATE:20260808
DTSTAMP:20260422T230749
CREATED:20250814T222324Z
LAST-MODIFIED:20260129T183420Z
UID:10004128-1786060800-1786147199@circuitpartyinfo.com
SUMMARY:MEAT Market Days XXL
DESCRIPTION:
URL:https://circuitpartyinfo.com/event/meat-market-days-xxl-2/
LOCATION:Chicago\,  \, Chicago\, IL\, United States
ATTACH;FMTTYPE=image/jpeg:https://circuitpartyinfo.com/wp-content/uploads/2025/08/IMG_2848.jpeg
GEO:41.8781136;-87.6297982
X-APPLE-STRUCTURED-LOCATION;VALUE=URI;X-ADDRESS=Chicago   Chicago IL United States;X-APPLE-RADIUS=500;X-TITLE= :geo:-87.6297982,41.8781136
END:VEVENT
BEGIN:VEVENT
DTSTART;VALUE=DATE:20260807
DTEND;VALUE=DATE:20260808
DTSTAMP:20260422T230749
CREATED:20260214T134716Z
LAST-MODIFIED:20260214T134716Z
UID:10005389-1786060800-1786147199@circuitpartyinfo.com
SUMMARY:Headrush: World Pride Edition
DESCRIPTION:
URL:https://circuitpartyinfo.com/event/headrush-world-pride-edition/
LOCATION:Amsterdam\,  \, Amsterdam\, Netherlands
ATTACH;FMTTYPE=image/jpeg:https://circuitpartyinfo.com/wp-content/uploads/2026/02/632608598_18063419699652795_4883861905321974740_n.jpg
GEO:52.3675734;4.9041389
X-APPLE-STRUCTURED-LOCATION;VALUE=URI;X-ADDRESS=Amsterdam   Amsterdam Netherlands;X-APPLE-RADIUS=500;X-TITLE= :geo:4.9041389,52.3675734
END:VEVENT
BEGIN:VEVENT
DTSTART;VALUE=DATE:20260807
DTEND;VALUE=DATE:20260808
DTSTAMP:20260422T230749
CREATED:20260217T223536Z
LAST-MODIFIED:20260422T213438Z
UID:10005415-1786060800-1786147199@circuitpartyinfo.com
SUMMARY:Brut
DESCRIPTION:
URL:https://circuitpartyinfo.com/event/brut-11/
LOCATION:Chicago\,  \, Chicago\, IL\, United States
ATTACH;FMTTYPE=image/jpeg:https://circuitpartyinfo.com/wp-content/uploads/2026/02/db_file_img_142501_1200xauto.jpg
GEO:41.8781136;-87.6297982
X-APPLE-STRUCTURED-LOCATION;VALUE=URI;X-ADDRESS=Chicago   Chicago IL United States;X-APPLE-RADIUS=500;X-TITLE= :geo:-87.6297982,41.8781136
END:VEVENT
BEGIN:VEVENT
DTSTART;VALUE=DATE:20260807
DTEND;VALUE=DATE:20260808
DTSTAMP:20260422T230749
CREATED:20260307T152122Z
LAST-MODIFIED:20260307T152122Z
UID:10005542-1786060800-1786147199@circuitpartyinfo.com
SUMMARY:FunHouse: World Pride Weekend 2
DESCRIPTION:
URL:https://circuitpartyinfo.com/event/funhouse-world-pride-weekend-2/
LOCATION:Amsterdam\,  \, Amsterdam\, Netherlands
ATTACH;FMTTYPE=image/jpeg:https://circuitpartyinfo.com/wp-content/uploads/2026/03/Untitled-2-5.jpg
GEO:52.3675734;4.9041389
X-APPLE-STRUCTURED-LOCATION;VALUE=URI;X-ADDRESS=Amsterdam   Amsterdam Netherlands;X-APPLE-RADIUS=500;X-TITLE= :geo:4.9041389,52.3675734
END:VEVENT
BEGIN:VEVENT
DTSTART;VALUE=DATE:20260807
DTEND;VALUE=DATE:20260808
DTSTAMP:20260422T230749
CREATED:20260416T214159Z
LAST-MODIFIED:20260416T214216Z
UID:10005907-1786060800-1786147199@circuitpartyinfo.com
SUMMARY:Backdoor: World Pride
DESCRIPTION:
URL:https://circuitpartyinfo.com/event/backdoor-world-pride/
LOCATION:Amsterdam\,  \, Amsterdam\, Netherlands
ATTACH;FMTTYPE=image/png:https://circuitpartyinfo.com/wp-content/uploads/2026/04/insta-feed-tickets-on-sale.png
GEO:52.3675734;4.9041389
X-APPLE-STRUCTURED-LOCATION;VALUE=URI;X-ADDRESS=Amsterdam   Amsterdam Netherlands;X-APPLE-RADIUS=500;X-TITLE= :geo:4.9041389,52.3675734
END:VEVENT
BEGIN:VEVENT
DTSTART;VALUE=DATE:20260807
DTEND;VALUE=DATE:20260809
DTSTAMP:20260422T230749
CREATED:20260408T220903Z
LAST-MODIFIED:20260408T220903Z
UID:10005815-1786060800-1786233599@circuitpartyinfo.com
SUMMARY:OMG Party - Prague Pride
DESCRIPTION:
URL:https://circuitpartyinfo.com/event/omg-party-prague-pride-2/
LOCATION:Prague\,  \, Prague\, Czech Republic
ATTACH;FMTTYPE=image/jpeg:https://circuitpartyinfo.com/wp-content/uploads/2026/04/669660378_18582492352050726_565495213333479490_n.jpg
END:VEVENT
END:VCALENDAR