BEGIN:VCALENDAR
VERSION:2.0
PRODID:-//Circuit Party Info - ECPv6.15.20//NONSGML v1.0//EN
CALSCALE:GREGORIAN
METHOD:PUBLISH
X-ORIGINAL-URL:https://circuitpartyinfo.com
X-WR-CALDESC:Events for Circuit Party Info
REFRESH-INTERVAL;VALUE=DURATION:PT1H
X-Robots-Tag:noindex
X-PUBLISHED-TTL:PT1H
BEGIN:VTIMEZONE
TZID:America/Los_Angeles
BEGIN:DAYLIGHT
TZOFFSETFROM:-0800
TZOFFSETTO:-0700
TZNAME:PDT
DTSTART:20250309T100000
END:DAYLIGHT
BEGIN:STANDARD
TZOFFSETFROM:-0700
TZOFFSETTO:-0800
TZNAME:PST
DTSTART:20251102T090000
END:STANDARD
BEGIN:DAYLIGHT
TZOFFSETFROM:-0800
TZOFFSETTO:-0700
TZNAME:PDT
DTSTART:20260308T100000
END:DAYLIGHT
BEGIN:STANDARD
TZOFFSETFROM:-0700
TZOFFSETTO:-0800
TZNAME:PST
DTSTART:20261101T090000
END:STANDARD
BEGIN:DAYLIGHT
TZOFFSETFROM:-0800
TZOFFSETTO:-0700
TZNAME:PDT
DTSTART:20270314T100000
END:DAYLIGHT
BEGIN:STANDARD
TZOFFSETFROM:-0700
TZOFFSETTO:-0800
TZNAME:PST
DTSTART:20271107T090000
END:STANDARD
END:VTIMEZONE
BEGIN:VEVENT
DTSTART;VALUE=DATE:20260726
DTEND;VALUE=DATE:20260727
DTSTAMP:20260422T191618
CREATED:20260404T123927Z
LAST-MODIFIED:20260404T123927Z
UID:10005795-1785024000-1785110399@circuitpartyinfo.com
SUMMARY:ROMP 69 – The Dirty Discotheque
DESCRIPTION:
URL:https://circuitpartyinfo.com/event/romp-69-the-dirty-discotheque/
LOCATION:San Francisco\,  \, San Francisco\, CA\, United States
ATTACH;FMTTYPE=image/jpeg:https://circuitpartyinfo.com/wp-content/uploads/2026/04/db_file_img_141410_1200xauto.jpg
END:VEVENT
BEGIN:VEVENT
DTSTART;VALUE=DATE:20260726
DTEND;VALUE=DATE:20260727
DTSTAMP:20260422T191618
CREATED:20260420T221302Z
LAST-MODIFIED:20260421T213253Z
UID:10005960-1785024000-1785110399@circuitpartyinfo.com
SUMMARY:Overtime with Nina Flowers (Joining Hearts Weekend) - XION
DESCRIPTION:
URL:https://circuitpartyinfo.com/event/overtime-with-nina-flowers-xion/
LOCATION:Atlanta\,  \, Atlanta\, GA\, United States
ATTACH;FMTTYPE=image/jpeg:https://circuitpartyinfo.com/wp-content/uploads/2026/04/81b7e5_05a9ec48d7b24b6cac3a8eea4ec3e6camv2.jpeg
GEO:33.748752;-84.3876845
X-APPLE-STRUCTURED-LOCATION;VALUE=URI;X-ADDRESS=Atlanta   Atlanta GA United States;X-APPLE-RADIUS=500;X-TITLE= :geo:-84.3876845,33.748752
END:VEVENT
END:VCALENDAR