BEGIN:VCALENDAR
VERSION:2.0
PRODID:-//Circuit Party Info - ECPv6.15.20//NONSGML v1.0//EN
CALSCALE:GREGORIAN
METHOD:PUBLISH
X-ORIGINAL-URL:https://circuitpartyinfo.com
X-WR-CALDESC:Events for Circuit Party Info
REFRESH-INTERVAL;VALUE=DURATION:PT1H
X-Robots-Tag:noindex
X-PUBLISHED-TTL:PT1H
BEGIN:VTIMEZONE
TZID:America/Los_Angeles
BEGIN:DAYLIGHT
TZOFFSETFROM:-0800
TZOFFSETTO:-0700
TZNAME:PDT
DTSTART:20250309T100000
END:DAYLIGHT
BEGIN:STANDARD
TZOFFSETFROM:-0700
TZOFFSETTO:-0800
TZNAME:PST
DTSTART:20251102T090000
END:STANDARD
BEGIN:DAYLIGHT
TZOFFSETFROM:-0800
TZOFFSETTO:-0700
TZNAME:PDT
DTSTART:20260308T100000
END:DAYLIGHT
BEGIN:STANDARD
TZOFFSETFROM:-0700
TZOFFSETTO:-0800
TZNAME:PST
DTSTART:20261101T090000
END:STANDARD
BEGIN:DAYLIGHT
TZOFFSETFROM:-0800
TZOFFSETTO:-0700
TZNAME:PDT
DTSTART:20270314T100000
END:DAYLIGHT
BEGIN:STANDARD
TZOFFSETFROM:-0700
TZOFFSETTO:-0800
TZNAME:PST
DTSTART:20271107T090000
END:STANDARD
END:VTIMEZONE
BEGIN:VEVENT
DTSTART;VALUE=DATE:20260724
DTEND;VALUE=DATE:20260725
DTSTAMP:20260422T192631
CREATED:20260218T221611Z
LAST-MODIFIED:20260218T221611Z
UID:10005418-1784851200-1784937599@circuitpartyinfo.com
SUMMARY:PRIME - Daddy Alley
DESCRIPTION:
URL:https://circuitpartyinfo.com/event/prime-daddy-alley-3/
LOCATION:San Francisco\,  \, San Francisco\, CA\, United States
ATTACH;FMTTYPE=image/jpeg:https://circuitpartyinfo.com/wp-content/uploads/2026/02/637155397_17985717863942328_5012391694231947576_n.jpg
END:VEVENT
BEGIN:VEVENT
DTSTART;VALUE=DATE:20260724
DTEND;VALUE=DATE:20260725
DTSTAMP:20260422T192631
CREATED:20260402T233328Z
LAST-MODIFIED:20260408T215752Z
UID:10005784-1784851200-1784937599@circuitpartyinfo.com
SUMMARY:Real Bad: Ritual
DESCRIPTION:
URL:https://circuitpartyinfo.com/event/real-bad-ritual-3/
LOCATION:San Francisco\,  \, San Francisco\, CA\, United States
ATTACH;FMTTYPE=image/jpeg:https://circuitpartyinfo.com/wp-content/uploads/2026/04/669746937_18576515989010393_5711730515126741837_n.jpg
END:VEVENT
BEGIN:VEVENT
DTSTART;VALUE=DATE:20260724
DTEND;VALUE=DATE:20260726
DTSTAMP:20260422T192631
CREATED:20260422T214133Z
LAST-MODIFIED:20260422T214140Z
UID:10005990-1784851200-1785023999@circuitpartyinfo.com
SUMMARY:Joining Hearts Weekend 2026
DESCRIPTION:
URL:https://circuitpartyinfo.com/event/joining-hearts-2026/
LOCATION:Atlanta\,  \, Atlanta\, GA\, United States
ATTACH;FMTTYPE=image/jpeg:https://circuitpartyinfo.com/wp-content/uploads/2026/04/Untitled-1-4.jpg
GEO:33.748752;-84.3876845
X-APPLE-STRUCTURED-LOCATION;VALUE=URI;X-ADDRESS=Atlanta   Atlanta GA United States;X-APPLE-RADIUS=500;X-TITLE= :geo:-84.3876845,33.748752
END:VEVENT
END:VCALENDAR