BEGIN:VCALENDAR
VERSION:2.0
PRODID:-//Circuit Party Info - ECPv6.15.20//NONSGML v1.0//EN
CALSCALE:GREGORIAN
METHOD:PUBLISH
X-WR-CALNAME:Circuit Party Info
X-ORIGINAL-URL:https://circuitpartyinfo.com
X-WR-CALDESC:Events for Circuit Party Info
REFRESH-INTERVAL;VALUE=DURATION:PT1H
X-Robots-Tag:noindex
X-PUBLISHED-TTL:PT1H
BEGIN:VTIMEZONE
TZID:America/Los_Angeles
BEGIN:DAYLIGHT
TZOFFSETFROM:-0800
TZOFFSETTO:-0700
TZNAME:PDT
DTSTART:20250309T100000
END:DAYLIGHT
BEGIN:STANDARD
TZOFFSETFROM:-0700
TZOFFSETTO:-0800
TZNAME:PST
DTSTART:20251102T090000
END:STANDARD
BEGIN:DAYLIGHT
TZOFFSETFROM:-0800
TZOFFSETTO:-0700
TZNAME:PDT
DTSTART:20260308T100000
END:DAYLIGHT
BEGIN:STANDARD
TZOFFSETFROM:-0700
TZOFFSETTO:-0800
TZNAME:PST
DTSTART:20261101T090000
END:STANDARD
BEGIN:DAYLIGHT
TZOFFSETFROM:-0800
TZOFFSETTO:-0700
TZNAME:PDT
DTSTART:20270314T100000
END:DAYLIGHT
BEGIN:STANDARD
TZOFFSETFROM:-0700
TZOFFSETTO:-0800
TZNAME:PST
DTSTART:20271107T090000
END:STANDARD
END:VTIMEZONE
BEGIN:VEVENT
DTSTART;VALUE=DATE:20260717
DTEND;VALUE=DATE:20260718
DTSTAMP:20260422T213456
CREATED:20260203T225258Z
LAST-MODIFIED:20260203T225258Z
UID:10005318-1784246400-1784332799@circuitpartyinfo.com
SUMMARY:Grind: Pride Edition
DESCRIPTION:
URL:https://circuitpartyinfo.com/event/grind-pride-edition/
LOCATION:Frankfurt\,  \, Frankfurt\, Germany
ATTACH;FMTTYPE=image/jpeg:https://circuitpartyinfo.com/wp-content/uploads/2026/02/626054043_18149765977457062_949945420267415074_n.jpg
END:VEVENT
BEGIN:VEVENT
DTSTART;VALUE=DATE:20260717
DTEND;VALUE=DATE:20260718
DTSTAMP:20260422T213456
CREATED:20260420T225810Z
LAST-MODIFIED:20260420T225810Z
UID:10005974-1784246400-1784332799@circuitpartyinfo.com
SUMMARY:Treasure Trail Portland Pride
DESCRIPTION:
URL:https://circuitpartyinfo.com/event/treasure-trail-portland-pride/
LOCATION:Portland\,  \, Portland\, OR\, United States
ATTACH;FMTTYPE=image/jpeg:https://circuitpartyinfo.com/wp-content/uploads/2026/04/unnamed-file-1.jpg
END:VEVENT
BEGIN:VEVENT
DTSTART;VALUE=DATE:20260717
DTEND;VALUE=DATE:20260718
DTSTAMP:20260422T213456
CREATED:20260420T225857Z
LAST-MODIFIED:20260420T225857Z
UID:10005975-1784246400-1784332799@circuitpartyinfo.com
SUMMARY:Bearracuda: Portland Pride Friday
DESCRIPTION:
URL:https://circuitpartyinfo.com/event/bearracuda-portland-pride-friday/
LOCATION:Portland\,  \, Portland\, OR\, United States
END:VEVENT
BEGIN:VEVENT
DTSTART;VALUE=DATE:20260717
DTEND;VALUE=DATE:20260719
DTSTAMP:20260422T213456
CREATED:20260330T212959Z
LAST-MODIFIED:20260417T210356Z
UID:10005734-1784246400-1784419199@circuitpartyinfo.com
SUMMARY:White Party Vietnam 2026
DESCRIPTION:
URL:https://circuitpartyinfo.com/event/white-party-vietnam-2026/
LOCATION:Ho Chi Minh\,  \, Ho Chi Minh\, Viet Nam
ATTACH;FMTTYPE=image/jpeg:https://circuitpartyinfo.com/wp-content/uploads/2026/03/670312669_17950562892137106_2213200092033691045_n.jpg
GEO:10.8230989;106.6296638
X-APPLE-STRUCTURED-LOCATION;VALUE=URI;X-ADDRESS=Ho Chi Minh   Ho Chi Minh Viet Nam;X-APPLE-RADIUS=500;X-TITLE= :geo:106.6296638,10.8230989
END:VEVENT
BEGIN:VEVENT
DTSTART;VALUE=DATE:20260717
DTEND;VALUE=DATE:20260719
DTSTAMP:20260422T213456
CREATED:20260416T223219Z
LAST-MODIFIED:20260416T223219Z
UID:10005910-1784246400-1784419199@circuitpartyinfo.com
SUMMARY:Gear Blackout Party
DESCRIPTION:
URL:https://circuitpartyinfo.com/event/gear-blackout-party/
LOCATION:San Diego\,  \, San Diego\, CA\, United States
ATTACH;FMTTYPE=image/jpeg:https://circuitpartyinfo.com/wp-content/uploads/2026/04/670543561_17969122902045665_9133405228965433445_n.jpg
GEO:32.715738;-117.1610838
X-APPLE-STRUCTURED-LOCATION;VALUE=URI;X-ADDRESS=San Diego   San Diego CA United States;X-APPLE-RADIUS=500;X-TITLE= :geo:-117.1610838,32.715738
END:VEVENT
BEGIN:VEVENT
DTSTART;VALUE=DATE:20260717
DTEND;VALUE=DATE:20260720
DTSTAMP:20260422T213456
CREATED:20260108T222052Z
LAST-MODIFIED:20260205T221235Z
UID:10005053-1784246400-1784505599@circuitpartyinfo.com
SUMMARY:Together 10 Years
DESCRIPTION:
URL:https://circuitpartyinfo.com/event/together-10-years/
LOCATION:Lisbon\,   \, Lisbon\, Portugal
ATTACH;FMTTYPE=image/jpeg:https://circuitpartyinfo.com/wp-content/uploads/2026/01/625457340_18557517385045367_8993251733175644494_n.jpg
END:VEVENT
END:VCALENDAR