BEGIN:VCALENDAR
VERSION:2.0
PRODID:-//Circuit Party Info - ECPv6.15.20//NONSGML v1.0//EN
CALSCALE:GREGORIAN
METHOD:PUBLISH
X-ORIGINAL-URL:https://circuitpartyinfo.com
X-WR-CALDESC:Events for Circuit Party Info
REFRESH-INTERVAL;VALUE=DURATION:PT1H
X-Robots-Tag:noindex
X-PUBLISHED-TTL:PT1H
BEGIN:VTIMEZONE
TZID:America/Los_Angeles
BEGIN:DAYLIGHT
TZOFFSETFROM:-0800
TZOFFSETTO:-0700
TZNAME:PDT
DTSTART:20250309T100000
END:DAYLIGHT
BEGIN:STANDARD
TZOFFSETFROM:-0700
TZOFFSETTO:-0800
TZNAME:PST
DTSTART:20251102T090000
END:STANDARD
BEGIN:DAYLIGHT
TZOFFSETFROM:-0800
TZOFFSETTO:-0700
TZNAME:PDT
DTSTART:20260308T100000
END:DAYLIGHT
BEGIN:STANDARD
TZOFFSETFROM:-0700
TZOFFSETTO:-0800
TZNAME:PST
DTSTART:20261101T090000
END:STANDARD
BEGIN:DAYLIGHT
TZOFFSETFROM:-0800
TZOFFSETTO:-0700
TZNAME:PDT
DTSTART:20270314T100000
END:DAYLIGHT
BEGIN:STANDARD
TZOFFSETFROM:-0700
TZOFFSETTO:-0800
TZNAME:PST
DTSTART:20271107T090000
END:STANDARD
END:VTIMEZONE
BEGIN:VEVENT
DTSTART;VALUE=DATE:20260711
DTEND;VALUE=DATE:20260712
DTSTAMP:20260422T194614
CREATED:20251220T184129Z
LAST-MODIFIED:20251220T184129Z
UID:10004943-1783728000-1783814399@circuitpartyinfo.com
SUMMARY:11th Annual FlockFest Beach Party
DESCRIPTION:
URL:https://circuitpartyinfo.com/event/11th-annual-flockfest-beach-party/
LOCATION:Fort Lauderdale\,  \, Fort Lauderdale\, FL\, United States
ATTACH;FMTTYPE=image/jpeg:https://circuitpartyinfo.com/wp-content/uploads/2025/12/591813762_18172227472369694_1445077313634373872_n.jpg
GEO:26.1603626;-80.138934
X-APPLE-STRUCTURED-LOCATION;VALUE=URI;X-ADDRESS=Fort Lauderdale   Fort Lauderdale FL United States;X-APPLE-RADIUS=500;X-TITLE= :geo:-80.138934,26.1603626
END:VEVENT
BEGIN:VEVENT
DTSTART;VALUE=DATE:20260711
DTEND;VALUE=DATE:20260712
DTSTAMP:20260422T194614
CREATED:20260308T123811Z
LAST-MODIFIED:20260308T123811Z
UID:10005551-1783728000-1783814399@circuitpartyinfo.com
SUMMARY:Labirinto Proibido
DESCRIPTION:
URL:https://circuitpartyinfo.com/event/labirinto-proibido/
LOCATION:São Paulo\,  \, São Paulo\, Brazil
ATTACH;FMTTYPE=image/jpeg:https://circuitpartyinfo.com/wp-content/uploads/2026/03/18-LABIRINTO-SP-INGRESSE.jpg-768x1024-1.jpeg
GEO:-23.5557714;-46.6395571
X-APPLE-STRUCTURED-LOCATION;VALUE=URI;X-ADDRESS=São Paulo   São Paulo Brazil;X-APPLE-RADIUS=500;X-TITLE= :geo:-46.6395571,-23.5557714
END:VEVENT
BEGIN:VEVENT
DTSTART;VALUE=DATE:20260711
DTEND;VALUE=DATE:20260712
DTSTAMP:20260422T194614
CREATED:20260414T222251Z
LAST-MODIFIED:20260414T222251Z
UID:10005877-1783728000-1783814399@circuitpartyinfo.com
SUMMARY:JOY - 11 Years
DESCRIPTION:
URL:https://circuitpartyinfo.com/event/joy-11-years/
LOCATION:São Paulo\,  \, São Paulo\, Brazil
ATTACH;FMTTYPE=image/jpeg:https://circuitpartyinfo.com/wp-content/uploads/2026/04/Amazing-Company-Joy-11-anos-768x1024-1.jpg
GEO:-23.5557714;-46.6395571
X-APPLE-STRUCTURED-LOCATION;VALUE=URI;X-ADDRESS=São Paulo   São Paulo Brazil;X-APPLE-RADIUS=500;X-TITLE= :geo:-46.6395571,-23.5557714
END:VEVENT
BEGIN:VEVENT
DTSTART;VALUE=DATE:20260711
DTEND;VALUE=DATE:20260712
DTSTAMP:20260422T194614
CREATED:20260421T214235Z
LAST-MODIFIED:20260421T214250Z
UID:10005981-1783728000-1783814399@circuitpartyinfo.com
SUMMARY:Megawoof
DESCRIPTION:
URL:https://circuitpartyinfo.com/event/megawoof-9/
LOCATION:Chicago\,  \, Chicago\, IL\, United States
GEO:41.8781136;-87.6297982
X-APPLE-STRUCTURED-LOCATION;VALUE=URI;X-ADDRESS=Chicago   Chicago IL United States;X-APPLE-RADIUS=500;X-TITLE= :geo:-87.6297982,41.8781136
END:VEVENT
END:VCALENDAR