BEGIN:VCALENDAR
VERSION:2.0
PRODID:-//Circuit Party Info - ECPv6.15.20//NONSGML v1.0//EN
CALSCALE:GREGORIAN
METHOD:PUBLISH
X-WR-CALNAME:Circuit Party Info
X-ORIGINAL-URL:https://circuitpartyinfo.com
X-WR-CALDESC:Events for Circuit Party Info
REFRESH-INTERVAL;VALUE=DURATION:PT1H
X-Robots-Tag:noindex
X-PUBLISHED-TTL:PT1H
BEGIN:VTIMEZONE
TZID:America/Los_Angeles
BEGIN:DAYLIGHT
TZOFFSETFROM:-0800
TZOFFSETTO:-0700
TZNAME:PDT
DTSTART:20250309T100000
END:DAYLIGHT
BEGIN:STANDARD
TZOFFSETFROM:-0700
TZOFFSETTO:-0800
TZNAME:PST
DTSTART:20251102T090000
END:STANDARD
BEGIN:DAYLIGHT
TZOFFSETFROM:-0800
TZOFFSETTO:-0700
TZNAME:PDT
DTSTART:20260308T100000
END:DAYLIGHT
BEGIN:STANDARD
TZOFFSETFROM:-0700
TZOFFSETTO:-0800
TZNAME:PST
DTSTART:20261101T090000
END:STANDARD
BEGIN:DAYLIGHT
TZOFFSETFROM:-0800
TZOFFSETTO:-0700
TZNAME:PDT
DTSTART:20270314T100000
END:DAYLIGHT
BEGIN:STANDARD
TZOFFSETFROM:-0700
TZOFFSETTO:-0800
TZNAME:PST
DTSTART:20271107T090000
END:STANDARD
END:VTIMEZONE
BEGIN:VEVENT
DTSTART;VALUE=DATE:20260625
DTEND;VALUE=DATE:20260630
DTSTAMP:20260422T210957
CREATED:20250715T003545Z
LAST-MODIFIED:20260406T234619Z
UID:10003956-1782345600-1782777599@circuitpartyinfo.com
SUMMARY:Latin American Pride 2026
DESCRIPTION:
URL:https://circuitpartyinfo.com/event/latin-american-pride-2026/
LOCATION:Mexico City\,  \, Mexico City\, Mexico
ATTACH;FMTTYPE=image/jpeg:https://circuitpartyinfo.com/wp-content/uploads/2025/07/Untitled-2.jpg
END:VEVENT
BEGIN:VEVENT
DTSTART;VALUE=DATE:20260625
DTEND;VALUE=DATE:20260630
DTSTAMP:20260422T210957
CREATED:20260213T232316Z
LAST-MODIFIED:20260406T232831Z
UID:10005387-1782345600-1782777599@circuitpartyinfo.com
SUMMARY:Prism Pride Festival 2026: Beyond the Thunderdome
DESCRIPTION:
URL:https://circuitpartyinfo.com/event/prism-pride-festival-2026/
LOCATION:Toronto\,  \, Toronto\, Ontario\, Canada
ATTACH;FMTTYPE=image/jpeg:https://circuitpartyinfo.com/wp-content/uploads/2026/02/Untitled-1-28.jpg
GEO:43.653226;-79.3831843
X-APPLE-STRUCTURED-LOCATION;VALUE=URI;X-ADDRESS=Toronto   Toronto Ontario Canada;X-APPLE-RADIUS=500;X-TITLE= :geo:-79.3831843,43.653226
END:VEVENT
BEGIN:VEVENT
DTSTART;VALUE=DATE:20260626
DTEND;VALUE=DATE:20260630
DTSTAMP:20260422T210957
CREATED:20260210T224135Z
LAST-MODIFIED:20260210T224135Z
UID:10005364-1782432000-1782777599@circuitpartyinfo.com
SUMMARY:Love Pride Medellin
DESCRIPTION:
URL:https://circuitpartyinfo.com/event/love-pride-medellin-2/
LOCATION:Medellin\, Columbia\,  \, Medellin\, Colombia
ATTACH;FMTTYPE=image/jpeg:https://circuitpartyinfo.com/wp-content/uploads/2026/02/632100552_18032848121775118_7944670807830518475_n.jpg
GEO:6.2476376;-75.5658153
X-APPLE-STRUCTURED-LOCATION;VALUE=URI;X-ADDRESS=Medellin Columbia   Medellin Colombia;X-APPLE-RADIUS=500;X-TITLE= :geo:-75.5658153,6.2476376
END:VEVENT
BEGIN:VEVENT
DTSTART;VALUE=DATE:20260626
DTEND;VALUE=DATE:20260630
DTSTAMP:20260422T210957
CREATED:20260319T214833Z
LAST-MODIFIED:20260319T214833Z
UID:10005637-1782432000-1782777599@circuitpartyinfo.com
SUMMARY:Medellín Pride
DESCRIPTION:
URL:https://circuitpartyinfo.com/event/medellin-pride/
LOCATION:Medellin\, Columbia\,  \, Medellin\, Colombia
ATTACH;FMTTYPE=image/jpeg:https://circuitpartyinfo.com/wp-content/uploads/2026/03/655248338_17872570101562945_2836357033171482358_n.jpg
GEO:6.2476376;-75.5658153
X-APPLE-STRUCTURED-LOCATION;VALUE=URI;X-ADDRESS=Medellin Columbia   Medellin Colombia;X-APPLE-RADIUS=500;X-TITLE= :geo:-75.5658153,6.2476376
END:VEVENT
BEGIN:VEVENT
DTSTART;VALUE=DATE:20260627
DTEND;VALUE=DATE:20260630
DTSTAMP:20260422T210957
CREATED:20260414T230323Z
LAST-MODIFIED:20260414T230323Z
UID:10005889-1782518400-1782777599@circuitpartyinfo.com
SUMMARY:Bogota Pride Circuit Fest
DESCRIPTION:
URL:https://circuitpartyinfo.com/event/bogota-pride-circuit-fest/
LOCATION:Bogata\,  \, Bogata\, Colombia
ATTACH;FMTTYPE=image/jpeg:https://circuitpartyinfo.com/wp-content/uploads/2026/04/670840439_18517391902072991_7894533133546560979_n.jpg
GEO:4.7109886;-74.072092
X-APPLE-STRUCTURED-LOCATION;VALUE=URI;X-ADDRESS=Bogata   Bogata Colombia;X-APPLE-RADIUS=500;X-TITLE= :geo:-74.072092,4.7109886
END:VEVENT
BEGIN:VEVENT
DTSTART;VALUE=DATE:20260629
DTEND;VALUE=DATE:20260630
DTSTAMP:20260422T210957
CREATED:20260110T003121Z
LAST-MODIFIED:20260401T210022Z
UID:10005077-1782691200-1782777599@circuitpartyinfo.com
SUMMARY:Viva Pride 2026
DESCRIPTION:
URL:https://circuitpartyinfo.com/event/viva-pride-2026/
LOCATION:New York City\,   \, New York City\, NY\, United States
ATTACH;FMTTYPE=image/jpeg:https://circuitpartyinfo.com/wp-content/uploads/2026/01/IMG_3945.jpeg
GEO:40.7127753;-74.0059728
X-APPLE-STRUCTURED-LOCATION;VALUE=URI;X-ADDRESS=New York City    New York City NY United States;X-APPLE-RADIUS=500;X-TITLE=  :geo:-74.0059728,40.7127753
END:VEVENT
BEGIN:VEVENT
DTSTART;VALUE=DATE:20260629
DTEND;VALUE=DATE:20260630
DTSTAMP:20260422T210957
CREATED:20260110T003223Z
LAST-MODIFIED:20260401T210115Z
UID:10005078-1782691200-1782777599@circuitpartyinfo.com
SUMMARY:Sunrise Pride 2026
DESCRIPTION:
URL:https://circuitpartyinfo.com/event/sunrise-pride-2026/
LOCATION:New York City\,   \, New York City\, NY\, United States
ATTACH;FMTTYPE=image/jpeg:https://circuitpartyinfo.com/wp-content/uploads/2026/01/IMG_3945.jpeg
GEO:40.7127753;-74.0059728
X-APPLE-STRUCTURED-LOCATION;VALUE=URI;X-ADDRESS=New York City    New York City NY United States;X-APPLE-RADIUS=500;X-TITLE=  :geo:-74.0059728,40.7127753
END:VEVENT
BEGIN:VEVENT
DTSTART;VALUE=DATE:20260629
DTEND;VALUE=DATE:20260630
DTSTAMP:20260422T210957
CREATED:20260406T131400Z
LAST-MODIFIED:20260406T131400Z
UID:10005802-1782691200-1782777599@circuitpartyinfo.com
SUMMARY:Climax! Pride Closing Party
DESCRIPTION:
URL:https://circuitpartyinfo.com/event/climax-pride-closing-party-2/
LOCATION:New York City\,   \, New York City\, NY\, United States
ATTACH;FMTTYPE=image/jpeg:https://circuitpartyinfo.com/wp-content/uploads/2026/04/IMG_4007.jpeg
GEO:40.7127753;-74.0059728
X-APPLE-STRUCTURED-LOCATION;VALUE=URI;X-ADDRESS=New York City    New York City NY United States;X-APPLE-RADIUS=500;X-TITLE=  :geo:-74.0059728,40.7127753
END:VEVENT
BEGIN:VEVENT
DTSTART;VALUE=DATE:20260629
DTEND;VALUE=DATE:20260630
DTSTAMP:20260422T210957
CREATED:20260417T235207Z
LAST-MODIFIED:20260417T235207Z
UID:10005929-1782691200-1782777599@circuitpartyinfo.com
SUMMARY:FEVER Rising Afterhours
DESCRIPTION:
URL:https://circuitpartyinfo.com/event/fever-rising-afterhours/
LOCATION:New York City\,   \, New York City\, NY\, United States
ATTACH;FMTTYPE=image/webp:https://circuitpartyinfo.com/wp-content/uploads/2026/04/44c7d7cb42481546df415ec1931c9a19dd64d0e9.webp
GEO:40.7127753;-74.0059728
X-APPLE-STRUCTURED-LOCATION;VALUE=URI;X-ADDRESS=New York City    New York City NY United States;X-APPLE-RADIUS=500;X-TITLE=  :geo:-74.0059728,40.7127753
END:VEVENT
END:VCALENDAR