BEGIN:VCALENDAR
VERSION:2.0
PRODID:-//Circuit Party Info - ECPv6.15.20//NONSGML v1.0//EN
CALSCALE:GREGORIAN
METHOD:PUBLISH
X-ORIGINAL-URL:https://circuitpartyinfo.com
X-WR-CALDESC:Events for Circuit Party Info
REFRESH-INTERVAL;VALUE=DURATION:PT1H
X-Robots-Tag:noindex
X-PUBLISHED-TTL:PT1H
BEGIN:VTIMEZONE
TZID:America/Los_Angeles
BEGIN:DAYLIGHT
TZOFFSETFROM:-0800
TZOFFSETTO:-0700
TZNAME:PDT
DTSTART:20250309T100000
END:DAYLIGHT
BEGIN:STANDARD
TZOFFSETFROM:-0700
TZOFFSETTO:-0800
TZNAME:PST
DTSTART:20251102T090000
END:STANDARD
BEGIN:DAYLIGHT
TZOFFSETFROM:-0800
TZOFFSETTO:-0700
TZNAME:PDT
DTSTART:20260308T100000
END:DAYLIGHT
BEGIN:STANDARD
TZOFFSETFROM:-0700
TZOFFSETTO:-0800
TZNAME:PST
DTSTART:20261101T090000
END:STANDARD
BEGIN:DAYLIGHT
TZOFFSETFROM:-0800
TZOFFSETTO:-0700
TZNAME:PDT
DTSTART:20270314T100000
END:DAYLIGHT
BEGIN:STANDARD
TZOFFSETFROM:-0700
TZOFFSETTO:-0800
TZNAME:PST
DTSTART:20271107T090000
END:STANDARD
END:VTIMEZONE
BEGIN:VEVENT
DTSTART;VALUE=DATE:20260625
DTEND;VALUE=DATE:20260630
DTSTAMP:20260422T194617
CREATED:20250715T003545Z
LAST-MODIFIED:20260406T234619Z
UID:10003956-1782345600-1782777599@circuitpartyinfo.com
SUMMARY:Latin American Pride 2026
DESCRIPTION:
URL:https://circuitpartyinfo.com/event/latin-american-pride-2026/
LOCATION:Mexico City\,  \, Mexico City\, Mexico
ATTACH;FMTTYPE=image/jpeg:https://circuitpartyinfo.com/wp-content/uploads/2025/07/Untitled-2.jpg
END:VEVENT
BEGIN:VEVENT
DTSTART;VALUE=DATE:20260625
DTEND;VALUE=DATE:20260630
DTSTAMP:20260422T194617
CREATED:20260213T232316Z
LAST-MODIFIED:20260406T232831Z
UID:10005387-1782345600-1782777599@circuitpartyinfo.com
SUMMARY:Prism Pride Festival 2026: Beyond the Thunderdome
DESCRIPTION:
URL:https://circuitpartyinfo.com/event/prism-pride-festival-2026/
LOCATION:Toronto\,  \, Toronto\, Ontario\, Canada
ATTACH;FMTTYPE=image/jpeg:https://circuitpartyinfo.com/wp-content/uploads/2026/02/Untitled-1-28.jpg
GEO:43.653226;-79.3831843
X-APPLE-STRUCTURED-LOCATION;VALUE=URI;X-ADDRESS=Toronto   Toronto Ontario Canada;X-APPLE-RADIUS=500;X-TITLE= :geo:-79.3831843,43.653226
END:VEVENT
BEGIN:VEVENT
DTSTART;VALUE=DATE:20260626
DTEND;VALUE=DATE:20260629
DTSTAMP:20260422T194617
CREATED:20260415T001805Z
LAST-MODIFIED:20260415T001805Z
UID:10005890-1782432000-1782691199@circuitpartyinfo.com
SUMMARY:Cuff Pride Fest 2026
DESCRIPTION:
URL:https://circuitpartyinfo.com/event/cuff-pride-fest-2026/
LOCATION:Seattle\,   \, Seattle\, WA\, United States
ATTACH;FMTTYPE=image/jpeg:https://circuitpartyinfo.com/wp-content/uploads/2026/04/IMG_4084.jpeg
GEO:47.6062095;-122.3320708
X-APPLE-STRUCTURED-LOCATION;VALUE=URI;X-ADDRESS=Seattle    Seattle WA United States;X-APPLE-RADIUS=500;X-TITLE=  :geo:-122.3320708,47.6062095
END:VEVENT
BEGIN:VEVENT
DTSTART;VALUE=DATE:20260626
DTEND;VALUE=DATE:20260630
DTSTAMP:20260422T194617
CREATED:20260210T224135Z
LAST-MODIFIED:20260210T224135Z
UID:10005364-1782432000-1782777599@circuitpartyinfo.com
SUMMARY:Love Pride Medellin
DESCRIPTION:
URL:https://circuitpartyinfo.com/event/love-pride-medellin-2/
LOCATION:Medellin\, Columbia\,  \, Medellin\, Colombia
ATTACH;FMTTYPE=image/jpeg:https://circuitpartyinfo.com/wp-content/uploads/2026/02/632100552_18032848121775118_7944670807830518475_n.jpg
GEO:6.2476376;-75.5658153
X-APPLE-STRUCTURED-LOCATION;VALUE=URI;X-ADDRESS=Medellin Columbia   Medellin Colombia;X-APPLE-RADIUS=500;X-TITLE= :geo:-75.5658153,6.2476376
END:VEVENT
BEGIN:VEVENT
DTSTART;VALUE=DATE:20260626
DTEND;VALUE=DATE:20260630
DTSTAMP:20260422T194617
CREATED:20260319T214833Z
LAST-MODIFIED:20260319T214833Z
UID:10005637-1782432000-1782777599@circuitpartyinfo.com
SUMMARY:Medellín Pride
DESCRIPTION:
URL:https://circuitpartyinfo.com/event/medellin-pride/
LOCATION:Medellin\, Columbia\,  \, Medellin\, Colombia
ATTACH;FMTTYPE=image/jpeg:https://circuitpartyinfo.com/wp-content/uploads/2026/03/655248338_17872570101562945_2836357033171482358_n.jpg
GEO:6.2476376;-75.5658153
X-APPLE-STRUCTURED-LOCATION;VALUE=URI;X-ADDRESS=Medellin Columbia   Medellin Colombia;X-APPLE-RADIUS=500;X-TITLE= :geo:-75.5658153,6.2476376
END:VEVENT
BEGIN:VEVENT
DTSTART;VALUE=DATE:20260627
DTEND;VALUE=DATE:20260629
DTSTAMP:20260422T194617
CREATED:20260411T233010Z
LAST-MODIFIED:20260411T233010Z
UID:10005849-1782518400-1782691199@circuitpartyinfo.com
SUMMARY:Deviance Jungle Paris Pride
DESCRIPTION:
URL:https://circuitpartyinfo.com/event/deviance-jungle-paris-pride/
LOCATION:Paris\,  \, Paris\, France
ATTACH;FMTTYPE=image/jpeg:https://circuitpartyinfo.com/wp-content/uploads/2026/04/69da6c85a9c23.jpg
GEO:48.856614;2.3522219
X-APPLE-STRUCTURED-LOCATION;VALUE=URI;X-ADDRESS=Paris   Paris France;X-APPLE-RADIUS=500;X-TITLE= :geo:2.3522219,48.856614
END:VEVENT
BEGIN:VEVENT
DTSTART;VALUE=DATE:20260627
DTEND;VALUE=DATE:20260630
DTSTAMP:20260422T194617
CREATED:20260414T230323Z
LAST-MODIFIED:20260414T230323Z
UID:10005889-1782518400-1782777599@circuitpartyinfo.com
SUMMARY:Bogota Pride Circuit Fest
DESCRIPTION:
URL:https://circuitpartyinfo.com/event/bogota-pride-circuit-fest/
LOCATION:Bogata\,  \, Bogata\, Colombia
ATTACH;FMTTYPE=image/jpeg:https://circuitpartyinfo.com/wp-content/uploads/2026/04/670840439_18517391902072991_7894533133546560979_n.jpg
GEO:4.7109886;-74.072092
X-APPLE-STRUCTURED-LOCATION;VALUE=URI;X-ADDRESS=Bogata   Bogata Colombia;X-APPLE-RADIUS=500;X-TITLE= :geo:-74.072092,4.7109886
END:VEVENT
BEGIN:VEVENT
DTSTART;VALUE=DATE:20260628
DTEND;VALUE=DATE:20260629
DTSTAMP:20260422T194617
CREATED:20250715T232334Z
LAST-MODIFIED:20260407T215948Z
UID:10003961-1782604800-1782691199@circuitpartyinfo.com
SUMMARY:Dreamland 2026: Pride in Central Park
DESCRIPTION:
URL:https://circuitpartyinfo.com/event/dreamland-2026-pride-in-central-park/
LOCATION:New York City\,   \, New York City\, NY\, United States
ATTACH;FMTTYPE=image/jpeg:https://circuitpartyinfo.com/wp-content/uploads/2025/07/DREAMLAND-PRIDE-26-Square.jpg
GEO:40.7127753;-74.0059728
X-APPLE-STRUCTURED-LOCATION;VALUE=URI;X-ADDRESS=New York City    New York City NY United States;X-APPLE-RADIUS=500;X-TITLE=  :geo:-74.0059728,40.7127753
END:VEVENT
BEGIN:VEVENT
DTSTART;VALUE=DATE:20260628
DTEND;VALUE=DATE:20260629
DTSTAMP:20260422T194617
CREATED:20251105T125600Z
LAST-MODIFIED:20260217T002127Z
UID:10004637-1782604800-1782691199@circuitpartyinfo.com
SUMMARY:Ascend SF Pride Closing Party
DESCRIPTION:
URL:https://circuitpartyinfo.com/event/ascend-sf-pride-closing-party/
LOCATION:San Francisco\,  \, San Francisco\, CA\, United States
ATTACH;FMTTYPE=image/jpeg:https://circuitpartyinfo.com/wp-content/uploads/2025/11/ASCEND_June2026_web-sm-673x1024-1.jpg
END:VEVENT
BEGIN:VEVENT
DTSTART;VALUE=DATE:20260628
DTEND;VALUE=DATE:20260629
DTSTAMP:20260422T194617
CREATED:20260110T003037Z
LAST-MODIFIED:20260401T205929Z
UID:10005076-1782604800-1782691199@circuitpartyinfo.com
SUMMARY:Alegria Pride 2026
DESCRIPTION:
URL:https://circuitpartyinfo.com/event/alegria-pride-2026/
LOCATION:New York City\,   \, New York City\, NY\, United States
ATTACH;FMTTYPE=image/jpeg:https://circuitpartyinfo.com/wp-content/uploads/2026/01/IMG_3945.jpeg
GEO:40.7127753;-74.0059728
X-APPLE-STRUCTURED-LOCATION;VALUE=URI;X-ADDRESS=New York City    New York City NY United States;X-APPLE-RADIUS=500;X-TITLE=  :geo:-74.0059728,40.7127753
END:VEVENT
BEGIN:VEVENT
DTSTART;VALUE=DATE:20260628
DTEND;VALUE=DATE:20260629
DTSTAMP:20260422T194617
CREATED:20260218T000302Z
LAST-MODIFIED:20260218T013233Z
UID:10005417-1782604800-1782691199@circuitpartyinfo.com
SUMMARY:Block Party Pride Edition
DESCRIPTION:
URL:https://circuitpartyinfo.com/event/pride-block-party/
LOCATION:San Francisco\,  \, San Francisco\, CA\, United States
ATTACH;FMTTYPE=image/jpeg:https://circuitpartyinfo.com/wp-content/uploads/2026/02/IMG_3008.jpeg
END:VEVENT
BEGIN:VEVENT
DTSTART;VALUE=DATE:20260628
DTEND;VALUE=DATE:20260629
DTSTAMP:20260422T194617
CREATED:20260414T214610Z
LAST-MODIFIED:20260414T214610Z
UID:10005875-1782604800-1782691199@circuitpartyinfo.com
SUMMARY:Frisky Pride - 5th Anniversary
DESCRIPTION:
URL:https://circuitpartyinfo.com/event/frisky-pride-5th-anniversary/
LOCATION:New York City\,   \, New York City\, NY\, United States
ATTACH;FMTTYPE=image/jpeg:https://circuitpartyinfo.com/wp-content/uploads/2026/04/669908237_18088886375603282_799091525476914131_n.jpg
GEO:40.7127753;-74.0059728
X-APPLE-STRUCTURED-LOCATION;VALUE=URI;X-ADDRESS=New York City    New York City NY United States;X-APPLE-RADIUS=500;X-TITLE=  :geo:-74.0059728,40.7127753
END:VEVENT
BEGIN:VEVENT
DTSTART;VALUE=DATE:20260628
DTEND;VALUE=DATE:20260629
DTSTAMP:20260422T194617
CREATED:20260416T213528Z
LAST-MODIFIED:20260416T213528Z
UID:10005903-1782604800-1782691199@circuitpartyinfo.com
SUMMARY:Pride
DESCRIPTION:
URL:https://circuitpartyinfo.com/event/pride/
LOCATION:Mexico City\,  \, Mexico City\, Mexico
ATTACH;FMTTYPE=image/jpeg:https://circuitpartyinfo.com/wp-content/uploads/2026/04/670564490_18097135862322935_8232592904820027415_n.jpg
END:VEVENT
BEGIN:VEVENT
DTSTART;VALUE=DATE:20260628
DTEND;VALUE=DATE:20260629
DTSTAMP:20260422T194617
CREATED:20260420T215206Z
LAST-MODIFIED:20260422T213823Z
UID:10005949-1782604800-1782691199@circuitpartyinfo.com
SUMMARY:Battle Hymn Pride
DESCRIPTION:
URL:https://circuitpartyinfo.com/event/battle-hymn-pride/
LOCATION:New York City\,   \, New York City\, NY\, United States
ATTACH;FMTTYPE=image/jpeg:https://circuitpartyinfo.com/wp-content/uploads/2026/04/671850383_18008299403890090_2783323758270763679_n.jpg
GEO:40.7127753;-74.0059728
X-APPLE-STRUCTURED-LOCATION;VALUE=URI;X-ADDRESS=New York City    New York City NY United States;X-APPLE-RADIUS=500;X-TITLE=  :geo:-74.0059728,40.7127753
END:VEVENT
END:VCALENDAR