BEGIN:VCALENDAR
VERSION:2.0
PRODID:-//Circuit Party Info - ECPv6.15.20//NONSGML v1.0//EN
CALSCALE:GREGORIAN
METHOD:PUBLISH
X-ORIGINAL-URL:https://circuitpartyinfo.com
X-WR-CALDESC:Events for Circuit Party Info
REFRESH-INTERVAL;VALUE=DURATION:PT1H
X-Robots-Tag:noindex
X-PUBLISHED-TTL:PT1H
BEGIN:VTIMEZONE
TZID:America/Los_Angeles
BEGIN:DAYLIGHT
TZOFFSETFROM:-0800
TZOFFSETTO:-0700
TZNAME:PDT
DTSTART:20250309T100000
END:DAYLIGHT
BEGIN:STANDARD
TZOFFSETFROM:-0700
TZOFFSETTO:-0800
TZNAME:PST
DTSTART:20251102T090000
END:STANDARD
BEGIN:DAYLIGHT
TZOFFSETFROM:-0800
TZOFFSETTO:-0700
TZNAME:PDT
DTSTART:20260308T100000
END:DAYLIGHT
BEGIN:STANDARD
TZOFFSETFROM:-0700
TZOFFSETTO:-0800
TZNAME:PST
DTSTART:20261101T090000
END:STANDARD
BEGIN:DAYLIGHT
TZOFFSETFROM:-0800
TZOFFSETTO:-0700
TZNAME:PDT
DTSTART:20270314T100000
END:DAYLIGHT
BEGIN:STANDARD
TZOFFSETFROM:-0700
TZOFFSETTO:-0800
TZNAME:PST
DTSTART:20271107T090000
END:STANDARD
END:VTIMEZONE
BEGIN:VEVENT
DTSTART;VALUE=DATE:20260625
DTEND;VALUE=DATE:20260630
DTSTAMP:20260422T214400
CREATED:20250715T003545Z
LAST-MODIFIED:20260406T234619Z
UID:10003956-1782345600-1782777599@circuitpartyinfo.com
SUMMARY:Latin American Pride 2026
DESCRIPTION:
URL:https://circuitpartyinfo.com/event/latin-american-pride-2026/
LOCATION:Mexico City\,  \, Mexico City\, Mexico
ATTACH;FMTTYPE=image/jpeg:https://circuitpartyinfo.com/wp-content/uploads/2025/07/Untitled-2.jpg
END:VEVENT
BEGIN:VEVENT
DTSTART;VALUE=DATE:20260625
DTEND;VALUE=DATE:20260630
DTSTAMP:20260422T214400
CREATED:20260213T232316Z
LAST-MODIFIED:20260406T232831Z
UID:10005387-1782345600-1782777599@circuitpartyinfo.com
SUMMARY:Prism Pride Festival 2026: Beyond the Thunderdome
DESCRIPTION:
URL:https://circuitpartyinfo.com/event/prism-pride-festival-2026/
LOCATION:Toronto\,  \, Toronto\, Ontario\, Canada
ATTACH;FMTTYPE=image/jpeg:https://circuitpartyinfo.com/wp-content/uploads/2026/02/Untitled-1-28.jpg
GEO:43.653226;-79.3831843
X-APPLE-STRUCTURED-LOCATION;VALUE=URI;X-ADDRESS=Toronto   Toronto Ontario Canada;X-APPLE-RADIUS=500;X-TITLE= :geo:-79.3831843,43.653226
END:VEVENT
BEGIN:VEVENT
DTSTART;VALUE=DATE:20260626
DTEND;VALUE=DATE:20260627
DTSTAMP:20260422T214400
CREATED:20251114T222924Z
LAST-MODIFIED:20251114T222924Z
UID:10004691-1782432000-1782518399@circuitpartyinfo.com
SUMMARY:TORO Pride Friday
DESCRIPTION:
URL:https://circuitpartyinfo.com/event/toro-pride-friday/
LOCATION:San Francisco\,  \, San Francisco\, CA\, United States
ATTACH;FMTTYPE=image/jpeg:https://circuitpartyinfo.com/wp-content/uploads/2025/11/582418180_17975711099942328_4255714624003139283_n.jpg
END:VEVENT
BEGIN:VEVENT
DTSTART;VALUE=DATE:20260626
DTEND;VALUE=DATE:20260627
DTSTAMP:20260422T214400
CREATED:20251119T231109Z
LAST-MODIFIED:20251119T231109Z
UID:10004717-1782432000-1782518399@circuitpartyinfo.com
SUMMARY:Electroluxx Pride 2026
DESCRIPTION:
URL:https://circuitpartyinfo.com/event/electroluxx-pride-2026/
LOCATION:San Francisco\,  \, San Francisco\, CA\, United States
ATTACH;FMTTYPE=image/jpeg:https://circuitpartyinfo.com/wp-content/uploads/2025/11/34627537-daa2-45f9-8e08-a02d613f6c9c.jpg
END:VEVENT
BEGIN:VEVENT
DTSTART;VALUE=DATE:20260626
DTEND;VALUE=DATE:20260627
DTSTAMP:20260422T214400
CREATED:20260106T232301Z
LAST-MODIFIED:20260106T232301Z
UID:10005020-1782432000-1782518399@circuitpartyinfo.com
SUMMARY:Brut: Pride
DESCRIPTION:
URL:https://circuitpartyinfo.com/event/brut-pride/
LOCATION:New York City\,   \, New York City\, NY\, United States
ATTACH;FMTTYPE=image/webp:https://circuitpartyinfo.com/wp-content/uploads/2026/01/brut-nyc-pride-june-26-instagram-square-555x555-1767497509.webp
GEO:40.7127753;-74.0059728
X-APPLE-STRUCTURED-LOCATION;VALUE=URI;X-ADDRESS=New York City    New York City NY United States;X-APPLE-RADIUS=500;X-TITLE=  :geo:-74.0059728,40.7127753
END:VEVENT
BEGIN:VEVENT
DTSTART;VALUE=DATE:20260626
DTEND;VALUE=DATE:20260627
DTSTAMP:20260422T214400
CREATED:20260207T133528Z
LAST-MODIFIED:20260420T225631Z
UID:10005344-1782432000-1782518399@circuitpartyinfo.com
SUMMARY:Bearracuda
DESCRIPTION:
URL:https://circuitpartyinfo.com/event/bearracuda-4/
LOCATION:San Francisco\,  \, San Francisco\, CA\, United States
ATTACH;FMTTYPE=image/jpeg:https://circuitpartyinfo.com/wp-content/uploads/2026/02/cuda-sf_pride_2026-1-1.jpg
END:VEVENT
BEGIN:VEVENT
DTSTART;VALUE=DATE:20260626
DTEND;VALUE=DATE:20260627
DTSTAMP:20260422T214400
CREATED:20260227T230741Z
LAST-MODIFIED:20260227T230741Z
UID:10005493-1782432000-1782518399@circuitpartyinfo.com
SUMMARY:Corruption
DESCRIPTION:
URL:https://circuitpartyinfo.com/event/corruption/
LOCATION:Toronto\,  \, Toronto\, Ontario\, Canada
ATTACH;FMTTYPE=image/webp:https://circuitpartyinfo.com/wp-content/uploads/2026/02/PITBULL_PRIDE2026_FRI_CORRUPTION_11x17_1_900x.jpg.webp
GEO:43.653226;-79.3831843
X-APPLE-STRUCTURED-LOCATION;VALUE=URI;X-ADDRESS=Toronto   Toronto Ontario Canada;X-APPLE-RADIUS=500;X-TITLE= :geo:-79.3831843,43.653226
END:VEVENT
BEGIN:VEVENT
DTSTART;VALUE=DATE:20260626
DTEND;VALUE=DATE:20260627
DTSTAMP:20260422T214400
CREATED:20260304T222046Z
LAST-MODIFIED:20260304T222046Z
UID:10005509-1782432000-1782518399@circuitpartyinfo.com
SUMMARY:Horse Meat Disco NYC Pride
DESCRIPTION:
URL:https://circuitpartyinfo.com/event/horse-meat-disco-nyc-pride-3/
LOCATION:New York City\,   \, New York City\, NY\, United States
ATTACH;FMTTYPE=image/jpeg:https://circuitpartyinfo.com/wp-content/uploads/2026/03/642505854_18084022742600828_9157361280671766566_n.jpg
GEO:40.7127753;-74.0059728
X-APPLE-STRUCTURED-LOCATION;VALUE=URI;X-ADDRESS=New York City    New York City NY United States;X-APPLE-RADIUS=500;X-TITLE=  :geo:-74.0059728,40.7127753
END:VEVENT
BEGIN:VEVENT
DTSTART;VALUE=DATE:20260626
DTEND;VALUE=DATE:20260627
DTSTAMP:20260422T214400
CREATED:20260403T162840Z
LAST-MODIFIED:20260403T162840Z
UID:10005788-1782432000-1782518399@circuitpartyinfo.com
SUMMARY:MEAT XXL Pride Manhattan
DESCRIPTION:
URL:https://circuitpartyinfo.com/event/meat-xxl-pride-manhattan/
LOCATION:New York City\,   \, New York City\, NY\, United States
ATTACH;FMTTYPE=image/jpeg:https://circuitpartyinfo.com/wp-content/uploads/2026/04/MEAT-Final.jpg
GEO:40.7127753;-74.0059728
X-APPLE-STRUCTURED-LOCATION;VALUE=URI;X-ADDRESS=New York City    New York City NY United States;X-APPLE-RADIUS=500;X-TITLE=  :geo:-74.0059728,40.7127753
END:VEVENT
BEGIN:VEVENT
DTSTART;VALUE=DATE:20260626
DTEND;VALUE=DATE:20260627
DTSTAMP:20260422T214400
CREATED:20260421T213756Z
LAST-MODIFIED:20260421T213756Z
UID:10005978-1782432000-1782518399@circuitpartyinfo.com
SUMMARY:Euphoria Pride
DESCRIPTION:
URL:https://circuitpartyinfo.com/event/euphoria-pride/
LOCATION:Dublin\,  \, Dublin\, Ireland
ATTACH;FMTTYPE=image/jpeg:https://circuitpartyinfo.com/wp-content/uploads/2026/04/674398984_18578402641042589_4931923895005791687_n.jpg
GEO:53.3498053;-6.2603097
X-APPLE-STRUCTURED-LOCATION;VALUE=URI;X-ADDRESS=Dublin   Dublin Ireland;X-APPLE-RADIUS=500;X-TITLE= :geo:-6.2603097,53.3498053
END:VEVENT
BEGIN:VEVENT
DTSTART;VALUE=DATE:20260626
DTEND;VALUE=DATE:20260628
DTSTAMP:20260422T214400
CREATED:20260415T114940Z
LAST-MODIFIED:20260415T114940Z
UID:10005891-1782432000-1782604799@circuitpartyinfo.com
SUMMARY:YUMYUM: Pride Weekend
DESCRIPTION:
URL:https://circuitpartyinfo.com/event/yumyum-pride-weekend/
LOCATION:Toronto\,  \, Toronto\, Ontario\, Canada
ATTACH;FMTTYPE=image/jpeg:https://circuitpartyinfo.com/wp-content/uploads/2026/04/krbmfqrxxzqg5ky2af3a.jpg
GEO:43.653226;-79.3831843
X-APPLE-STRUCTURED-LOCATION;VALUE=URI;X-ADDRESS=Toronto   Toronto Ontario Canada;X-APPLE-RADIUS=500;X-TITLE= :geo:-79.3831843,43.653226
END:VEVENT
BEGIN:VEVENT
DTSTART;VALUE=DATE:20260626
DTEND;VALUE=DATE:20260629
DTSTAMP:20260422T214400
CREATED:20260415T001805Z
LAST-MODIFIED:20260415T001805Z
UID:10005890-1782432000-1782691199@circuitpartyinfo.com
SUMMARY:Cuff Pride Fest 2026
DESCRIPTION:
URL:https://circuitpartyinfo.com/event/cuff-pride-fest-2026/
LOCATION:Seattle\,   \, Seattle\, WA\, United States
ATTACH;FMTTYPE=image/jpeg:https://circuitpartyinfo.com/wp-content/uploads/2026/04/IMG_4084.jpeg
GEO:47.6062095;-122.3320708
X-APPLE-STRUCTURED-LOCATION;VALUE=URI;X-ADDRESS=Seattle    Seattle WA United States;X-APPLE-RADIUS=500;X-TITLE=  :geo:-122.3320708,47.6062095
END:VEVENT
BEGIN:VEVENT
DTSTART;VALUE=DATE:20260626
DTEND;VALUE=DATE:20260630
DTSTAMP:20260422T214400
CREATED:20260210T224135Z
LAST-MODIFIED:20260210T224135Z
UID:10005364-1782432000-1782777599@circuitpartyinfo.com
SUMMARY:Love Pride Medellin
DESCRIPTION:
URL:https://circuitpartyinfo.com/event/love-pride-medellin-2/
LOCATION:Medellin\, Columbia\,  \, Medellin\, Colombia
ATTACH;FMTTYPE=image/jpeg:https://circuitpartyinfo.com/wp-content/uploads/2026/02/632100552_18032848121775118_7944670807830518475_n.jpg
GEO:6.2476376;-75.5658153
X-APPLE-STRUCTURED-LOCATION;VALUE=URI;X-ADDRESS=Medellin Columbia   Medellin Colombia;X-APPLE-RADIUS=500;X-TITLE= :geo:-75.5658153,6.2476376
END:VEVENT
BEGIN:VEVENT
DTSTART;VALUE=DATE:20260626
DTEND;VALUE=DATE:20260630
DTSTAMP:20260422T214400
CREATED:20260319T214833Z
LAST-MODIFIED:20260319T214833Z
UID:10005637-1782432000-1782777599@circuitpartyinfo.com
SUMMARY:Medellín Pride
DESCRIPTION:
URL:https://circuitpartyinfo.com/event/medellin-pride/
LOCATION:Medellin\, Columbia\,  \, Medellin\, Colombia
ATTACH;FMTTYPE=image/jpeg:https://circuitpartyinfo.com/wp-content/uploads/2026/03/655248338_17872570101562945_2836357033171482358_n.jpg
GEO:6.2476376;-75.5658153
X-APPLE-STRUCTURED-LOCATION;VALUE=URI;X-ADDRESS=Medellin Columbia   Medellin Colombia;X-APPLE-RADIUS=500;X-TITLE= :geo:-75.5658153,6.2476376
END:VEVENT
END:VCALENDAR