BEGIN:VCALENDAR
VERSION:2.0
PRODID:-//Circuit Party Info - ECPv6.15.20//NONSGML v1.0//EN
CALSCALE:GREGORIAN
METHOD:PUBLISH
X-ORIGINAL-URL:https://circuitpartyinfo.com
X-WR-CALDESC:Events for Circuit Party Info
REFRESH-INTERVAL;VALUE=DURATION:PT1H
X-Robots-Tag:noindex
X-PUBLISHED-TTL:PT1H
BEGIN:VTIMEZONE
TZID:America/Los_Angeles
BEGIN:DAYLIGHT
TZOFFSETFROM:-0800
TZOFFSETTO:-0700
TZNAME:PDT
DTSTART:20250309T100000
END:DAYLIGHT
BEGIN:STANDARD
TZOFFSETFROM:-0700
TZOFFSETTO:-0800
TZNAME:PST
DTSTART:20251102T090000
END:STANDARD
BEGIN:DAYLIGHT
TZOFFSETFROM:-0800
TZOFFSETTO:-0700
TZNAME:PDT
DTSTART:20260308T100000
END:DAYLIGHT
BEGIN:STANDARD
TZOFFSETFROM:-0700
TZOFFSETTO:-0800
TZNAME:PST
DTSTART:20261101T090000
END:STANDARD
BEGIN:DAYLIGHT
TZOFFSETFROM:-0800
TZOFFSETTO:-0700
TZNAME:PDT
DTSTART:20270314T100000
END:DAYLIGHT
BEGIN:STANDARD
TZOFFSETFROM:-0700
TZOFFSETTO:-0800
TZNAME:PST
DTSTART:20271107T090000
END:STANDARD
END:VTIMEZONE
BEGIN:VEVENT
DTSTART;VALUE=DATE:20260617
DTEND;VALUE=DATE:20260622
DTSTAMP:20260422T214400
CREATED:20251127T131012Z
LAST-MODIFIED:20251127T131012Z
UID:10004781-1781654400-1782086399@circuitpartyinfo.com
SUMMARY:Infinity Festival 2026
DESCRIPTION:
URL:https://circuitpartyinfo.com/event/infinity-festival-2026/
LOCATION:Torremolinos\,  \, Torremolinos\, Spain
ATTACH;FMTTYPE=image/jpeg:https://circuitpartyinfo.com/wp-content/uploads/2025/11/POST-1.jpg
GEO:36.6265566;-4.5160396
X-APPLE-STRUCTURED-LOCATION;VALUE=URI;X-ADDRESS=Torremolinos   Torremolinos Spain;X-APPLE-RADIUS=500;X-TITLE= :geo:-4.5160396,36.6265566
END:VEVENT
BEGIN:VEVENT
DTSTART;VALUE=DATE:20260618
DTEND;VALUE=DATE:20260619
DTSTAMP:20260422T214400
CREATED:20260402T150613Z
LAST-MODIFIED:20260422T214852Z
UID:10005763-1781740800-1781827199@circuitpartyinfo.com
SUMMARY:Capital Pride Boots
DESCRIPTION:
URL:https://circuitpartyinfo.com/event/capital-pride-boots/
LOCATION:Washington\, DC\,  \, Washington DC\, DC\, United States
ATTACH;FMTTYPE=image/jpeg:https://circuitpartyinfo.com/wp-content/uploads/2026/04/c7c593cd-82c3-4ecd-8d52-bad460ae4e1f_IMG-1720.jpeg
GEO:38.9071923;-77.0368707
X-APPLE-STRUCTURED-LOCATION;VALUE=URI;X-ADDRESS=Washington DC   Washington DC DC United States;X-APPLE-RADIUS=500;X-TITLE= :geo:-77.0368707,38.9071923
END:VEVENT
BEGIN:VEVENT
DTSTART;VALUE=DATE:20260618
DTEND;VALUE=DATE:20260619
DTSTAMP:20260422T214400
CREATED:20260402T205952Z
LAST-MODIFIED:20260402T205952Z
UID:10005769-1781740800-1781827199@circuitpartyinfo.com
SUMMARY:CircuitMOM Takeover: Sparkle Booty
DESCRIPTION:
URL:https://circuitpartyinfo.com/event/circuitmom-takeover-sparkle-booty/
LOCATION:Chicago\,  \, Chicago\, IL\, United States
ATTACH;FMTTYPE=image/jpeg:https://circuitpartyinfo.com/wp-content/uploads/2026/04/Charlies_0618_Sparklebooty_00_post123372.webp.jpeg
GEO:41.8781136;-87.6297982
X-APPLE-STRUCTURED-LOCATION;VALUE=URI;X-ADDRESS=Chicago   Chicago IL United States;X-APPLE-RADIUS=500;X-TITLE= :geo:-87.6297982,41.8781136
END:VEVENT
BEGIN:VEVENT
DTSTART;VALUE=DATE:20260618
DTEND;VALUE=DATE:20260622
DTSTAMP:20260422T214400
CREATED:20260226T144544Z
LAST-MODIFIED:20260421T155011Z
UID:10005488-1781740800-1782086399@circuitpartyinfo.com
SUMMARY:Kinetic Presents: DC Pride
DESCRIPTION:
URL:https://circuitpartyinfo.com/event/kinetic-presents-dc-pride/
LOCATION:Washington\, DC\,  \, Washington DC\, DC\, United States
ATTACH;FMTTYPE=image/jpeg:https://circuitpartyinfo.com/wp-content/uploads/2026/02/IMG_3722.jpeg
GEO:38.9071923;-77.0368707
X-APPLE-STRUCTURED-LOCATION;VALUE=URI;X-ADDRESS=Washington DC   Washington DC DC United States;X-APPLE-RADIUS=500;X-TITLE= :geo:-77.0368707,38.9071923
END:VEVENT
END:VCALENDAR