BEGIN:VCALENDAR
VERSION:2.0
PRODID:-//Circuit Party Info - ECPv6.15.20//NONSGML v1.0//EN
CALSCALE:GREGORIAN
METHOD:PUBLISH
X-WR-CALNAME:Circuit Party Info
X-ORIGINAL-URL:https://circuitpartyinfo.com
X-WR-CALDESC:Events for Circuit Party Info
REFRESH-INTERVAL;VALUE=DURATION:PT1H
X-Robots-Tag:noindex
X-PUBLISHED-TTL:PT1H
BEGIN:VTIMEZONE
TZID:America/Los_Angeles
BEGIN:DAYLIGHT
TZOFFSETFROM:-0800
TZOFFSETTO:-0700
TZNAME:PDT
DTSTART:20250309T100000
END:DAYLIGHT
BEGIN:STANDARD
TZOFFSETFROM:-0700
TZOFFSETTO:-0800
TZNAME:PST
DTSTART:20251102T090000
END:STANDARD
BEGIN:DAYLIGHT
TZOFFSETFROM:-0800
TZOFFSETTO:-0700
TZNAME:PDT
DTSTART:20260308T100000
END:DAYLIGHT
BEGIN:STANDARD
TZOFFSETFROM:-0700
TZOFFSETTO:-0800
TZNAME:PST
DTSTART:20261101T090000
END:STANDARD
BEGIN:DAYLIGHT
TZOFFSETFROM:-0800
TZOFFSETTO:-0700
TZNAME:PDT
DTSTART:20270314T100000
END:DAYLIGHT
BEGIN:STANDARD
TZOFFSETFROM:-0700
TZOFFSETTO:-0800
TZNAME:PST
DTSTART:20271107T090000
END:STANDARD
END:VTIMEZONE
BEGIN:VEVENT
DTSTART;VALUE=DATE:20260611
DTEND;VALUE=DATE:20260615
DTSTAMP:20260422T213617
CREATED:20260205T222227Z
LAST-MODIFIED:20260205T222227Z
UID:10005329-1781136000-1781481599@circuitpartyinfo.com
SUMMARY:Turquoise Party
DESCRIPTION:
URL:https://circuitpartyinfo.com/event/turquoise-party/
LOCATION:Albuquerque\, Albuquerque\, Albuquerque\, NM\, United States
ATTACH;FMTTYPE=image/jpeg:https://circuitpartyinfo.com/wp-content/uploads/2026/02/Untitled-1.jpg
GEO:35.0843859;-106.650422
X-APPLE-STRUCTURED-LOCATION;VALUE=URI;X-ADDRESS=Albuquerque Albuquerque Albuquerque NM United States;X-APPLE-RADIUS=500;X-TITLE=Albuquerque:geo:-106.650422,35.0843859
END:VEVENT
BEGIN:VEVENT
DTSTART;VALUE=DATE:20260613
DTEND;VALUE=DATE:20260614
DTSTAMP:20260422T213617
CREATED:20260324T213831Z
LAST-MODIFIED:20260324T213831Z
UID:10005682-1781308800-1781395199@circuitpartyinfo.com
SUMMARY:Mono Chromatica
DESCRIPTION:
URL:https://circuitpartyinfo.com/event/mono-chromatica/
LOCATION:Los Angeles\,  \, Los Angeles\, CA\, United States
ATTACH;FMTTYPE=image/jpeg:https://circuitpartyinfo.com/wp-content/uploads/2026/03/656626400_18574830766013828_4053878091318799613_n.jpg
GEO:34.0522342;-118.2436849
X-APPLE-STRUCTURED-LOCATION;VALUE=URI;X-ADDRESS=Los Angeles   Los Angeles CA United States;X-APPLE-RADIUS=500;X-TITLE= :geo:-118.2436849,34.0522342
END:VEVENT
BEGIN:VEVENT
DTSTART;VALUE=DATE:20260613
DTEND;VALUE=DATE:20260614
DTSTAMP:20260422T213617
CREATED:20260402T205425Z
LAST-MODIFIED:20260402T205425Z
UID:10005765-1781308800-1781395199@circuitpartyinfo.com
SUMMARY:Bananas Pool Party
DESCRIPTION:
URL:https://circuitpartyinfo.com/event/bananas-pool-party/
LOCATION:Los Angeles\,  \, Los Angeles\, CA\, United States
ATTACH;FMTTYPE=image/jpeg:https://circuitpartyinfo.com/wp-content/uploads/2026/04/658392491_18040279394770094_3620708667321293238_n.jpg
GEO:34.0522342;-118.2436849
X-APPLE-STRUCTURED-LOCATION;VALUE=URI;X-ADDRESS=Los Angeles   Los Angeles CA United States;X-APPLE-RADIUS=500;X-TITLE= :geo:-118.2436849,34.0522342
END:VEVENT
BEGIN:VEVENT
DTSTART;VALUE=DATE:20260613
DTEND;VALUE=DATE:20260614
DTSTAMP:20260422T213617
CREATED:20260412T211710Z
LAST-MODIFIED:20260412T211710Z
UID:10005856-1781308800-1781395199@circuitpartyinfo.com
SUMMARY:Abel Aguilera - The Abbey WeHo
DESCRIPTION:
URL:https://circuitpartyinfo.com/event/abel-aguilera-the-abbey-weho/
LOCATION:Los Angeles\,  \, Los Angeles\, CA\, United States
GEO:34.0522342;-118.2436849
X-APPLE-STRUCTURED-LOCATION;VALUE=URI;X-ADDRESS=Los Angeles   Los Angeles CA United States;X-APPLE-RADIUS=500;X-TITLE= :geo:-118.2436849,34.0522342
END:VEVENT
BEGIN:VEVENT
DTSTART;VALUE=DATE:20260613
DTEND;VALUE=DATE:20260614
DTSTAMP:20260422T213617
CREATED:20260420T225552Z
LAST-MODIFIED:20260420T225552Z
UID:10005973-1781308800-1781395199@circuitpartyinfo.com
SUMMARY:Seattle Glow
DESCRIPTION:
URL:https://circuitpartyinfo.com/event/seattle-glow/
LOCATION:Seattle\,   \, Seattle\, WA\, United States
ATTACH;FMTTYPE=image/jpeg:https://circuitpartyinfo.com/wp-content/uploads/2026/04/cuda-seattle-june2026-web-1.jpg
GEO:47.6062095;-122.3320708
X-APPLE-STRUCTURED-LOCATION;VALUE=URI;X-ADDRESS=Seattle    Seattle WA United States;X-APPLE-RADIUS=500;X-TITLE=  :geo:-122.3320708,47.6062095
END:VEVENT
END:VCALENDAR