BEGIN:VCALENDAR
VERSION:2.0
PRODID:-//Circuit Party Info - ECPv6.15.20//NONSGML v1.0//EN
CALSCALE:GREGORIAN
METHOD:PUBLISH
X-ORIGINAL-URL:https://circuitpartyinfo.com
X-WR-CALDESC:Events for Circuit Party Info
REFRESH-INTERVAL;VALUE=DURATION:PT1H
X-Robots-Tag:noindex
X-PUBLISHED-TTL:PT1H
BEGIN:VTIMEZONE
TZID:America/Los_Angeles
BEGIN:DAYLIGHT
TZOFFSETFROM:-0800
TZOFFSETTO:-0700
TZNAME:PDT
DTSTART:20250309T100000
END:DAYLIGHT
BEGIN:STANDARD
TZOFFSETFROM:-0700
TZOFFSETTO:-0800
TZNAME:PST
DTSTART:20251102T090000
END:STANDARD
BEGIN:DAYLIGHT
TZOFFSETFROM:-0800
TZOFFSETTO:-0700
TZNAME:PDT
DTSTART:20260308T100000
END:DAYLIGHT
BEGIN:STANDARD
TZOFFSETFROM:-0700
TZOFFSETTO:-0800
TZNAME:PST
DTSTART:20261101T090000
END:STANDARD
BEGIN:DAYLIGHT
TZOFFSETFROM:-0800
TZOFFSETTO:-0700
TZNAME:PDT
DTSTART:20270314T100000
END:DAYLIGHT
BEGIN:STANDARD
TZOFFSETFROM:-0700
TZOFFSETTO:-0800
TZNAME:PST
DTSTART:20271107T090000
END:STANDARD
END:VTIMEZONE
BEGIN:VEVENT
DTSTART;VALUE=DATE:20260603
DTEND;VALUE=DATE:20260604
DTSTAMP:20260422T214359
CREATED:20260414T214350Z
LAST-MODIFIED:20260414T214350Z
UID:10005874-1780444800-1780531199@circuitpartyinfo.com
SUMMARY:BIGGER Disco Ball
DESCRIPTION:
URL:https://circuitpartyinfo.com/event/bigger-disco-ball/
LOCATION:São Paulo\,  \, São Paulo\, Brazil
ATTACH;FMTTYPE=image/jpeg:https://circuitpartyinfo.com/wp-content/uploads/2026/04/670336308_18586043779031666_7583086597440001895_n.jpg
GEO:-23.5557714;-46.6395571
X-APPLE-STRUCTURED-LOCATION;VALUE=URI;X-ADDRESS=São Paulo   São Paulo Brazil;X-APPLE-RADIUS=500;X-TITLE= :geo:-46.6395571,-23.5557714
END:VEVENT
BEGIN:VEVENT
DTSTART;VALUE=DATE:20260603
DTEND;VALUE=DATE:20260608
DTSTAMP:20260422T214359
CREATED:20260314T184030Z
LAST-MODIFIED:20260314T184030Z
UID:10005596-1780444800-1780876799@circuitpartyinfo.com
SUMMARY:HIGH Pride Festival
DESCRIPTION:
URL:https://circuitpartyinfo.com/event/high-pride-festival/
LOCATION:São Paulo\,  \, São Paulo\, Brazil
ATTACH;FMTTYPE=image/jpeg:https://circuitpartyinfo.com/wp-content/uploads/2026/03/652348657_18571189117061989_2914319589277212182_n.jpg
GEO:-23.5557714;-46.6395571
X-APPLE-STRUCTURED-LOCATION;VALUE=URI;X-ADDRESS=São Paulo   São Paulo Brazil;X-APPLE-RADIUS=500;X-TITLE= :geo:-46.6395571,-23.5557714
END:VEVENT
END:VCALENDAR